BEGIN:VCALENDAR
VERSION:2.0
PRODID:-//jEvents 2.0 for Joomla//EN
CALSCALE:GREGORIAN
METHOD:PUBLISH
BEGIN:VTIMEZONE
TZID:Europe/Berlin
BEGIN:STANDARD
DTSTART:20191027T020000
RDATE:20200329T030000
TZOFFSETFROM:+0200
TZOFFSETTO:+0100
TZNAME:Europe/Berlin CET
END:STANDARD
BEGIN:STANDARD
DTSTART:20201025T020000
RDATE:20210328T030000
TZOFFSETFROM:+0200
TZOFFSETTO:+0100
TZNAME:Europe/Berlin CET
END:STANDARD
BEGIN:STANDARD
DTSTART:20211031T020000
RDATE:20220327T030000
TZOFFSETFROM:+0200
TZOFFSETTO:+0100
TZNAME:Europe/Berlin CET
END:STANDARD
BEGIN:STANDARD
DTSTART:20221030T020000
RDATE:20230326T030000
TZOFFSETFROM:+0200
TZOFFSETTO:+0100
TZNAME:Europe/Berlin CET
END:STANDARD
BEGIN:STANDARD
DTSTART:20231029T020000
RDATE:20240331T030000
TZOFFSETFROM:+0200
TZOFFSETTO:+0100
TZNAME:Europe/Berlin CET
END:STANDARD
BEGIN:STANDARD
DTSTART:20241027T020000
RDATE:20250330T030000
TZOFFSETFROM:+0200
TZOFFSETTO:+0100
TZNAME:Europe/Berlin CET
END:STANDARD
BEGIN:STANDARD
DTSTART:20251026T020000
RDATE:20260329T030000
TZOFFSETFROM:+0200
TZOFFSETTO:+0100
TZNAME:Europe/Berlin CET
END:STANDARD
BEGIN:DAYLIGHT
DTSTART:20190826T180000
RDATE:20191027T020000
TZOFFSETFROM:+0100
TZOFFSETTO:+0200
TZNAME:Europe/Berlin CEST
END:DAYLIGHT
BEGIN:DAYLIGHT
DTSTART:20200329T030000
RDATE:20201025T020000
TZOFFSETFROM:+0100
TZOFFSETTO:+0200
TZNAME:Europe/Berlin CEST
END:DAYLIGHT
BEGIN:DAYLIGHT
DTSTART:20210328T030000
RDATE:20211031T020000
TZOFFSETFROM:+0100
TZOFFSETTO:+0200
TZNAME:Europe/Berlin CEST
END:DAYLIGHT
BEGIN:DAYLIGHT
DTSTART:20220327T030000
RDATE:20221030T020000
TZOFFSETFROM:+0100
TZOFFSETTO:+0200
TZNAME:Europe/Berlin CEST
END:DAYLIGHT
BEGIN:DAYLIGHT
DTSTART:20230326T030000
RDATE:20231029T020000
TZOFFSETFROM:+0100
TZOFFSETTO:+0200
TZNAME:Europe/Berlin CEST
END:DAYLIGHT
BEGIN:DAYLIGHT
DTSTART:20240331T030000
RDATE:20241027T020000
TZOFFSETFROM:+0100
TZOFFSETTO:+0200
TZNAME:Europe/Berlin CEST
END:DAYLIGHT
BEGIN:DAYLIGHT
DTSTART:20250330T030000
RDATE:20251026T020000
TZOFFSETFROM:+0100
TZOFFSETTO:+0200
TZNAME:Europe/Berlin CEST
END:DAYLIGHT
END:VTIMEZONE
BEGIN:VEVENT
UID:b97587272d92f0e4e2c9b63b9bf91255
CATEGORIES:Veranstaltungen
CREATED:20200709T102416
SUMMARY:ABGESAGT: Mitglieder-Versammlung 2020
DESCRIPTION:Liebe Vereinsmitglieder, die für Mittwoch den 26. August angesetzte Mitglie
 derversammlung müssen wir leider absagen. Um die erforderlichen Corona-Abst
 ände zu gewährleisten, hatten wir vor, unsere Mitgliederversammlung im Frei
 en stattfinden zu lassen. Aufgrund der aktuellen Unwetterwarnung (https://w
 etter.tagesschau.de/wetterthema/2020/08/25/der-erste-herbststurm.html) ist 
 dies nicht möglich. Im Clubhaus sind Abstände bei der zur Versammlung erwar
 tenden Teilnehmerzahl nicht einzuhalten und wir möchten kein unnötiges Risi
 ko eingehen - Sicherheit geht vor! Wir werden kurzfristig einen neuen Termi
 n ansetzen und voraussichtlich auf eine geeignete alternative Räumlichkeit 
 in unserer Nachbarschaft auf dem WISTA-Areal ausweichen. Danke für Euer Ver
 ständnis und sportliche Grüße,der Vorstand des BTC WISTA 26. August 00:30 U
 hr  \nZu unserer ordentlichen Mitglieder-Versammlung am Mittwoch, den 26. A
 ugust 2020 um 18.00 Uhr haben alle Mitglieder die Einladung erhalten.\nDer 
 Vorstand freut sich auf zahlreiches Erscheinen und aktive Beteiligung.\n \n
 BTC WISTA Vorstand, 07.08.2020\n \n  \nLiebes Mitglied,\ngemäß unserer Vere
 insatzung laden wir Dich herzlich zur ordentlichen\nMITGLIEDERVERSAMMLUNG\n
 des BTC WISTA e.V.\nam Mittwoch, den 26.08.2020 um 18:00 Uhr\nin unseren Cl
 ub Wilhelm-Ostwald-Str. 4, 12489 Berlin ein.\nTagesordnung:\n\n - Eröffnung
  und Feststellung der Anwesenheit\n - Genehmigung des Protokolls der außero
 rdentlichen MV vom 01.12.2019\n - Bericht des Vorstandes\n - Jahresabschlus
 s 2019\n - Bericht der Revisoren\n - Entlastung des Vorstandes\n - Haushalt
 svorschlag für das Geschäftsjahr 2020\n - Antrag des Vorstandes zur Beschlu
 ssfassung:\nDie Mitgliederversammlung 2020 am 26.08.2020 möge beschließen, 
 dass der bestehende Vorstand für eine Amtszeit von 2 Jahren und ca. 4 Monat
 en gewählt\nwurde. Diese Abweichung von der Vereinssatzung stellt eine Ausn
 ahme dar.\n - VerschiedenesMit sportlichen Grüßen,\ngez. Lothar Schmidt \nV
 orsitzender\n \n
X-ALT-DESC;FMTTYPE=text/html:<div>Liebe Vereinsmitglieder,</div><div>&nbsp;</div><div><b>die für Mittwoc
 h den 26. August angesetzte Mitgliederversammlung müssen wir leider absagen
 .</b></div><div>&nbsp;</div><div>Um die erforderlichen Corona-Abstände zu g
 ewährleisten, hatten wir vor, unsere Mitgliederversammlung im Freien stattf
 inden zu lassen. Aufgrund der aktuellen <a href="https://wetter.tagesschau.
 de/wetterthema/2020/08/25/der-erste-herbststurm.html" target="_blank" rel="
 noopener">Unwetterwarnung</a> ist dies nicht möglich. Im Clubhaus sind Abst
 ände bei der zur Versammlung erwartenden Teilnehmerzahl nicht einzuhalten u
 nd wir möchten kein unnötiges Risiko eingehen - Sicherheit geht vor!</div><
 div>&nbsp;</div><div>Wir werden kurzfristig einen neuen Termin ansetzen und
  voraussichtlich auf eine geeignete alternative Räumlichkeit in unserer Nac
 hbarschaft auf dem WISTA-Areal ausweichen.</div><div>&nbsp;</div><div><div 
 id="AppleMailSignature"><div><div class="">Danke für Euer Verständnis und s
 portliche Grüße,</div><div class="">der Vorstand des BTC WISTA<br class="" 
 /></div></div><div>&nbsp;</div><div>26. August 00:30 Uhr</div><div>&nbsp;</
 div></div></div><hr /><p>&nbsp;</p><p><span style="color: inherit; font-fam
 ily: inherit; font-size: 1rem; background-color: inherit;">Zu unserer orden
 tlichen </span><strong style="color: inherit; font-family: inherit; font-si
 ze: 1rem;">Mitglieder-Versammlung am Mittwoch, den 26. August 2020 um 18.00
  Uhr</strong><span style="color: inherit; font-family: inherit; font-size: 
 1rem; background-color: inherit;"> haben alle Mitglieder die Einladung erha
 lten.</span></p><p>Der Vorstand freut sich auf zahlreiches Erscheinen und a
 ktive Beteiligung.</p><p>&nbsp;</p><p>BTC WISTA Vorstand, 07.08.2020</p><p>
 &nbsp;</p><hr /><p>&nbsp;&nbsp;</p><p>Liebes Mitglied,</p><p>gemäß unserer 
 Vereinsatzung laden wir Dich herzlich zur ordentlichen</p><p style="text-al
 ign: center;"><strong>MITGLIEDERVERSAMMLUNG</strong><br /><strong>des BTC W
 ISTA e.V.</strong><br /><strong>am Mittwoch, den 26.08.2020 um 18:00 Uhr</s
 trong></p><p>in unseren Club Wilhelm-Ostwald-Str. 4, 12489 Berlin ein.</p><
 p><strong>Tagesordnung:</strong></p><ol><li>Eröffnung und Feststellung der 
 Anwesenheit</li><li>Genehmigung des Protokolls der außerordentlichen MV vom
  01.12.2019</li><li>Bericht des Vorstandes</li><li>Jahresabschluss 2019</li
 ><li>Bericht der Revisoren</li><li>Entlastung des Vorstandes</li><li>Hausha
 ltsvorschlag für das Geschäftsjahr 2020</li><li>Antrag des Vorstandes zur B
 eschlussfassung:<br />Die Mitgliederversammlung 2020 am 26.08.2020 möge bes
 chließen, dass der bestehende Vorstand für eine Amtszeit von 2 Jahren und c
 a. 4 Monaten gewählt<br />wurde. Diese Abweichung von der Vereinssatzung st
 ellt eine Ausnahme dar.</li><li>Verschiedenes</li></ol><p>Mit sportlichen G
 rüßen,</p><p>gez. Lothar Schmidt&nbsp;<br />Vorsitzender</p><p>&nbsp;</p>
DTSTAMP:20260420T114153
DTSTART;TZID=Europe/Berlin:20200826T180000
DTEND;TZID=Europe/Berlin:20200826T200000
SEQUENCE:0
TRANSP:OPAQUE
END:VEVENT
END:VCALENDAR