BEGIN:VCALENDAR
VERSION:2.0
PRODID:-//jEvents 2.0 for Joomla//EN
CALSCALE:GREGORIAN
METHOD:PUBLISH
BEGIN:VTIMEZONE
TZID:Europe/Berlin
BEGIN:STANDARD
DTSTART:20191027T020000
RDATE:20200329T030000
TZOFFSETFROM:+0200
TZOFFSETTO:+0100
TZNAME:Europe/Berlin CET
END:STANDARD
BEGIN:STANDARD
DTSTART:20201025T020000
RDATE:20210328T030000
TZOFFSETFROM:+0200
TZOFFSETTO:+0100
TZNAME:Europe/Berlin CET
END:STANDARD
BEGIN:STANDARD
DTSTART:20211031T020000
RDATE:20220327T030000
TZOFFSETFROM:+0200
TZOFFSETTO:+0100
TZNAME:Europe/Berlin CET
END:STANDARD
BEGIN:STANDARD
DTSTART:20221030T020000
RDATE:20230326T030000
TZOFFSETFROM:+0200
TZOFFSETTO:+0100
TZNAME:Europe/Berlin CET
END:STANDARD
BEGIN:STANDARD
DTSTART:20231029T020000
RDATE:20240331T030000
TZOFFSETFROM:+0200
TZOFFSETTO:+0100
TZNAME:Europe/Berlin CET
END:STANDARD
BEGIN:STANDARD
DTSTART:20241027T020000
RDATE:20250330T030000
TZOFFSETFROM:+0200
TZOFFSETTO:+0100
TZNAME:Europe/Berlin CET
END:STANDARD
BEGIN:STANDARD
DTSTART:20251026T020000
RDATE:20260329T030000
TZOFFSETFROM:+0200
TZOFFSETTO:+0100
TZNAME:Europe/Berlin CET
END:STANDARD
BEGIN:DAYLIGHT
DTSTART:20190920T130000
RDATE:20191027T020000
TZOFFSETFROM:+0100
TZOFFSETTO:+0200
TZNAME:Europe/Berlin CEST
END:DAYLIGHT
BEGIN:DAYLIGHT
DTSTART:20200329T030000
RDATE:20201025T020000
TZOFFSETFROM:+0100
TZOFFSETTO:+0200
TZNAME:Europe/Berlin CEST
END:DAYLIGHT
BEGIN:DAYLIGHT
DTSTART:20210328T030000
RDATE:20211031T020000
TZOFFSETFROM:+0100
TZOFFSETTO:+0200
TZNAME:Europe/Berlin CEST
END:DAYLIGHT
BEGIN:DAYLIGHT
DTSTART:20220327T030000
RDATE:20221030T020000
TZOFFSETFROM:+0100
TZOFFSETTO:+0200
TZNAME:Europe/Berlin CEST
END:DAYLIGHT
BEGIN:DAYLIGHT
DTSTART:20230326T030000
RDATE:20231029T020000
TZOFFSETFROM:+0100
TZOFFSETTO:+0200
TZNAME:Europe/Berlin CEST
END:DAYLIGHT
BEGIN:DAYLIGHT
DTSTART:20240331T030000
RDATE:20241027T020000
TZOFFSETFROM:+0100
TZOFFSETTO:+0200
TZNAME:Europe/Berlin CEST
END:DAYLIGHT
BEGIN:DAYLIGHT
DTSTART:20250330T030000
RDATE:20251026T020000
TZOFFSETFROM:+0100
TZOFFSETTO:+0200
TZNAME:Europe/Berlin CEST
END:DAYLIGHT
END:VTIMEZONE
BEGIN:VEVENT
UID:221b14d9aeec7e0c4157d2fae0328f30
CATEGORIES:Veranstaltungen
CREATED:20200903T123644
SUMMARY:Schleifchenturnier
DESCRIPTION:Am Sonntag, den 20. September findet endlich wieder ein Schleifchenturnier 
 statt! Alle Infos zum Schleifchenturnier hier: http://www.btc-wista.de/club
 leben/turniere#schleifchenturniere (clubleben/turniere#schleifchenturniere)
 \nWir treffen uns um 13:00 Uhr auf der Clubterrasse. Im Anschluss wirft uns
 ere Gastronomie den Grill an und wir lassen die Veranstaltung auf unserer C
 lubterrasse - unter Wahrung des Corona-Abstands - gemütlich ausklingen.\n
X-ALT-DESC;FMTTYPE=text/html:<p>Am Sonntag, den 20. September findet endlich wieder ein Schleifchenturni
 er statt! Alle Infos zum Schleifchenturnier hier:&nbsp;<a href="https://www
 .btc-wista.de/clubleben/turniere#schleifchenturniere">http://www.btc-wista.
 de/clubleben/turniere#schleifchenturniere</a></p><p>Wir treffen uns um 13:0
 0 Uhr auf der Clubterrasse. Im Anschluss wirft unsere Gastronomie den Grill
  an und wir lassen die Veranstaltung auf unserer Clubterrasse - unter Wahru
 ng des Corona-Abstands - gemütlich ausklingen.</p>
DTSTAMP:20260420T101910
DTSTART;TZID=Europe/Berlin:20200920T130000
SEQUENCE:0
TRANSP:OPAQUE
END:VEVENT
END:VCALENDAR