BEGIN:VCALENDAR
VERSION:2.0
PRODID:-//jEvents 2.0 for Joomla//EN
CALSCALE:GREGORIAN
METHOD:PUBLISH
BEGIN:VTIMEZONE
TZID:Europe/Berlin
BEGIN:STANDARD
DTSTART:20191027T020000
RDATE:20200329T030000
TZOFFSETFROM:+0200
TZOFFSETTO:+0100
TZNAME:Europe/Berlin CET
END:STANDARD
BEGIN:STANDARD
DTSTART:20201025T020000
RDATE:20210328T030000
TZOFFSETFROM:+0200
TZOFFSETTO:+0100
TZNAME:Europe/Berlin CET
END:STANDARD
BEGIN:STANDARD
DTSTART:20211031T020000
RDATE:20220327T030000
TZOFFSETFROM:+0200
TZOFFSETTO:+0100
TZNAME:Europe/Berlin CET
END:STANDARD
BEGIN:STANDARD
DTSTART:20221030T020000
RDATE:20230326T030000
TZOFFSETFROM:+0200
TZOFFSETTO:+0100
TZNAME:Europe/Berlin CET
END:STANDARD
BEGIN:STANDARD
DTSTART:20231029T020000
RDATE:20240331T030000
TZOFFSETFROM:+0200
TZOFFSETTO:+0100
TZNAME:Europe/Berlin CET
END:STANDARD
BEGIN:STANDARD
DTSTART:20241027T020000
RDATE:20250330T030000
TZOFFSETFROM:+0200
TZOFFSETTO:+0100
TZNAME:Europe/Berlin CET
END:STANDARD
BEGIN:STANDARD
DTSTART:20251026T020000
RDATE:20260329T030000
TZOFFSETFROM:+0200
TZOFFSETTO:+0100
TZNAME:Europe/Berlin CET
END:STANDARD
BEGIN:DAYLIGHT
DTSTART:20191001T180000
RDATE:20191027T020000
TZOFFSETFROM:+0100
TZOFFSETTO:+0200
TZNAME:Europe/Berlin CEST
END:DAYLIGHT
BEGIN:DAYLIGHT
DTSTART:20200329T030000
RDATE:20201025T020000
TZOFFSETFROM:+0100
TZOFFSETTO:+0200
TZNAME:Europe/Berlin CEST
END:DAYLIGHT
BEGIN:DAYLIGHT
DTSTART:20210328T030000
RDATE:20211031T020000
TZOFFSETFROM:+0100
TZOFFSETTO:+0200
TZNAME:Europe/Berlin CEST
END:DAYLIGHT
BEGIN:DAYLIGHT
DTSTART:20220327T030000
RDATE:20221030T020000
TZOFFSETFROM:+0100
TZOFFSETTO:+0200
TZNAME:Europe/Berlin CEST
END:DAYLIGHT
BEGIN:DAYLIGHT
DTSTART:20230326T030000
RDATE:20231029T020000
TZOFFSETFROM:+0100
TZOFFSETTO:+0200
TZNAME:Europe/Berlin CEST
END:DAYLIGHT
BEGIN:DAYLIGHT
DTSTART:20240331T030000
RDATE:20241027T020000
TZOFFSETFROM:+0100
TZOFFSETTO:+0200
TZNAME:Europe/Berlin CEST
END:DAYLIGHT
BEGIN:DAYLIGHT
DTSTART:20250330T030000
RDATE:20251026T020000
TZOFFSETFROM:+0100
TZOFFSETTO:+0200
TZNAME:Europe/Berlin CEST
END:DAYLIGHT
END:VTIMEZONE
BEGIN:VEVENT
UID:73be4f035cce587c9c401eb6b0bd35f4
CATEGORIES:Veranstaltungen
CREATED:20200930T112251
SUMMARY:Mitglieder-Versammlung 2020
DESCRIPTION: Zu unserer ordentlichen Mitglieder-Versammlung am Donnerstag, den 1. Oktob
 er 2020 um 18.00 Uhr haben alle Mitglieder die Einladung erhalten.\nDer Vor
 stand freut sich auf zahlreiches Erscheinen und aktive Beteiligung.\n \nBTC
  WISTA Vorstand, 17.09.2020\n \n  \nLiebes Mitglied,\ngemäß unserer Vereins
 atzung laden wir Dich herzlich zur ordentlichen\nMITGLIEDERVERSAMMLUNG\ndes
  BTC WISTA e.V.\nam Donnerstag, den 01.10.2020 um 18:00 Uhr\nin unseren Clu
 b Wilhelm-Ostwald-Str. 4, 12489 Berlin ein.\nHygienekonzept:\nIn der Tennis
 halle wird es ausreichend Sitzmöglichkeiten geben, die mit dem erforderlich
 en Abstand aufgestellt sind. Wir bitten, die Positionen der Sitzmöbel nicht
  zu verändern. Die Anwesenheit wird vor der Tennishalle erfasst. Wir bitten
  um rechtzeitiges erscheinen, um Gedränge beim Zutritt zur Halle zu vermeid
 en. Bitte haltet eigenverantwortlich die Abstandsregel ein. Die Lüftungsanl
 age in der Tennishalle sorgt für einen ausreichenden Luftstrom, so dass das
  Tragen einer Mund-Nase Bedeckung während der Versammlung nicht unbedingt e
 rforderlich ist.\nTagesordnung:\n\n - Eröffnung und Feststellung der Anwese
 nheit\n - Genehmigung des Protokolls der außerordentlichen MV vom 01.12.201
 9\n - Bericht des Vorstandes\n - Jahresabschluss 2019\n - Bericht der Revis
 oren\n - Entlastung des Vorstandes\n - Haushaltsvorschlag für das Geschäfts
 jahr 2020\n - Antrag des Vorstandes zur Beschlussfassung:\nDie Mitgliederve
 rsammlung 2020 am 01.10.2020 möge beschließen, dass der bestehende Vorstand
  für eine Amtszeit von 2 Jahren und ca. 4 Monaten gewählt\nwurde. Diese Abw
 eichung von der Vereinssatzung stellt eine Ausnahme dar.\n - VerschiedenesM
 it sportlichen Grüßen,\ngez. Lothar Schmidt \nVorsitzender\n \n
X-ALT-DESC;FMTTYPE=text/html:<div><div id="AppleMailSignature">&nbsp;</div></div><p><span style="color: 
 inherit; font-family: inherit; font-size: 1rem; background-color: inherit;"
 >Zu unserer ordentlichen </span><strong style="color: inherit; font-family:
  inherit; font-size: 1rem;">Mitglieder-Versammlung am Donnerstag, den 1. Ok
 tober 2020 um 18.00 Uhr</strong><span style="color: inherit; font-family: i
 nherit; font-size: 1rem; background-color: inherit;"> haben alle Mitglieder
  die Einladung erhalten.</span></p><p>Der Vorstand freut sich auf zahlreich
 es Erscheinen und aktive Beteiligung.</p><p>&nbsp;</p><p>BTC WISTA Vorstand
 , 17.09.2020</p><p>&nbsp;</p><hr /><p>&nbsp;&nbsp;</p><p>Liebes Mitglied,</
 p><p>gemäß unserer Vereinsatzung laden wir Dich herzlich zur ordentlichen</
 p><p style="text-align: center;"><strong>MITGLIEDERVERSAMMLUNG</strong><br 
 /><strong>des BTC WISTA e.V.</strong><br /><strong>am Donnerstag, den 01.10
 .2020 um 18:00 Uhr</strong></p><p>in unseren Club Wilhelm-Ostwald-Str. 4, 1
 2489 Berlin ein.</p><p><strong>Hygienekonzept:</strong></p><p align="justif
 y"><span>In der Tennishalle wird es ausreichend Sitzmöglichkeiten geben, di
 e mit dem erforderlichen Abstand aufgestellt sind. Wir bitten, die Position
 en der Sitzmöbel nicht zu verändern. Die Anwesenheit wird vor der Tennishal
 le erfasst. Wir bitten um rechtzeitiges erscheinen, um Gedränge beim Zutrit
 t zur Halle zu vermeiden. Bitte haltet eigenverantwortlich die Abstandsrege
 l ein. Die Lüftungsanlage in der Tennishalle sorgt für einen ausreichenden 
 Luftstrom, so dass das Tragen einer Mund-Nase Bedeckung während der Versamm
 lung nicht unbedingt erforderlich ist.</span></p><p><strong>Tagesordnung:</
 strong></p><ol><li>Eröffnung und Feststellung der Anwesenheit</li><li>Geneh
 migung des Protokolls der außerordentlichen MV vom 01.12.2019</li><li>Beric
 ht des Vorstandes</li><li>Jahresabschluss 2019</li><li>Bericht der Revisore
 n</li><li>Entlastung des Vorstandes</li><li>Haushaltsvorschlag für das Gesc
 häftsjahr 2020</li><li>Antrag des Vorstandes zur Beschlussfassung:<br />Die
  Mitgliederversammlung 2020 am 01.10.2020 möge beschließen, dass der besteh
 ende Vorstand für eine Amtszeit von 2 Jahren und ca. 4 Monaten gewählt<br /
 >wurde. Diese Abweichung von der Vereinssatzung stellt eine Ausnahme dar.</
 li><li>Verschiedenes</li></ol><p>Mit sportlichen Grüßen,</p><p>gez. Lothar 
 Schmidt&nbsp;<br />Vorsitzender</p><p>&nbsp;</p>
DTSTAMP:20260420T060755
DTSTART;TZID=Europe/Berlin:20201001T180000
DTEND;TZID=Europe/Berlin:20201001T200000
SEQUENCE:0
TRANSP:OPAQUE
END:VEVENT
END:VCALENDAR