BEGIN:VCALENDAR
VERSION:2.0
PRODID:-//jEvents 2.0 for Joomla//EN
CALSCALE:GREGORIAN
METHOD:PUBLISH
BEGIN:VTIMEZONE
TZID:Europe/Berlin
BEGIN:STANDARD
DTSTART:20191031T100000
RDATE:20200329T030000
TZOFFSETFROM:+0200
TZOFFSETTO:+0100
TZNAME:Europe/Berlin CET
END:STANDARD
BEGIN:STANDARD
DTSTART:20201025T020000
RDATE:20210328T030000
TZOFFSETFROM:+0200
TZOFFSETTO:+0100
TZNAME:Europe/Berlin CET
END:STANDARD
BEGIN:STANDARD
DTSTART:20211031T020000
RDATE:20220327T030000
TZOFFSETFROM:+0200
TZOFFSETTO:+0100
TZNAME:Europe/Berlin CET
END:STANDARD
BEGIN:STANDARD
DTSTART:20221030T020000
RDATE:20230326T030000
TZOFFSETFROM:+0200
TZOFFSETTO:+0100
TZNAME:Europe/Berlin CET
END:STANDARD
BEGIN:STANDARD
DTSTART:20231029T020000
RDATE:20240331T030000
TZOFFSETFROM:+0200
TZOFFSETTO:+0100
TZNAME:Europe/Berlin CET
END:STANDARD
BEGIN:STANDARD
DTSTART:20241027T020000
RDATE:20250330T030000
TZOFFSETFROM:+0200
TZOFFSETTO:+0100
TZNAME:Europe/Berlin CET
END:STANDARD
BEGIN:STANDARD
DTSTART:20251026T020000
RDATE:20260329T030000
TZOFFSETFROM:+0200
TZOFFSETTO:+0100
TZNAME:Europe/Berlin CET
END:STANDARD
BEGIN:DAYLIGHT
DTSTART:20200329T030000
RDATE:20201025T020000
TZOFFSETFROM:+0100
TZOFFSETTO:+0200
TZNAME:Europe/Berlin CEST
END:DAYLIGHT
BEGIN:DAYLIGHT
DTSTART:20210328T030000
RDATE:20211031T020000
TZOFFSETFROM:+0100
TZOFFSETTO:+0200
TZNAME:Europe/Berlin CEST
END:DAYLIGHT
BEGIN:DAYLIGHT
DTSTART:20220327T030000
RDATE:20221030T020000
TZOFFSETFROM:+0100
TZOFFSETTO:+0200
TZNAME:Europe/Berlin CEST
END:DAYLIGHT
BEGIN:DAYLIGHT
DTSTART:20230326T030000
RDATE:20231029T020000
TZOFFSETFROM:+0100
TZOFFSETTO:+0200
TZNAME:Europe/Berlin CEST
END:DAYLIGHT
BEGIN:DAYLIGHT
DTSTART:20240331T030000
RDATE:20241027T020000
TZOFFSETFROM:+0100
TZOFFSETTO:+0200
TZNAME:Europe/Berlin CEST
END:DAYLIGHT
BEGIN:DAYLIGHT
DTSTART:20250330T030000
RDATE:20251026T020000
TZOFFSETFROM:+0100
TZOFFSETTO:+0200
TZNAME:Europe/Berlin CEST
END:DAYLIGHT
END:VTIMEZONE
BEGIN:VEVENT
UID:7cd39e72b47803bc40b74802fa9352b9
CATEGORIES:Arbeitseinsätze
CREATED:20201005T121828
SUMMARY:Arbeitseinsatz
DESCRIPTION:Anmeldung per E-Mail an Diese E-Mail-Adresse ist vor Spambots geschützt! Zu
 r Anzeige muss JavaScript eingeschaltet sein!
				document.getElementById('
 cloak58e1ca944830a0857b5b4a054601b278').innerHTML = '';
				var prefix = '&
 amp;#109;a' + 'i&amp;#108;' + '&amp;#116;o';
				var path = 'hr' + 'ef' + '
 =';
				var addy58e1ca944830a0857b5b4a054601b278 = '&amp;#105;nf&amp;#111;'
  + '&amp;#64;';
				addy58e1ca944830a0857b5b4a054601b278 = addy58e1ca944830
 a0857b5b4a054601b278 + 'btc-w&amp;#105;st&amp;#97;' + '&amp;#46;' + 'd&amp;
 #101;';
				var addy_text58e1ca944830a0857b5b4a054601b278 = '&amp;#105;nf&a
 mp;#111;' + '&amp;#64;' + 'btc-w&amp;#105;st&amp;#97;' + '&amp;#46;' + 'd&a
 mp;#101;';document.getElementById('cloak58e1ca944830a0857b5b4a054601b278').
 innerHTML += '&lt;a ' + path + '\'' + prefix + ':' + addy58e1ca944830a0857b
 5b4a054601b278 + '\'&gt;'+addy_text58e1ca944830a0857b5b4a054601b278+'&lt;\/
 a&gt;';
		 (mailto:info@btc-wista.de.)\n
X-ALT-DESC;FMTTYPE=text/html:<p>Anmeldung per E-Mail an <a href="mailto:info@btc-wista.de."><span id="cl
 oak58e1ca944830a0857b5b4a054601b278">Diese E-Mail-Adresse ist vor Spambots 
 geschützt! Zur Anzeige muss JavaScript eingeschaltet sein!</span><script ty
 pe='text/javascript'>
				document.getElementById('cloak58e1ca944830a0857b5
 b4a054601b278').innerHTML = '';
				var prefix = '&#109;a' + 'i&#108;' + '&
 #116;o';
				var path = 'hr' + 'ef' + '=';
				var addy58e1ca944830a0857b5b
 4a054601b278 = '&#105;nf&#111;' + '&#64;';
				addy58e1ca944830a0857b5b4a05
 4601b278 = addy58e1ca944830a0857b5b4a054601b278 + 'btc-w&#105;st&#97;' + '&
 #46;' + 'd&#101;';
				var addy_text58e1ca944830a0857b5b4a054601b278 = '&#1
 05;nf&#111;' + '&#64;' + 'btc-w&#105;st&#97;' + '&#46;' + 'd&#101;';documen
 t.getElementById('cloak58e1ca944830a0857b5b4a054601b278').innerHTML += '<a 
 ' + path + '\'' + prefix + ':' + addy58e1ca944830a0857b5b4a054601b278 + '\'
 >'+addy_text58e1ca944830a0857b5b4a054601b278+'<\/a>';
		</script></a></p>
DTSTAMP:20260420T084708
DTSTART;TZID=Europe/Berlin:20201031T100000
DTEND;TZID=Europe/Berlin:20201031T140000
SEQUENCE:0
TRANSP:OPAQUE
END:VEVENT
END:VCALENDAR