BEGIN:VCALENDAR
VERSION:2.0
PRODID:-//jEvents 2.0 for Joomla//EN
CALSCALE:GREGORIAN
METHOD:PUBLISH
BEGIN:VTIMEZONE
TZID:Europe/Berlin
BEGIN:STANDARD
DTSTART:20221030T020000
RDATE:20230326T030000
TZOFFSETFROM:+0200
TZOFFSETTO:+0100
TZNAME:Europe/Berlin CET
END:STANDARD
BEGIN:STANDARD
DTSTART:20231029T020000
RDATE:20240331T030000
TZOFFSETFROM:+0200
TZOFFSETTO:+0100
TZNAME:Europe/Berlin CET
END:STANDARD
BEGIN:STANDARD
DTSTART:20241027T020000
RDATE:20250330T030000
TZOFFSETFROM:+0200
TZOFFSETTO:+0100
TZNAME:Europe/Berlin CET
END:STANDARD
BEGIN:STANDARD
DTSTART:20251026T020000
RDATE:20260329T030000
TZOFFSETFROM:+0200
TZOFFSETTO:+0100
TZNAME:Europe/Berlin CET
END:STANDARD
BEGIN:DAYLIGHT
DTSTART:20220528T110000
RDATE:20221030T020000
TZOFFSETFROM:+0100
TZOFFSETTO:+0200
TZNAME:Europe/Berlin CEST
END:DAYLIGHT
BEGIN:DAYLIGHT
DTSTART:20230326T030000
RDATE:20231029T020000
TZOFFSETFROM:+0100
TZOFFSETTO:+0200
TZNAME:Europe/Berlin CEST
END:DAYLIGHT
BEGIN:DAYLIGHT
DTSTART:20240331T030000
RDATE:20241027T020000
TZOFFSETFROM:+0100
TZOFFSETTO:+0200
TZNAME:Europe/Berlin CEST
END:DAYLIGHT
BEGIN:DAYLIGHT
DTSTART:20250330T030000
RDATE:20251026T020000
TZOFFSETFROM:+0100
TZOFFSETTO:+0200
TZNAME:Europe/Berlin CEST
END:DAYLIGHT
END:VTIMEZONE
BEGIN:VEVENT
UID:6593056709bd9d1c6b658a04689f271a
CATEGORIES:Veranstaltungen, Turniere
CREATED:20230515T153202
SUMMARY:Pfingst-Schleifchenturnier
DESCRIPTION:Liebe Mitglieder,am Montag, den 29. Mai 2023 findet ab 11:00 Uhr unser Pfin
 gst-Schleifchenturnier stattKaffee, Kuchen und Getränke werden bereitgehalt
 en, und auch der Grill wird wieder angeworfen. Nach der Siegerehrung ca. 15
 :00 Uhr lassen wir die Veranstaltung auf unserer Clubterrasse gemütlich aus
 klingen. \n\nFür die Neueren unter uns: ein Schleifchenturnier ist sowohl f
 ür „alte Hasen“ als auch für Neumitglieder und solche, die noch nicht so la
 nge oder gut Tennis spielen, interessant. Hier einige Hintergrund-Infos zu 
 dieser Turnierform:  (http://www.btc-wista.de/clubleben/turniere#schleifche
 nturniere)http://www.btc-wista.de/clubleben/turniere#schleifchenturniere\n\
 n (http://www.btc-wista.de/clubleben/turniere#schleifchenturniere)Die Doppe
 l-Paarungen werden wie immer für jede Runde neu ausgelost. Die Anzahl der g
 espielten Runden wird ad hoc anhand der Teilnehmerzahl festgelegt. Für die 
 Teilnahme reicht ein pünktliches Erscheinen ohne vorherige Anmeldung und di
 e Zahlung von 5,- € pro Person für Bälle und Preise.\n\nWir freuen uns auf 
 Eure Teilnahme!\nSportliche Grüße,\nReinald Faß und der gesamte Vorstand de
 s BTC WISTAP.S.: Hier zwei Fotogalerien von früheren Schleifchenturnieren:S
 chleifchenturnier und Saisoneröffnung April 2019 (clubleben/fotogalerie/34-
 fotogalerie-news/230-saisoneroeffnung-und-deutschland-spielt-tennis-fotogal
 erie)Pfingst-Schleifchenturnier 2017 (clubleben/fotogalerie/34-fotogalerie-
 news/147-pfingst-schleifchenturnier-5-6-2017-fotogalerie)
X-ALT-DESC;FMTTYPE=text/html:<div class=""><div class=""><div class="">Liebe Mitglieder,</div><div class
 =""><br class="" /></div><div class="" style="text-align: center;"><b class
 =""><span style="color: #ff2600;">am Montag, den 29. Mai 2023 findet&nbsp;<
 /span></b></div><div class="" style="text-align: center;"><b class=""><span
  style="color: #ff2600;">ab 11:00 Uhr&nbsp;</span></b><b class=""><span sty
 le="color: #ff2600;">unser Pfingst-Schleifchenturnier statt</span></b></div
 ><div class=""><br class="" /></div><div><p>Kaffee, Kuchen und Getränke wer
 den bereitgehalten, und auch der Grill wird wieder angeworfen. Nach der Sie
 gerehrung ca. 15:00 Uhr lassen wir die Veranstaltung auf unserer Clubterras
 se gemütlich ausklingen.&nbsp;<br /><br />Für die Neueren unter uns: ein Sc
 hleifchenturnier ist sowohl für „alte Hasen“ als&nbsp;<b class="">auch für 
 Neumitglieder und solche, die noch nicht so lange oder gut Tennis spielen</
 b>, interessant. Hier einige Hintergrund-Infos zu dieser Turnierform:&nbsp;
 <a href="http://www.btc-wista.de/clubleben/turniere#schleifchenturniere" cl
 ass=""></a><a href="http://www.btc-wista.de/clubleben/turniere#schleifchent
 urniere">http://www.btc-wista.de/clubleben/turniere#schleifchenturniere<br 
 /><br /></a>Die Doppel-Paarungen werden wie immer für jede Runde neu ausgel
 ost. Die Anzahl der gespielten Runden wird ad hoc anhand der Teilnehmerzahl
  festgelegt. Für die&nbsp;Teilnahme reicht ein pünktliches Erscheinen ohne 
 vorherige Anmeldung und die Zahlung von 5,- € pro Person für Bälle und Prei
 se.<br /><br />Wir freuen uns auf Eure Teilnahme!</p></div><div class=""><d
 iv class="">Sportliche Grüße,<br /><div class=""><div class=""><div class="
 "><div class="">Reinald Faß und der gesamte Vorstand des BTC WISTA</div><di
 v class=""><br class="" /></div><div class="">P.S.: Hier zwei Fotogalerien 
 von früheren Schleifchenturnieren:</div><div class=""><a href="https://www.
 btc-wista.de/clubleben/fotogalerie/34-fotogalerie-news/230-saisoneroeffnung
 -und-deutschland-spielt-tennis-fotogalerie" class="">Schleifchenturnier und
  Saisoneröffnung April 2019</a></div><div class=""><a href="https://www.btc
 -wista.de/clubleben/fotogalerie/34-fotogalerie-news/147-pfingst-schleifchen
 turnier-5-6-2017-fotogalerie" class="">Pfingst-Schleifchenturnier 2017</a><
 /div></div></div></div></div></div></div></div>
DTSTAMP:20260421T152413
DTSTART;TZID=Europe/Berlin:20230529T110000
SEQUENCE:0
TRANSP:OPAQUE
END:VEVENT
END:VCALENDAR