BEGIN:VCALENDAR
VERSION:2.0
PRODID:-//jEvents 2.0 for Joomla//EN
CALSCALE:GREGORIAN
METHOD:PUBLISH
BEGIN:VTIMEZONE
TZID:Europe/Berlin
BEGIN:STANDARD
DTSTART:20221030T020000
RDATE:20230326T030000
TZOFFSETFROM:+0200
TZOFFSETTO:+0100
TZNAME:Europe/Berlin CET
END:STANDARD
BEGIN:STANDARD
DTSTART:20231029T020000
RDATE:20240331T030000
TZOFFSETFROM:+0200
TZOFFSETTO:+0100
TZNAME:Europe/Berlin CET
END:STANDARD
BEGIN:STANDARD
DTSTART:20241027T020000
RDATE:20250330T030000
TZOFFSETFROM:+0200
TZOFFSETTO:+0100
TZNAME:Europe/Berlin CET
END:STANDARD
BEGIN:STANDARD
DTSTART:20251026T020000
RDATE:20260329T030000
TZOFFSETFROM:+0200
TZOFFSETTO:+0100
TZNAME:Europe/Berlin CET
END:STANDARD
BEGIN:DAYLIGHT
DTSTART:20221008T180000
RDATE:20221030T020000
TZOFFSETFROM:+0100
TZOFFSETTO:+0200
TZNAME:Europe/Berlin CEST
END:DAYLIGHT
BEGIN:DAYLIGHT
DTSTART:20230326T030000
RDATE:20231029T020000
TZOFFSETFROM:+0100
TZOFFSETTO:+0200
TZNAME:Europe/Berlin CEST
END:DAYLIGHT
BEGIN:DAYLIGHT
DTSTART:20240331T030000
RDATE:20241027T020000
TZOFFSETFROM:+0100
TZOFFSETTO:+0200
TZNAME:Europe/Berlin CEST
END:DAYLIGHT
BEGIN:DAYLIGHT
DTSTART:20250330T030000
RDATE:20251026T020000
TZOFFSETFROM:+0100
TZOFFSETTO:+0200
TZNAME:Europe/Berlin CEST
END:DAYLIGHT
END:VTIMEZONE
BEGIN:VEVENT
UID:955b5c0da4b84d463a71f76c856a6c68
CATEGORIES:Veranstaltungen
CREATED:20231024T112455
SUMMARY:Vorstandssitzung
DESCRIPTION:Interne Besprechung des Vorstandes und ggf. der Beiräte.\nAlle Vereinsmitgl
 ieder haben zu Beginn jeder Vorstandssitzung Gelegenheit, ihre Anregungen o
 der Sorgen direkt und persönlich vorzutragen, gerne auch vorab per E-Mail a
 n: Diese E-Mail-Adresse ist vor Spambots geschützt! Zur Anzeige muss JavaSc
 ript eingeschaltet sein!
				document.getElementById('cloakc9ea10a311afea3c
 29f82b64897137be').innerHTML = '';
				var prefix = '&#109;a' + 'i&#108;' +
  '&#116;o';
				var path = 'hr' + 'ef' + '=';
				var addyc9ea10a311afea3c2
 9f82b64897137be = '&#105;nf&#111;' + '&#64;';
				addyc9ea10a311afea3c29f82
 b64897137be = addyc9ea10a311afea3c29f82b64897137be + 'btc-w&#105;st&#97;' +
  '&#46;' + 'd&#101;';
				var addy_textc9ea10a311afea3c29f82b64897137be = '
 &#105;nf&#111;' + '&#64;' + 'btc-w&#105;st&#97;' + '&#46;' + 'd&#101;';docu
 ment.getElementById('cloakc9ea10a311afea3c29f82b64897137be').innerHTML += '
 <a ' + path + '\'' + prefix + ':' + addyc9ea10a311afea3c29f82b64897137be + 
 '\'>'+addy_textc9ea10a311afea3c29f82b64897137be+'';
		\n
X-ALT-DESC;FMTTYPE=text/html:<p>Interne Besprechung des Vorstandes und ggf. der Beiräte.</p><p>Alle Vere
 insmitglieder haben zu Beginn jeder Vorstandssitzung Gelegenheit, ihre Anre
 gungen oder Sorgen direkt und persönlich vorzutragen, gerne auch vorab per 
 E-Mail an:&nbsp;<span id="cloakc9ea10a311afea3c29f82b64897137be">Diese E-Ma
 il-Adresse ist vor Spambots geschützt! Zur Anzeige muss JavaScript eingesch
 altet sein!</span><script type='text/javascript'>
				document.getElementBy
 Id('cloakc9ea10a311afea3c29f82b64897137be').innerHTML = '';
				var prefix 
 = '&#109;a' + 'i&#108;' + '&#116;o';
				var path = 'hr' + 'ef' + '=';
				
 var addyc9ea10a311afea3c29f82b64897137be = '&#105;nf&#111;' + '&#64;';
				
 addyc9ea10a311afea3c29f82b64897137be = addyc9ea10a311afea3c29f82b64897137be
  + 'btc-w&#105;st&#97;' + '&#46;' + 'd&#101;';
				var addy_textc9ea10a311a
 fea3c29f82b64897137be = '&#105;nf&#111;' + '&#64;' + 'btc-w&#105;st&#97;' +
  '&#46;' + 'd&#101;';document.getElementById('cloakc9ea10a311afea3c29f82b64
 897137be').innerHTML += '<a ' + path + '\'' + prefix + ':' + addyc9ea10a311
 afea3c29f82b64897137be + '\'>'+addy_textc9ea10a311afea3c29f82b64897137be+'<
 \/a>';
		</script></p>
DTSTAMP:20260422T111554
DTSTART;TZID=Europe/Berlin:20231009T180000
DTEND;TZID=Europe/Berlin:20231009T200000
SEQUENCE:0
TRANSP:OPAQUE
END:VEVENT
END:VCALENDAR