BEGIN:VCALENDAR
VERSION:2.0
PRODID:-//jEvents 2.0 for Joomla//EN
CALSCALE:GREGORIAN
METHOD:PUBLISH
BEGIN:VTIMEZONE
TZID:Europe/Berlin
BEGIN:STANDARD
DTSTART:20231029T020000
RDATE:20240331T030000
TZOFFSETFROM:+0200
TZOFFSETTO:+0100
TZNAME:Europe/Berlin CET
END:STANDARD
BEGIN:STANDARD
DTSTART:20241027T020000
RDATE:20250330T030000
TZOFFSETFROM:+0200
TZOFFSETTO:+0100
TZNAME:Europe/Berlin CET
END:STANDARD
BEGIN:STANDARD
DTSTART:20251026T020000
RDATE:20260329T030000
TZOFFSETFROM:+0200
TZOFFSETTO:+0100
TZNAME:Europe/Berlin CET
END:STANDARD
BEGIN:DAYLIGHT
DTSTART:20230520T103000
RDATE:20231029T020000
TZOFFSETFROM:+0100
TZOFFSETTO:+0200
TZNAME:Europe/Berlin CEST
END:DAYLIGHT
BEGIN:DAYLIGHT
DTSTART:20240331T030000
RDATE:20241027T020000
TZOFFSETFROM:+0100
TZOFFSETTO:+0200
TZNAME:Europe/Berlin CEST
END:DAYLIGHT
BEGIN:DAYLIGHT
DTSTART:20250330T030000
RDATE:20251026T020000
TZOFFSETFROM:+0100
TZOFFSETTO:+0200
TZNAME:Europe/Berlin CEST
END:DAYLIGHT
END:VTIMEZONE
BEGIN:VEVENT
UID:99b86904007ee3a29ed456cd69ae69e2
CATEGORIES:Turniere
CREATED:20240423T133611
SUMMARY:Pfingst-Schleifchenturnier
DESCRIPTION:Liebe Mitglieder,am Montag, den 20. Mai 2024 findet ab 10:30 Uhr unser Pfin
 gst-Schleifchenturnier statt.Um 12:30 Uhr machen wir eine Mittagspause, und
  die Gastronomie wird uns mit Speis und Trank versorgen, auch Kaffee &amp; 
 Kuchen sind am Start. Nach der Siegerehrung ca. 16:00 Uhr lassen wir die Ve
 ranstaltung auf unserer Clubterrasse gemütlich ausklingen. \n\nFür die Neue
 ren unter uns: ein Schleifchenturnier ist sowohl für „alte Hasen“ als auch 
 für Neumitglieder und solche, die noch nicht so lange oder gut Tennis spiel
 en, interessant. Hier einige Hintergrund-Infos zu dieser Turnierform:  (htt
 p://www.btc-wista.de/clubleben/turniere#schleifchenturniere)http://www.btc-
 wista.de/clubleben/turniere#schleifchenturniere\n\n (http://www.btc-wista.d
 e/clubleben/turniere#schleifchenturniere)Die Doppel-Paarungen werden wie im
 mer für jede Runde neu ausgelost. Die Anzahl der gespielten Runden wird ad 
 hoc anhand der Teilnehmerzahl festgelegt. Für die Teilnahme reicht ein pünk
 tliches Erscheinen ohne vorherige Anmeldung und die Zahlung von 5,- € pro P
 erson für Bälle und Preise.\n\nWir freuen uns auf Eure Teilnahme!\nSportlic
 he Grüße,\nReinald Faß und der gesamte Vorstand des BTC WISTAP.S.: Hier zwe
 i Fotogalerien von früheren Schleifchenturnieren:Schleifchenturnier und Sai
 soneröffnung April 2019 (clubleben/fotogalerie/34-fotogalerie-news/230-sais
 oneroeffnung-und-deutschland-spielt-tennis-fotogalerie)Pfingst-Schleifchent
 urnier 2017 (clubleben/fotogalerie/34-fotogalerie-news/147-pfingst-schleifc
 henturnier-5-6-2017-fotogalerie) 
X-ALT-DESC;FMTTYPE=text/html:<div class=""><div class=""><div class=""><div class=""><div class=""><div 
 class="">Liebe Mitglieder,</div><div class=""><br class="" /></div><div cla
 ss="" style="text-align: center;"><b class=""><span style="color: #ff2600;"
 >am Montag, den 20. Mai 2024 findet&nbsp;</span></b></div><div class="" sty
 le="text-align: center;"><b class=""><span style="color: #ff2600;">ab 10:30
  Uhr&nbsp;</span></b><b class=""><span style="color: #ff2600;">unser Pfings
 t-Schleifchenturnier statt.</span></b></div><div class=""><br class="" /></
 div><div><p>Um 12:30 Uhr machen wir eine Mittagspause, und die Gastronomie 
 wird uns mit Speis und Trank versorgen, auch Kaffee &amp; Kuchen sind am St
 art. Nach der Siegerehrung ca. 16:00 Uhr lassen wir die Veranstaltung auf u
 nserer Clubterrasse gemütlich ausklingen.&nbsp;<br /><br />Für die Neueren 
 unter uns: ein Schleifchenturnier ist sowohl für „alte Hasen“ als&nbsp;<b c
 lass="">auch für Neumitglieder und solche, die noch nicht so lange oder gut
  Tennis spielen</b>, interessant. Hier einige Hintergrund-Infos zu dieser T
 urnierform:&nbsp;<a href="http://www.btc-wista.de/clubleben/turniere#schlei
 fchenturniere" class=""></a><a href="http://www.btc-wista.de/clubleben/turn
 iere#schleifchenturniere">http://www.btc-wista.de/clubleben/turniere#schlei
 fchenturniere<br /><br /></a>Die Doppel-Paarungen werden wie immer für jede
  Runde neu ausgelost. Die Anzahl der gespielten Runden wird ad hoc anhand d
 er Teilnehmerzahl festgelegt. Für die&nbsp;Teilnahme reicht ein <strong>pün
 ktliches Erscheinen ohne vorherige Anmeldung</strong> und die Zahlung von 5
 ,- € pro Person für Bälle und Preise.<br /><br />Wir freuen uns auf Eure Te
 ilnahme!</p></div><div class=""><div class="">Sportliche Grüße,<br /><div c
 lass=""><div class=""><div class=""><div class="">Reinald Faß und der gesam
 te Vorstand des BTC WISTA</div><div class=""><br class="" /></div><div clas
 s="">P.S.: Hier zwei Fotogalerien von früheren Schleifchenturnieren:</div><
 div class=""><a href="https://www.btc-wista.de/clubleben/fotogalerie/34-fot
 ogalerie-news/230-saisoneroeffnung-und-deutschland-spielt-tennis-fotogaleri
 e" class="">Schleifchenturnier und Saisoneröffnung April 2019</a></div><div
  class=""><a href="https://www.btc-wista.de/clubleben/fotogalerie/34-fotoga
 lerie-news/147-pfingst-schleifchenturnier-5-6-2017-fotogalerie" class="">Pf
 ingst-Schleifchenturnier 2017</a></div></div></div></div></div></div></div>
 </div></div><div class=""><div class=""><div class=""><div class=""><div cl
 ass=""><div class="">&nbsp;</div></div></div></div></div></div></div></div>
DTSTAMP:20260419T132710
DTSTART;TZID=Europe/Berlin:20240520T103000
DTEND;TZID=Europe/Berlin:20240520T160000
SEQUENCE:0
TRANSP:OPAQUE
END:VEVENT
END:VCALENDAR