BEGIN:VCALENDAR
VERSION:2.0
PRODID:-//jEvents 2.0 for Joomla//EN
CALSCALE:GREGORIAN
METHOD:PUBLISH
BEGIN:VTIMEZONE
TZID:Europe/Berlin
BEGIN:STANDARD
DTSTART:20200311T183000
RDATE:20200329T030000
TZOFFSETFROM:+0200
TZOFFSETTO:+0100
TZNAME:Europe/Berlin CET
END:STANDARD
BEGIN:STANDARD
DTSTART:20201025T020000
RDATE:20210328T030000
TZOFFSETFROM:+0200
TZOFFSETTO:+0100
TZNAME:Europe/Berlin CET
END:STANDARD
BEGIN:STANDARD
DTSTART:20211031T020000
RDATE:20220327T030000
TZOFFSETFROM:+0200
TZOFFSETTO:+0100
TZNAME:Europe/Berlin CET
END:STANDARD
BEGIN:STANDARD
DTSTART:20221030T020000
RDATE:20230326T030000
TZOFFSETFROM:+0200
TZOFFSETTO:+0100
TZNAME:Europe/Berlin CET
END:STANDARD
BEGIN:STANDARD
DTSTART:20231029T020000
RDATE:20240331T030000
TZOFFSETFROM:+0200
TZOFFSETTO:+0100
TZNAME:Europe/Berlin CET
END:STANDARD
BEGIN:STANDARD
DTSTART:20241027T020000
RDATE:20250330T030000
TZOFFSETFROM:+0200
TZOFFSETTO:+0100
TZNAME:Europe/Berlin CET
END:STANDARD
BEGIN:STANDARD
DTSTART:20251026T020000
RDATE:20260329T030000
TZOFFSETFROM:+0200
TZOFFSETTO:+0100
TZNAME:Europe/Berlin CET
END:STANDARD
BEGIN:DAYLIGHT
DTSTART:20200329T030000
RDATE:20201025T020000
TZOFFSETFROM:+0100
TZOFFSETTO:+0200
TZNAME:Europe/Berlin CEST
END:DAYLIGHT
BEGIN:DAYLIGHT
DTSTART:20210328T030000
RDATE:20211031T020000
TZOFFSETFROM:+0100
TZOFFSETTO:+0200
TZNAME:Europe/Berlin CEST
END:DAYLIGHT
BEGIN:DAYLIGHT
DTSTART:20220327T030000
RDATE:20221030T020000
TZOFFSETFROM:+0100
TZOFFSETTO:+0200
TZNAME:Europe/Berlin CEST
END:DAYLIGHT
BEGIN:DAYLIGHT
DTSTART:20230326T030000
RDATE:20231029T020000
TZOFFSETFROM:+0100
TZOFFSETTO:+0200
TZNAME:Europe/Berlin CEST
END:DAYLIGHT
BEGIN:DAYLIGHT
DTSTART:20240331T030000
RDATE:20241027T020000
TZOFFSETFROM:+0100
TZOFFSETTO:+0200
TZNAME:Europe/Berlin CEST
END:DAYLIGHT
BEGIN:DAYLIGHT
DTSTART:20250330T030000
RDATE:20251026T020000
TZOFFSETFROM:+0100
TZOFFSETTO:+0200
TZNAME:Europe/Berlin CEST
END:DAYLIGHT
END:VTIMEZONE
BEGIN:VEVENT
UID:20c0907216a0a9c284013e7ef756238a
CATEGORIES:Veranstaltungen
CREATED:20210707T165136
SUMMARY:Vorstandssitzung (Videokonferenz)
DESCRIPTION:Interne Besprechung des Vorstandes und ggf. der Beiräte.\nAlle Vereinsmitgl
 ieder haben zu Beginn jeder Vorstandssitzung Gelegenheit, ihre Anregungen o
 der Sorgen direkt und persönlich vorzutragen, gerne auch vorab per E-Mail a
 n: Diese E-Mail-Adresse ist vor Spambots geschützt! Zur Anzeige muss JavaSc
 ript eingeschaltet sein!
				document.getElementById('cloakc85ac378ca915465
 050d8a05b5f9cc62').innerHTML = '';
				var prefix = '&#109;a' + 'i&#108;' +
  '&#116;o';
				var path = 'hr' + 'ef' + '=';
				var addyc85ac378ca9154650
 50d8a05b5f9cc62 = '&#105;nf&#111;' + '&#64;';
				addyc85ac378ca915465050d8
 a05b5f9cc62 = addyc85ac378ca915465050d8a05b5f9cc62 + 'btc-w&#105;st&#97;' +
  '&#46;' + 'd&#101;';
				var addy_textc85ac378ca915465050d8a05b5f9cc62 = '
 &#105;nf&#111;' + '&#64;' + 'btc-w&#105;st&#97;' + '&#46;' + 'd&#101;';docu
 ment.getElementById('cloakc85ac378ca915465050d8a05b5f9cc62').innerHTML += '
 <a ' + path + '\'' + prefix + ':' + addyc85ac378ca915465050d8a05b5f9cc62 + 
 '\'>'+addy_textc85ac378ca915465050d8a05b5f9cc62+'';
		\n
X-ALT-DESC;FMTTYPE=text/html:<p>Interne Besprechung des Vorstandes und ggf. der Beiräte.</p><p>Alle Vere
 insmitglieder haben zu Beginn jeder Vorstandssitzung Gelegenheit, ihre Anre
 gungen oder Sorgen direkt und persönlich vorzutragen, gerne auch vorab per 
 E-Mail an:&nbsp;<span id="cloakc85ac378ca915465050d8a05b5f9cc62">Diese E-Ma
 il-Adresse ist vor Spambots geschützt! Zur Anzeige muss JavaScript eingesch
 altet sein!</span><script type='text/javascript'>
				document.getElementBy
 Id('cloakc85ac378ca915465050d8a05b5f9cc62').innerHTML = '';
				var prefix 
 = '&#109;a' + 'i&#108;' + '&#116;o';
				var path = 'hr' + 'ef' + '=';
				
 var addyc85ac378ca915465050d8a05b5f9cc62 = '&#105;nf&#111;' + '&#64;';
				
 addyc85ac378ca915465050d8a05b5f9cc62 = addyc85ac378ca915465050d8a05b5f9cc62
  + 'btc-w&#105;st&#97;' + '&#46;' + 'd&#101;';
				var addy_textc85ac378ca9
 15465050d8a05b5f9cc62 = '&#105;nf&#111;' + '&#64;' + 'btc-w&#105;st&#97;' +
  '&#46;' + 'd&#101;';document.getElementById('cloakc85ac378ca915465050d8a05
 b5f9cc62').innerHTML += '<a ' + path + '\'' + prefix + ':' + addyc85ac378ca
 915465050d8a05b5f9cc62 + '\'>'+addy_textc85ac378ca915465050d8a05b5f9cc62+'<
 \/a>';
		</script></p>
DTSTAMP:20260419T211637
DTSTART;TZID=Europe/Berlin:20210312T183000
DTEND;TZID=Europe/Berlin:20210312T200000
SEQUENCE:0
TRANSP:OPAQUE
END:VEVENT
END:VCALENDAR