BEGIN:VCALENDAR
VERSION:2.0
PRODID:-//jEvents 2.0 for Joomla//EN
CALSCALE:GREGORIAN
METHOD:PUBLISH
BEGIN:VTIMEZONE
TZID:Europe/Berlin
BEGIN:STANDARD
DTSTART:20200226T180000
RDATE:20200329T030000
TZOFFSETFROM:+0200
TZOFFSETTO:+0100
TZNAME:Europe/Berlin CET
END:STANDARD
BEGIN:STANDARD
DTSTART:20201025T020000
RDATE:20210328T030000
TZOFFSETFROM:+0200
TZOFFSETTO:+0100
TZNAME:Europe/Berlin CET
END:STANDARD
BEGIN:STANDARD
DTSTART:20211031T020000
RDATE:20220327T030000
TZOFFSETFROM:+0200
TZOFFSETTO:+0100
TZNAME:Europe/Berlin CET
END:STANDARD
BEGIN:STANDARD
DTSTART:20221030T020000
RDATE:20230326T030000
TZOFFSETFROM:+0200
TZOFFSETTO:+0100
TZNAME:Europe/Berlin CET
END:STANDARD
BEGIN:STANDARD
DTSTART:20231029T020000
RDATE:20240331T030000
TZOFFSETFROM:+0200
TZOFFSETTO:+0100
TZNAME:Europe/Berlin CET
END:STANDARD
BEGIN:STANDARD
DTSTART:20241027T020000
RDATE:20250330T030000
TZOFFSETFROM:+0200
TZOFFSETTO:+0100
TZNAME:Europe/Berlin CET
END:STANDARD
BEGIN:STANDARD
DTSTART:20251026T020000
RDATE:20260329T030000
TZOFFSETFROM:+0200
TZOFFSETTO:+0100
TZNAME:Europe/Berlin CET
END:STANDARD
BEGIN:DAYLIGHT
DTSTART:20200329T030000
RDATE:20201025T020000
TZOFFSETFROM:+0100
TZOFFSETTO:+0200
TZNAME:Europe/Berlin CEST
END:DAYLIGHT
BEGIN:DAYLIGHT
DTSTART:20210328T030000
RDATE:20211031T020000
TZOFFSETFROM:+0100
TZOFFSETTO:+0200
TZNAME:Europe/Berlin CEST
END:DAYLIGHT
BEGIN:DAYLIGHT
DTSTART:20220327T030000
RDATE:20221030T020000
TZOFFSETFROM:+0100
TZOFFSETTO:+0200
TZNAME:Europe/Berlin CEST
END:DAYLIGHT
BEGIN:DAYLIGHT
DTSTART:20230326T030000
RDATE:20231029T020000
TZOFFSETFROM:+0100
TZOFFSETTO:+0200
TZNAME:Europe/Berlin CEST
END:DAYLIGHT
BEGIN:DAYLIGHT
DTSTART:20240331T030000
RDATE:20241027T020000
TZOFFSETFROM:+0100
TZOFFSETTO:+0200
TZNAME:Europe/Berlin CEST
END:DAYLIGHT
BEGIN:DAYLIGHT
DTSTART:20250330T030000
RDATE:20251026T020000
TZOFFSETFROM:+0100
TZOFFSETTO:+0200
TZNAME:Europe/Berlin CEST
END:DAYLIGHT
END:VTIMEZONE
BEGIN:VEVENT
UID:f3202bc825f57cb955f791dccdb990c4
CATEGORIES:Veranstaltungen
CREATED:20210707T165255
SUMMARY:Vorstandssitzung (Videokonferenz)
DESCRIPTION:Interne Besprechung des Vorstandes und ggf. der Beiräte.\nAlle Vereinsmitgl
 ieder haben zu Beginn jeder Vorstandssitzung Gelegenheit, ihre Anregungen o
 der Sorgen direkt und persönlich vorzutragen, gerne auch vorab per E-Mail a
 n: Diese E-Mail-Adresse ist vor Spambots geschützt! Zur Anzeige muss JavaSc
 ript eingeschaltet sein!
				document.getElementById('cloakaf763e70dd223682
 02fa6cc3bb8accfe').innerHTML = '';
				var prefix = '&#109;a' + 'i&#108;' +
  '&#116;o';
				var path = 'hr' + 'ef' + '=';
				var addyaf763e70dd2236820
 2fa6cc3bb8accfe = '&#105;nf&#111;' + '&#64;';
				addyaf763e70dd22368202fa6
 cc3bb8accfe = addyaf763e70dd22368202fa6cc3bb8accfe + 'btc-w&#105;st&#97;' +
  '&#46;' + 'd&#101;';
				var addy_textaf763e70dd22368202fa6cc3bb8accfe = '
 &#105;nf&#111;' + '&#64;' + 'btc-w&#105;st&#97;' + '&#46;' + 'd&#101;';docu
 ment.getElementById('cloakaf763e70dd22368202fa6cc3bb8accfe').innerHTML += '
 <a ' + path + '\'' + prefix + ':' + addyaf763e70dd22368202fa6cc3bb8accfe + 
 '\'>'+addy_textaf763e70dd22368202fa6cc3bb8accfe+'';
		\n
X-ALT-DESC;FMTTYPE=text/html:<p>Interne Besprechung des Vorstandes und ggf. der Beiräte.</p><p>Alle Vere
 insmitglieder haben zu Beginn jeder Vorstandssitzung Gelegenheit, ihre Anre
 gungen oder Sorgen direkt und persönlich vorzutragen, gerne auch vorab per 
 E-Mail an:&nbsp;<span id="cloakaf763e70dd22368202fa6cc3bb8accfe">Diese E-Ma
 il-Adresse ist vor Spambots geschützt! Zur Anzeige muss JavaScript eingesch
 altet sein!</span><script type='text/javascript'>
				document.getElementBy
 Id('cloakaf763e70dd22368202fa6cc3bb8accfe').innerHTML = '';
				var prefix 
 = '&#109;a' + 'i&#108;' + '&#116;o';
				var path = 'hr' + 'ef' + '=';
				
 var addyaf763e70dd22368202fa6cc3bb8accfe = '&#105;nf&#111;' + '&#64;';
				
 addyaf763e70dd22368202fa6cc3bb8accfe = addyaf763e70dd22368202fa6cc3bb8accfe
  + 'btc-w&#105;st&#97;' + '&#46;' + 'd&#101;';
				var addy_textaf763e70dd2
 2368202fa6cc3bb8accfe = '&#105;nf&#111;' + '&#64;' + 'btc-w&#105;st&#97;' +
  '&#46;' + 'd&#101;';document.getElementById('cloakaf763e70dd22368202fa6cc3
 bb8accfe').innerHTML += '<a ' + path + '\'' + prefix + ':' + addyaf763e70dd
 22368202fa6cc3bb8accfe + '\'>'+addy_textaf763e70dd22368202fa6cc3bb8accfe+'<
 \/a>';
		</script></p>
DTSTAMP:20260419T213158
DTSTART;TZID=Europe/Berlin:20210226T180000
DTEND;TZID=Europe/Berlin:20210226T200000
SEQUENCE:0
TRANSP:OPAQUE
END:VEVENT
END:VCALENDAR