BEGIN:VCALENDAR
VERSION:2.0
PRODID:-//jEvents 2.0 for Joomla//EN
CALSCALE:GREGORIAN
METHOD:PUBLISH
BEGIN:VTIMEZONE
TZID:Europe/Berlin
BEGIN:STANDARD
DTSTART:20220317T100000
RDATE:20220327T030000
TZOFFSETFROM:+0200
TZOFFSETTO:+0100
TZNAME:Europe/Berlin CET
END:STANDARD
BEGIN:STANDARD
DTSTART:20221030T020000
RDATE:20230326T030000
TZOFFSETFROM:+0200
TZOFFSETTO:+0100
TZNAME:Europe/Berlin CET
END:STANDARD
BEGIN:STANDARD
DTSTART:20231029T020000
RDATE:20240331T030000
TZOFFSETFROM:+0200
TZOFFSETTO:+0100
TZNAME:Europe/Berlin CET
END:STANDARD
BEGIN:STANDARD
DTSTART:20241027T020000
RDATE:20250330T030000
TZOFFSETFROM:+0200
TZOFFSETTO:+0100
TZNAME:Europe/Berlin CET
END:STANDARD
BEGIN:STANDARD
DTSTART:20251026T020000
RDATE:20260329T030000
TZOFFSETFROM:+0200
TZOFFSETTO:+0100
TZNAME:Europe/Berlin CET
END:STANDARD
BEGIN:DAYLIGHT
DTSTART:20220327T030000
RDATE:20221030T020000
TZOFFSETFROM:+0100
TZOFFSETTO:+0200
TZNAME:Europe/Berlin CEST
END:DAYLIGHT
BEGIN:DAYLIGHT
DTSTART:20230326T030000
RDATE:20231029T020000
TZOFFSETFROM:+0100
TZOFFSETTO:+0200
TZNAME:Europe/Berlin CEST
END:DAYLIGHT
BEGIN:DAYLIGHT
DTSTART:20240331T030000
RDATE:20241027T020000
TZOFFSETFROM:+0100
TZOFFSETTO:+0200
TZNAME:Europe/Berlin CEST
END:DAYLIGHT
BEGIN:DAYLIGHT
DTSTART:20250330T030000
RDATE:20251026T020000
TZOFFSETFROM:+0100
TZOFFSETTO:+0200
TZNAME:Europe/Berlin CEST
END:DAYLIGHT
END:VTIMEZONE
BEGIN:VEVENT
UID:787c8216cc88d22be2fc6d8485638ea3
CATEGORIES:Veranstaltungen
CREATED:20230215T120129
SUMMARY:Mitgliederversammlung
DESCRIPTION:Zu unserer ordentlichen Mitglieder-Versammlung am Samstag, den 18. März 20
 23 haben alle Mitglieder die Einladung erhalten.\nDer Vorstand freut sich a
 uf zahlreiches Erscheinen und aktive Beteiligung.\nBTC WISTA Vorstand, 03.0
 3.2021\n \nLiebes Mitglied,\ngemäß unserer Vereinsatzung laden wir Dich her
 zlich zur ordentlichen\nMITGLIEDERVERSAMMLUNG 2023\ndes BTC WISTA e.V.\nam 
 Samstag, den 18. März 2023 um 10:00 Uhr\nin unser Clubhaus Wilhelm-Ostwald-
 Str. 4, 12489 Berlin ein.\nTagesordnung:\n\n - Eröffnung und Feststellung d
 er Anwesenheit\n - Genehmigung des Protokolls der ordentlichen MV vom 26.03
 .2022\n - Bericht des Vorstandes\n - Jahresabschluss 2022\n - Bericht der R
 evisoren\n - Entlastung des Vorstandes\n - Haushaltsvorschlag für das Gesch
 äftsjahr 2023\n - Satzungsänderungen, Anträge, Bekanntgabe und Abstimmung\n
  - VerschiedenesIn KW 11 werden wir Vorab- Informationen zu den Tagesordnun
 gspunkten Jahresabschluss 2022, Haushaltsvorschlag 2023 und Sportbetrieb 20
 23 verteilen.\nDamit möchten wir einen zeitlich optimierten Ablauf der MV e
 rmöglichen.\nMit sportlichen Grüßen,\ngez. Lothar Schmidt \nVorsitzender\n
X-ALT-DESC;FMTTYPE=text/html:<p><span style="color: inherit; font-family: inherit; font-size: 1rem; back
 ground-color: inherit;">Zu unserer ordentlichen </span><strong style="color
 : inherit; font-family: inherit; font-size: 1rem;">Mitglieder-Versammlung a
 m Samstag, den 18. März 2023</strong><span style="color: inherit; font-fam
 ily: inherit; font-size: 1rem; background-color: inherit;">&nbsp;haben alle
  Mitglieder die Einladung erhalten.</span></p><p>Der Vorstand freut sich au
 f zahlreiches Erscheinen und aktive Beteiligung.</p><p>BTC WISTA Vorstand, 
 03.03.2021</p><hr /><p>&nbsp;</p><p>Liebes Mitglied,</p><p>gemäß unserer Ve
 reinsatzung laden wir Dich herzlich zur ordentlichen</p><p style="text-alig
 n: center;"><strong>MITGLIEDERVERSAMMLUNG 2023</strong><br /><strong>des BT
 C WISTA e.V.</strong><br /><strong>am&nbsp;Samstag, den 18. März 2023<stron
 g style="color: inherit; font-family: inherit; font-size: 1rem;">&nbsp;um 1
 0:00 Uhr</strong></strong></p><p>in unser Clubhaus Wilhelm-Ostwald-Str. 4, 
 12489 Berlin ein.</p><p><strong>Tagesordnung:</strong></p><ol><li>Eröffnung
  und Feststellung der Anwesenheit</li><li>Genehmigung des Protokolls der or
 dentlichen MV vom 26.03.2022<span style="color: inherit; font-family: inher
 it; font-size: 1rem; background-color: inherit;"></span></li><li>Bericht de
 s Vorstandes</li><li>Jahresabschluss 2022</li><li>Bericht der Revisoren</li
 ><li>Entlastung des Vorstandes</li><li>Haushaltsvorschlag für das Geschäfts
 jahr 2023</li><li>Satzungsänderungen, Anträge, Bekanntgabe und Abstimmung</
 li><li>Verschiedenes</li></ol><p>In KW 11 werden wir Vorab- Informationen z
 u den Tagesordnungspunkten Jahresabschluss 2022, Haushaltsvorschlag 2023 un
 d Sportbetrieb 2023 verteilen.<br />Damit möchten wir einen zeitlich optimi
 erten Ablauf der MV ermöglichen.</p><p>Mit sportlichen Grüßen,</p><p>gez. L
 othar Schmidt&nbsp;<br />Vorsitzender</p>
DTSTAMP:20260424T120154
DTSTART;TZID=Europe/Berlin:20230318T100000
DTEND;TZID=Europe/Berlin:20230318T130000
SEQUENCE:0
TRANSP:OPAQUE
END:VEVENT
END:VCALENDAR