BEGIN:VCALENDAR
VERSION:2.0
PRODID:-//jEvents 2.0 for Joomla//EN
CALSCALE:GREGORIAN
METHOD:PUBLISH
BEGIN:VTIMEZONE
TZID:Europe/Berlin
BEGIN:STANDARD
DTSTART:20220219T180000
RDATE:20220327T030000
TZOFFSETFROM:+0200
TZOFFSETTO:+0100
TZNAME:Europe/Berlin CET
END:STANDARD
BEGIN:STANDARD
DTSTART:20221030T020000
RDATE:20230326T030000
TZOFFSETFROM:+0200
TZOFFSETTO:+0100
TZNAME:Europe/Berlin CET
END:STANDARD
BEGIN:STANDARD
DTSTART:20231029T020000
RDATE:20240331T030000
TZOFFSETFROM:+0200
TZOFFSETTO:+0100
TZNAME:Europe/Berlin CET
END:STANDARD
BEGIN:STANDARD
DTSTART:20241027T020000
RDATE:20250330T030000
TZOFFSETFROM:+0200
TZOFFSETTO:+0100
TZNAME:Europe/Berlin CET
END:STANDARD
BEGIN:STANDARD
DTSTART:20251026T020000
RDATE:20260329T030000
TZOFFSETFROM:+0200
TZOFFSETTO:+0100
TZNAME:Europe/Berlin CET
END:STANDARD
BEGIN:DAYLIGHT
DTSTART:20220327T030000
RDATE:20221030T020000
TZOFFSETFROM:+0100
TZOFFSETTO:+0200
TZNAME:Europe/Berlin CEST
END:DAYLIGHT
BEGIN:DAYLIGHT
DTSTART:20230326T030000
RDATE:20231029T020000
TZOFFSETFROM:+0100
TZOFFSETTO:+0200
TZNAME:Europe/Berlin CEST
END:DAYLIGHT
BEGIN:DAYLIGHT
DTSTART:20240331T030000
RDATE:20241027T020000
TZOFFSETFROM:+0100
TZOFFSETTO:+0200
TZNAME:Europe/Berlin CEST
END:DAYLIGHT
BEGIN:DAYLIGHT
DTSTART:20250330T030000
RDATE:20251026T020000
TZOFFSETFROM:+0100
TZOFFSETTO:+0200
TZNAME:Europe/Berlin CEST
END:DAYLIGHT
END:VTIMEZONE
BEGIN:VEVENT
UID:90c0d46ab2d85e05d127af6058c1ced7
CATEGORIES:Veranstaltungen
CREATED:20230220T134904
SUMMARY:Vorstandssitzung (Videokonferenz)
DESCRIPTION:Interne Besprechung des Vorstandes und ggf. der Beiräte.\nAlle Vereinsmitgl
 ieder haben zu Beginn jeder Vorstandssitzung Gelegenheit, ihre Anregungen o
 der Sorgen direkt und persönlich vorzutragen, gerne auch vorab per E-Mail a
 n: Diese E-Mail-Adresse ist vor Spambots geschützt! Zur Anzeige muss JavaSc
 ript eingeschaltet sein!
				document.getElementById('cloake087045c3a2c8e21
 77299684bd445063').innerHTML = '';
				var prefix = '&#109;a' + 'i&#108;' +
  '&#116;o';
				var path = 'hr' + 'ef' + '=';
				var addye087045c3a2c8e217
 7299684bd445063 = '&#105;nf&#111;' + '&#64;';
				addye087045c3a2c8e2177299
 684bd445063 = addye087045c3a2c8e2177299684bd445063 + 'btc-w&#105;st&#97;' +
  '&#46;' + 'd&#101;';
				var addy_texte087045c3a2c8e2177299684bd445063 = '
 &#105;nf&#111;' + '&#64;' + 'btc-w&#105;st&#97;' + '&#46;' + 'd&#101;';docu
 ment.getElementById('cloake087045c3a2c8e2177299684bd445063').innerHTML += '
 <a ' + path + '\'' + prefix + ':' + addye087045c3a2c8e2177299684bd445063 + 
 '\'>'+addy_texte087045c3a2c8e2177299684bd445063+'';
		\n
X-ALT-DESC;FMTTYPE=text/html:<p>Interne Besprechung des Vorstandes und ggf. der Beiräte.</p><p>Alle Vere
 insmitglieder haben zu Beginn jeder Vorstandssitzung Gelegenheit, ihre Anre
 gungen oder Sorgen direkt und persönlich vorzutragen, gerne auch vorab per 
 E-Mail an:&nbsp;<span id="cloake087045c3a2c8e2177299684bd445063">Diese E-Ma
 il-Adresse ist vor Spambots geschützt! Zur Anzeige muss JavaScript eingesch
 altet sein!</span><script type='text/javascript'>
				document.getElementBy
 Id('cloake087045c3a2c8e2177299684bd445063').innerHTML = '';
				var prefix 
 = '&#109;a' + 'i&#108;' + '&#116;o';
				var path = 'hr' + 'ef' + '=';
				
 var addye087045c3a2c8e2177299684bd445063 = '&#105;nf&#111;' + '&#64;';
				
 addye087045c3a2c8e2177299684bd445063 = addye087045c3a2c8e2177299684bd445063
  + 'btc-w&#105;st&#97;' + '&#46;' + 'd&#101;';
				var addy_texte087045c3a2
 c8e2177299684bd445063 = '&#105;nf&#111;' + '&#64;' + 'btc-w&#105;st&#97;' +
  '&#46;' + 'd&#101;';document.getElementById('cloake087045c3a2c8e2177299684
 bd445063').innerHTML += '<a ' + path + '\'' + prefix + ':' + addye087045c3a
 2c8e2177299684bd445063 + '\'>'+addy_texte087045c3a2c8e2177299684bd445063+'<
 \/a>';
		</script></p>
DTSTAMP:20260422T042903
DTSTART;TZID=Europe/Berlin:20230220T180000
DTEND;TZID=Europe/Berlin:20230220T200000
SEQUENCE:0
TRANSP:OPAQUE
END:VEVENT
END:VCALENDAR