BEGIN:VCALENDAR
VERSION:2.0
PRODID:-//jEvents 2.0 for Joomla//EN
CALSCALE:GREGORIAN
METHOD:PUBLISH
BEGIN:VTIMEZONE
TZID:Europe/Berlin
BEGIN:STANDARD
DTSTART:20220207T183000
RDATE:20220327T030000
TZOFFSETFROM:+0200
TZOFFSETTO:+0100
TZNAME:Europe/Berlin CET
END:STANDARD
BEGIN:STANDARD
DTSTART:20221030T020000
RDATE:20230326T030000
TZOFFSETFROM:+0200
TZOFFSETTO:+0100
TZNAME:Europe/Berlin CET
END:STANDARD
BEGIN:STANDARD
DTSTART:20231029T020000
RDATE:20240331T030000
TZOFFSETFROM:+0200
TZOFFSETTO:+0100
TZNAME:Europe/Berlin CET
END:STANDARD
BEGIN:STANDARD
DTSTART:20241027T020000
RDATE:20250330T030000
TZOFFSETFROM:+0200
TZOFFSETTO:+0100
TZNAME:Europe/Berlin CET
END:STANDARD
BEGIN:STANDARD
DTSTART:20251026T020000
RDATE:20260329T030000
TZOFFSETFROM:+0200
TZOFFSETTO:+0100
TZNAME:Europe/Berlin CET
END:STANDARD
BEGIN:DAYLIGHT
DTSTART:20220327T030000
RDATE:20221030T020000
TZOFFSETFROM:+0100
TZOFFSETTO:+0200
TZNAME:Europe/Berlin CEST
END:DAYLIGHT
BEGIN:DAYLIGHT
DTSTART:20230326T030000
RDATE:20231029T020000
TZOFFSETFROM:+0100
TZOFFSETTO:+0200
TZNAME:Europe/Berlin CEST
END:DAYLIGHT
BEGIN:DAYLIGHT
DTSTART:20240331T030000
RDATE:20241027T020000
TZOFFSETFROM:+0100
TZOFFSETTO:+0200
TZNAME:Europe/Berlin CEST
END:DAYLIGHT
BEGIN:DAYLIGHT
DTSTART:20250330T030000
RDATE:20251026T020000
TZOFFSETFROM:+0100
TZOFFSETTO:+0200
TZNAME:Europe/Berlin CEST
END:DAYLIGHT
END:VTIMEZONE
BEGIN:VEVENT
UID:bd7088331827f60f4e121902efec42eb
CATEGORIES:Veranstaltungen
CREATED:20230220T135047
SUMMARY:Vorstandssitzung
DESCRIPTION:Interne Besprechung des Vorstandes und ggf. der Beiräte.\nAlle Vereinsmitgl
 ieder haben zu Beginn jeder Vorstandssitzung Gelegenheit, ihre Anregungen o
 der Sorgen direkt und persönlich vorzutragen, gerne auch vorab per E-Mail a
 n: Diese E-Mail-Adresse ist vor Spambots geschützt! Zur Anzeige muss JavaSc
 ript eingeschaltet sein!
				document.getElementById('cloak284101093cb3195c
 8e561786f23ea39a').innerHTML = '';
				var prefix = '&#109;a' + 'i&#108;' +
  '&#116;o';
				var path = 'hr' + 'ef' + '=';
				var addy284101093cb3195c8
 e561786f23ea39a = '&#105;nf&#111;' + '&#64;';
				addy284101093cb3195c8e561
 786f23ea39a = addy284101093cb3195c8e561786f23ea39a + 'btc-w&#105;st&#97;' +
  '&#46;' + 'd&#101;';
				var addy_text284101093cb3195c8e561786f23ea39a = '
 &#105;nf&#111;' + '&#64;' + 'btc-w&#105;st&#97;' + '&#46;' + 'd&#101;';docu
 ment.getElementById('cloak284101093cb3195c8e561786f23ea39a').innerHTML += '
 <a ' + path + '\'' + prefix + ':' + addy284101093cb3195c8e561786f23ea39a + 
 '\'>'+addy_text284101093cb3195c8e561786f23ea39a+'';
		\n
X-ALT-DESC;FMTTYPE=text/html:<p>Interne Besprechung des Vorstandes und ggf. der Beiräte.</p><p>Alle Vere
 insmitglieder haben zu Beginn jeder Vorstandssitzung Gelegenheit, ihre Anre
 gungen oder Sorgen direkt und persönlich vorzutragen, gerne auch vorab per 
 E-Mail an:&nbsp;<span id="cloak284101093cb3195c8e561786f23ea39a">Diese E-Ma
 il-Adresse ist vor Spambots geschützt! Zur Anzeige muss JavaScript eingesch
 altet sein!</span><script type='text/javascript'>
				document.getElementBy
 Id('cloak284101093cb3195c8e561786f23ea39a').innerHTML = '';
				var prefix 
 = '&#109;a' + 'i&#108;' + '&#116;o';
				var path = 'hr' + 'ef' + '=';
				
 var addy284101093cb3195c8e561786f23ea39a = '&#105;nf&#111;' + '&#64;';
				
 addy284101093cb3195c8e561786f23ea39a = addy284101093cb3195c8e561786f23ea39a
  + 'btc-w&#105;st&#97;' + '&#46;' + 'd&#101;';
				var addy_text284101093cb
 3195c8e561786f23ea39a = '&#105;nf&#111;' + '&#64;' + 'btc-w&#105;st&#97;' +
  '&#46;' + 'd&#101;';document.getElementById('cloak284101093cb3195c8e561786
 f23ea39a').innerHTML += '<a ' + path + '\'' + prefix + ':' + addy284101093c
 b3195c8e561786f23ea39a + '\'>'+addy_text284101093cb3195c8e561786f23ea39a+'<
 \/a>';
		</script></p>
DTSTAMP:20260424T080239
DTSTART;TZID=Europe/Berlin:20230208T183000
DTEND;TZID=Europe/Berlin:20230208T213000
SEQUENCE:0
TRANSP:OPAQUE
END:VEVENT
END:VCALENDAR