BEGIN:VCALENDAR
VERSION:2.0
PRODID:-//jEvents 2.0 for Joomla//EN
CALSCALE:GREGORIAN
METHOD:PUBLISH
BEGIN:VTIMEZONE
TZID:Europe/Berlin
BEGIN:STANDARD
DTSTART:20221030T020000
RDATE:20230326T030000
TZOFFSETFROM:+0200
TZOFFSETTO:+0100
TZNAME:Europe/Berlin CET
END:STANDARD
BEGIN:STANDARD
DTSTART:20231029T020000
RDATE:20240331T030000
TZOFFSETFROM:+0200
TZOFFSETTO:+0100
TZNAME:Europe/Berlin CET
END:STANDARD
BEGIN:STANDARD
DTSTART:20241027T020000
RDATE:20250330T030000
TZOFFSETFROM:+0200
TZOFFSETTO:+0100
TZNAME:Europe/Berlin CET
END:STANDARD
BEGIN:STANDARD
DTSTART:20251026T020000
RDATE:20260329T030000
TZOFFSETFROM:+0200
TZOFFSETTO:+0100
TZNAME:Europe/Berlin CET
END:STANDARD
BEGIN:DAYLIGHT
DTSTART:20220429T110000
RDATE:20221030T020000
TZOFFSETFROM:+0100
TZOFFSETTO:+0200
TZNAME:Europe/Berlin CEST
END:DAYLIGHT
BEGIN:DAYLIGHT
DTSTART:20230326T030000
RDATE:20231029T020000
TZOFFSETFROM:+0100
TZOFFSETTO:+0200
TZNAME:Europe/Berlin CEST
END:DAYLIGHT
BEGIN:DAYLIGHT
DTSTART:20240331T030000
RDATE:20241027T020000
TZOFFSETFROM:+0100
TZOFFSETTO:+0200
TZNAME:Europe/Berlin CEST
END:DAYLIGHT
BEGIN:DAYLIGHT
DTSTART:20250330T030000
RDATE:20251026T020000
TZOFFSETFROM:+0100
TZOFFSETTO:+0200
TZNAME:Europe/Berlin CEST
END:DAYLIGHT
END:VTIMEZONE
BEGIN:VEVENT
UID:893c2bbb152895a4a15322b8002c0203
CATEGORIES:Veranstaltungen
CREATED:20230412T094647
SUMMARY:Schleifchenturnier zur Saisoneröffnung für alle Mitglieder
DESCRIPTION:Liebe Mitglieder,am Sonntag, den 30. April 2023 findet ab 11:00 Uhr unser S
 chleifchenturnier zur Saisoneröffnung stattNach der Siegerehrung ca. 15:00 
 Uhr lassen wir die Veranstaltung auf unserer Clubterrasse gemütlich ausklin
 gen. \n\nFür die Neueren unter uns: ein Schleifchenturnier ist sowohl für „
 alte Hasen“ als auch für Neumitglieder und solche, die noch nicht so lange 
 oder gut Tennis spielen, interessant. Hier einige Hintergrund-Infos zu dies
 er Turnierform:  (http://www.btc-wista.de/clubleben/turniere#schleifchentur
 niere)http://www.btc-wista.de/clubleben/turniere#schleifchenturniere\n\n (h
 ttp://www.btc-wista.de/clubleben/turniere#schleifchenturniere)Die Doppel-Pa
 arungen werden wie immer für jede Runde neu ausgelost. Die Anzahl der gespi
 elten Runden wird ad hoc anhand der Teilnehmerzahl festgelegt. Für die Teil
 nahme reicht ein pünktliches Erscheinen ohne vorherige Anmeldung und die Za
 hlung von 5,- € pro Person für Bälle und Preise.\n\nWir freuen uns auf Eure
  Teilnahme!\nSportliche Grüße,\nReinald Faß und der gesamte Vorstand des BT
 C WISTAP.S.: Hier zwei Fotogalerien von früheren Schleifchenturnieren:Schle
 ifchenturnier und Saisoneröffnung April 2019 (clubleben/fotogalerie/34-foto
 galerie-news/230-saisoneroeffnung-und-deutschland-spielt-tennis-fotogalerie
 )Pfingst-Schleifchenturnier 2017 (clubleben/fotogalerie/34-fotogalerie-news
 /147-pfingst-schleifchenturnier-5-6-2017-fotogalerie)
X-ALT-DESC;FMTTYPE=text/html:<div class="">Liebe Mitglieder,</div><div class=""><br class="" /></div><di
 v class="" style="text-align: center;"><b class=""><span style="color: #ff2
 600;">am Sonntag, den 30. April 2023 findet&nbsp;</span></b></div><div clas
 s="" style="text-align: center;"><b class=""><span style="color: #ff2600;">
 ab 11:00 Uhr&nbsp;</span></b><b class=""><span style="color: #ff2600;">unse
 r Schleifchenturnier zur Saisoneröffnung statt</span></b></div><div class="
 "><br class="" /></div><div><p>Nach der Siegerehrung ca. 15:00 Uhr lassen w
 ir die Veranstaltung auf unserer Clubterrasse gemütlich ausklingen.&nbsp;<b
 r /><br />Für die Neueren unter uns: ein Schleifchenturnier ist sowohl für 
 „alte Hasen“ als&nbsp;<b class="">auch für Neumitglieder und solche, die no
 ch nicht so lange oder gut Tennis spielen</b>, interessant. Hier einige Hin
 tergrund-Infos zu dieser Turnierform:&nbsp;<a href="http://www.btc-wista.de
 /clubleben/turniere#schleifchenturniere" class=""></a><a href="http://www.b
 tc-wista.de/clubleben/turniere#schleifchenturniere">http://www.btc-wista.de
 /clubleben/turniere#schleifchenturniere<br /><br /></a>Die Doppel-Paarungen
  werden wie immer für jede Runde neu ausgelost. Die Anzahl der gespielten R
 unden wird ad hoc anhand der Teilnehmerzahl festgelegt. Für die&nbsp;Teilna
 hme reicht ein pünktliches Erscheinen ohne vorherige Anmeldung und die Zahl
 ung von 5,- € pro Person für Bälle und Preise.<br /><br />Wir freuen uns au
 f Eure Teilnahme!</p></div><div class=""><div class="">Sportliche Grüße,<br
  /><div class=""><div class=""><div class=""><div class="">Reinald Faß und 
 der gesamte Vorstand des BTC WISTA</div><div class=""><br class="" /></div>
 <div class="">P.S.: Hier zwei Fotogalerien von früheren Schleifchenturniere
 n:</div><div class=""><a href="https://www.btc-wista.de/clubleben/fotogaler
 ie/34-fotogalerie-news/230-saisoneroeffnung-und-deutschland-spielt-tennis-f
 otogalerie" class="">Schleifchenturnier und Saisoneröffnung April 2019</a><
 /div><div class=""><a href="https://www.btc-wista.de/clubleben/fotogalerie/
 34-fotogalerie-news/147-pfingst-schleifchenturnier-5-6-2017-fotogalerie" cl
 ass="">Pfingst-Schleifchenturnier 2017</a></div></div></div></div></div></d
 iv>
DTSTAMP:20260421T203433
DTSTART;TZID=Europe/Berlin:20230430T110000
SEQUENCE:0
TRANSP:OPAQUE
END:VEVENT
END:VCALENDAR