BEGIN:VCALENDAR
VERSION:2.0
PRODID:-//jEvents 2.0 for Joomla//EN
CALSCALE:GREGORIAN
METHOD:PUBLISH
BEGIN:VTIMEZONE
TZID:Europe/Berlin
BEGIN:STANDARD
DTSTART:20170309T110000
RDATE:20170326T030000
TZOFFSETFROM:+0200
TZOFFSETTO:+0100
TZNAME:Europe/Berlin CET
END:STANDARD
BEGIN:STANDARD
DTSTART:20171029T020000
RDATE:20180325T030000
TZOFFSETFROM:+0200
TZOFFSETTO:+0100
TZNAME:Europe/Berlin CET
END:STANDARD
BEGIN:STANDARD
DTSTART:20181028T020000
RDATE:20190331T030000
TZOFFSETFROM:+0200
TZOFFSETTO:+0100
TZNAME:Europe/Berlin CET
END:STANDARD
BEGIN:STANDARD
DTSTART:20191027T020000
RDATE:20200329T030000
TZOFFSETFROM:+0200
TZOFFSETTO:+0100
TZNAME:Europe/Berlin CET
END:STANDARD
BEGIN:STANDARD
DTSTART:20201025T020000
RDATE:20210328T030000
TZOFFSETFROM:+0200
TZOFFSETTO:+0100
TZNAME:Europe/Berlin CET
END:STANDARD
BEGIN:STANDARD
DTSTART:20211031T020000
RDATE:20220327T030000
TZOFFSETFROM:+0200
TZOFFSETTO:+0100
TZNAME:Europe/Berlin CET
END:STANDARD
BEGIN:STANDARD
DTSTART:20221030T020000
RDATE:20230326T030000
TZOFFSETFROM:+0200
TZOFFSETTO:+0100
TZNAME:Europe/Berlin CET
END:STANDARD
BEGIN:STANDARD
DTSTART:20231029T020000
RDATE:20240331T030000
TZOFFSETFROM:+0200
TZOFFSETTO:+0100
TZNAME:Europe/Berlin CET
END:STANDARD
BEGIN:STANDARD
DTSTART:20241027T020000
RDATE:20250330T030000
TZOFFSETFROM:+0200
TZOFFSETTO:+0100
TZNAME:Europe/Berlin CET
END:STANDARD
BEGIN:STANDARD
DTSTART:20251026T020000
RDATE:20260329T030000
TZOFFSETFROM:+0200
TZOFFSETTO:+0100
TZNAME:Europe/Berlin CET
END:STANDARD
BEGIN:DAYLIGHT
DTSTART:20170326T030000
RDATE:20171029T020000
TZOFFSETFROM:+0100
TZOFFSETTO:+0200
TZNAME:Europe/Berlin CEST
END:DAYLIGHT
BEGIN:DAYLIGHT
DTSTART:20180325T030000
RDATE:20181028T020000
TZOFFSETFROM:+0100
TZOFFSETTO:+0200
TZNAME:Europe/Berlin CEST
END:DAYLIGHT
BEGIN:DAYLIGHT
DTSTART:20190331T030000
RDATE:20191027T020000
TZOFFSETFROM:+0100
TZOFFSETTO:+0200
TZNAME:Europe/Berlin CEST
END:DAYLIGHT
BEGIN:DAYLIGHT
DTSTART:20200329T030000
RDATE:20201025T020000
TZOFFSETFROM:+0100
TZOFFSETTO:+0200
TZNAME:Europe/Berlin CEST
END:DAYLIGHT
BEGIN:DAYLIGHT
DTSTART:20210328T030000
RDATE:20211031T020000
TZOFFSETFROM:+0100
TZOFFSETTO:+0200
TZNAME:Europe/Berlin CEST
END:DAYLIGHT
BEGIN:DAYLIGHT
DTSTART:20220327T030000
RDATE:20221030T020000
TZOFFSETFROM:+0100
TZOFFSETTO:+0200
TZNAME:Europe/Berlin CEST
END:DAYLIGHT
BEGIN:DAYLIGHT
DTSTART:20230326T030000
RDATE:20231029T020000
TZOFFSETFROM:+0100
TZOFFSETTO:+0200
TZNAME:Europe/Berlin CEST
END:DAYLIGHT
BEGIN:DAYLIGHT
DTSTART:20240331T030000
RDATE:20241027T020000
TZOFFSETFROM:+0100
TZOFFSETTO:+0200
TZNAME:Europe/Berlin CEST
END:DAYLIGHT
BEGIN:DAYLIGHT
DTSTART:20250330T030000
RDATE:20251026T020000
TZOFFSETFROM:+0100
TZOFFSETTO:+0200
TZNAME:Europe/Berlin CEST
END:DAYLIGHT
END:VTIMEZONE
BEGIN:VEVENT
UID:458e62dbb64fdbe70f436d1434ccb452
CATEGORIES:Arbeitseinsätze
CREATED:20180228T125402
SUMMARY:Arbeitseinsatz
DESCRIPTION:Geplant sind diverse Gelände- und Außenarbeiten, Anmeldung dazu durch Rückm
 ail oder Eintrag in die aushängende Liste im Clubhaus-Eingangsbereich.\nAnm
 eldung wie immer über die aushängende Liste im Clubhaus-Eingangsbereich ode
 r E-Mail an Diese E-Mail-Adresse ist vor Spambots geschützt! Zur Anzeige mu
 ss JavaScript eingeschaltet sein!
				document.getElementById('cloakda04e11
 2812be17d350175d8473813e9').innerHTML = '';
				var prefix = '&#109;a' + 'i
 &#108;' + '&#116;o';
				var path = 'hr' + 'ef' + '=';
				var addyda04e112
 812be17d350175d8473813e9 = '&#105;nf&#111;' + '&#64;';
				addyda04e112812b
 e17d350175d8473813e9 = addyda04e112812be17d350175d8473813e9 + 'btc-w&#105;s
 t&#97;' + '&#46;' + 'd&#101;';
				var addy_textda04e112812be17d350175d8473
 813e9 = '&#105;nf&#111;' + '&#64;' + 'btc-w&#105;st&#97;' + '&#46;' + 'd&#1
 01;';document.getElementById('cloakda04e112812be17d350175d8473813e9').inner
 HTML += '<a ' + path + '\'' + prefix + ':' + addyda04e112812be17d350175d847
 3813e9 + '\'>'+addy_textda04e112812be17d350175d8473813e9+'';
		.\n
X-ALT-DESC;FMTTYPE=text/html:<p>Geplant sind diverse Gelände- und Außenarbeiten, Anmeldung dazu durch Rü
 ckmail oder Eintrag in die aushängende Liste im Clubhaus-Eingangsbereich.</
 p><p>Anmeldung wie immer über die aushängende Liste im Clubhaus-Eingangsber
 eich&nbsp;oder E-Mail an <span id="cloakda04e112812be17d350175d8473813e9">D
 iese E-Mail-Adresse ist vor Spambots geschützt! Zur Anzeige muss JavaScript
  eingeschaltet sein!</span><script type='text/javascript'>
				document.get
 ElementById('cloakda04e112812be17d350175d8473813e9').innerHTML = '';
				va
 r prefix = '&#109;a' + 'i&#108;' + '&#116;o';
				var path = 'hr' + 'ef' + 
 '=';
				var addyda04e112812be17d350175d8473813e9 = '&#105;nf&#111;' + '&#6
 4;';
				addyda04e112812be17d350175d8473813e9 = addyda04e112812be17d350175d
 8473813e9 + 'btc-w&#105;st&#97;' + '&#46;' + 'd&#101;';
				var addy_textda
 04e112812be17d350175d8473813e9 = '&#105;nf&#111;' + '&#64;' + 'btc-w&#105;s
 t&#97;' + '&#46;' + 'd&#101;';document.getElementById('cloakda04e112812be17
 d350175d8473813e9').innerHTML += '<a ' + path + '\'' + prefix + ':' + addyd
 a04e112812be17d350175d8473813e9 + '\'>'+addy_textda04e112812be17d350175d847
 3813e9+'<\/a>';
		</script>.</p>
DTSTAMP:20260422T114230
DTSTART;TZID=Europe/Berlin:20180310T110000
DTEND;TZID=Europe/Berlin:20180310T150000
SEQUENCE:0
TRANSP:OPAQUE
END:VEVENT
END:VCALENDAR