BEGIN:VCALENDAR
VERSION:2.0
PRODID:-//jEvents 2.0 for Joomla//EN
CALSCALE:GREGORIAN
METHOD:PUBLISH
BEGIN:VTIMEZONE
TZID:Europe/Berlin
BEGIN:STANDARD
DTSTART:20171029T020000
RDATE:20180325T030000
TZOFFSETFROM:+0200
TZOFFSETTO:+0100
TZNAME:Europe/Berlin CET
END:STANDARD
BEGIN:STANDARD
DTSTART:20181028T020000
RDATE:20190331T030000
TZOFFSETFROM:+0200
TZOFFSETTO:+0100
TZNAME:Europe/Berlin CET
END:STANDARD
BEGIN:STANDARD
DTSTART:20191027T020000
RDATE:20200329T030000
TZOFFSETFROM:+0200
TZOFFSETTO:+0100
TZNAME:Europe/Berlin CET
END:STANDARD
BEGIN:STANDARD
DTSTART:20201025T020000
RDATE:20210328T030000
TZOFFSETFROM:+0200
TZOFFSETTO:+0100
TZNAME:Europe/Berlin CET
END:STANDARD
BEGIN:STANDARD
DTSTART:20211031T020000
RDATE:20220327T030000
TZOFFSETFROM:+0200
TZOFFSETTO:+0100
TZNAME:Europe/Berlin CET
END:STANDARD
BEGIN:STANDARD
DTSTART:20221030T020000
RDATE:20230326T030000
TZOFFSETFROM:+0200
TZOFFSETTO:+0100
TZNAME:Europe/Berlin CET
END:STANDARD
BEGIN:STANDARD
DTSTART:20231029T020000
RDATE:20240331T030000
TZOFFSETFROM:+0200
TZOFFSETTO:+0100
TZNAME:Europe/Berlin CET
END:STANDARD
BEGIN:STANDARD
DTSTART:20241027T020000
RDATE:20250330T030000
TZOFFSETFROM:+0200
TZOFFSETTO:+0100
TZNAME:Europe/Berlin CET
END:STANDARD
BEGIN:STANDARD
DTSTART:20251026T020000
RDATE:20260329T030000
TZOFFSETFROM:+0200
TZOFFSETTO:+0100
TZNAME:Europe/Berlin CET
END:STANDARD
BEGIN:DAYLIGHT
DTSTART:20171019T100000
RDATE:20171029T020000
TZOFFSETFROM:+0100
TZOFFSETTO:+0200
TZNAME:Europe/Berlin CEST
END:DAYLIGHT
BEGIN:DAYLIGHT
DTSTART:20180325T030000
RDATE:20181028T020000
TZOFFSETFROM:+0100
TZOFFSETTO:+0200
TZNAME:Europe/Berlin CEST
END:DAYLIGHT
BEGIN:DAYLIGHT
DTSTART:20190331T030000
RDATE:20191027T020000
TZOFFSETFROM:+0100
TZOFFSETTO:+0200
TZNAME:Europe/Berlin CEST
END:DAYLIGHT
BEGIN:DAYLIGHT
DTSTART:20200329T030000
RDATE:20201025T020000
TZOFFSETFROM:+0100
TZOFFSETTO:+0200
TZNAME:Europe/Berlin CEST
END:DAYLIGHT
BEGIN:DAYLIGHT
DTSTART:20210328T030000
RDATE:20211031T020000
TZOFFSETFROM:+0100
TZOFFSETTO:+0200
TZNAME:Europe/Berlin CEST
END:DAYLIGHT
BEGIN:DAYLIGHT
DTSTART:20220327T030000
RDATE:20221030T020000
TZOFFSETFROM:+0100
TZOFFSETTO:+0200
TZNAME:Europe/Berlin CEST
END:DAYLIGHT
BEGIN:DAYLIGHT
DTSTART:20230326T030000
RDATE:20231029T020000
TZOFFSETFROM:+0100
TZOFFSETTO:+0200
TZNAME:Europe/Berlin CEST
END:DAYLIGHT
BEGIN:DAYLIGHT
DTSTART:20240331T030000
RDATE:20241027T020000
TZOFFSETFROM:+0100
TZOFFSETTO:+0200
TZNAME:Europe/Berlin CEST
END:DAYLIGHT
BEGIN:DAYLIGHT
DTSTART:20250330T030000
RDATE:20251026T020000
TZOFFSETFROM:+0100
TZOFFSETTO:+0200
TZNAME:Europe/Berlin CEST
END:DAYLIGHT
END:VTIMEZONE
BEGIN:VEVENT
UID:e94b399e1aea685cf991efdf7f82d727
CATEGORIES:Arbeitseinsätze
CREATED:20180309T182915
SUMMARY:Arbeitseinsatz
DESCRIPTION:Anmeldung wie immer über die aushängende Liste im Clubhaus-Eingangsbereich 
 oder E-Mail an Diese E-Mail-Adresse ist vor Spambots geschützt! Zur Anzeige
  muss JavaScript eingeschaltet sein!
				document.getElementById('cloaka289
 f2df013f8b30c58db16fdcc55d7e').innerHTML = '';
				var prefix = '&amp;#109;
 a' + 'i&amp;#108;' + '&amp;#116;o';
				var path = 'hr' + 'ef' + '=';
				v
 ar addya289f2df013f8b30c58db16fdcc55d7e = '&amp;#105;nf&amp;#111;' + '&amp;
 #64;';
				addya289f2df013f8b30c58db16fdcc55d7e = addya289f2df013f8b30c58db
 16fdcc55d7e + 'btc-w&amp;#105;st&amp;#97;' + '&amp;#46;' + 'd&amp;#101;';
	
 			var addy_texta289f2df013f8b30c58db16fdcc55d7e = '&amp;#105;nf&amp;#111;'
  + '&amp;#64;' + 'btc-w&amp;#105;st&amp;#97;' + '&amp;#46;' + 'd&amp;#101;'
 ;document.getElementById('cloaka289f2df013f8b30c58db16fdcc55d7e').innerHTML
  += '&lt;a ' + path + '\'' + prefix + ':' + addya289f2df013f8b30c58db16fdcc
 55d7e + '\'&gt;'+addy_texta289f2df013f8b30c58db16fdcc55d7e+'&lt;\/a&gt;';
	
 	. (mailto:info@btc-wista.de.)\n
X-ALT-DESC;FMTTYPE=text/html:<p>Anmeldung wie immer über die aushängende Liste im Clubhaus-Eingangsberei
 ch&nbsp;oder E-Mail an <a href="mailto:info@btc-wista.de."><span id="cloaka
 289f2df013f8b30c58db16fdcc55d7e">Diese E-Mail-Adresse ist vor Spambots gesc
 hützt! Zur Anzeige muss JavaScript eingeschaltet sein!</span><script type='
 text/javascript'>
				document.getElementById('cloaka289f2df013f8b30c58db16
 fdcc55d7e').innerHTML = '';
				var prefix = '&#109;a' + 'i&#108;' + '&#116
 ;o';
				var path = 'hr' + 'ef' + '=';
				var addya289f2df013f8b30c58db16f
 dcc55d7e = '&#105;nf&#111;' + '&#64;';
				addya289f2df013f8b30c58db16fdcc5
 5d7e = addya289f2df013f8b30c58db16fdcc55d7e + 'btc-w&#105;st&#97;' + '&#46;
 ' + 'd&#101;';
				var addy_texta289f2df013f8b30c58db16fdcc55d7e = '&#105;n
 f&#111;' + '&#64;' + 'btc-w&#105;st&#97;' + '&#46;' + 'd&#101;';document.ge
 tElementById('cloaka289f2df013f8b30c58db16fdcc55d7e').innerHTML += '<a ' + 
 path + '\'' + prefix + ':' + addya289f2df013f8b30c58db16fdcc55d7e + '\'>'+a
 ddy_texta289f2df013f8b30c58db16fdcc55d7e+'<\/a>';
		</script>.</a></p>
DTSTAMP:20260424T211816
DTSTART;TZID=Europe/Berlin:20181020T100000
DTEND;TZID=Europe/Berlin:20181020T140000
SEQUENCE:0
TRANSP:OPAQUE
END:VEVENT
END:VCALENDAR