BEGIN:VCALENDAR
VERSION:2.0
PRODID:-//jEvents 2.0 for Joomla//EN
CALSCALE:GREGORIAN
METHOD:PUBLISH
BEGIN:VTIMEZONE
TZID:Europe/Berlin
BEGIN:STANDARD
DTSTART:20171029T020000
RDATE:20180325T030000
TZOFFSETFROM:+0200
TZOFFSETTO:+0100
TZNAME:Europe/Berlin CET
END:STANDARD
BEGIN:STANDARD
DTSTART:20181028T020000
RDATE:20190331T030000
TZOFFSETFROM:+0200
TZOFFSETTO:+0100
TZNAME:Europe/Berlin CET
END:STANDARD
BEGIN:STANDARD
DTSTART:20191027T020000
RDATE:20200329T030000
TZOFFSETFROM:+0200
TZOFFSETTO:+0100
TZNAME:Europe/Berlin CET
END:STANDARD
BEGIN:STANDARD
DTSTART:20201025T020000
RDATE:20210328T030000
TZOFFSETFROM:+0200
TZOFFSETTO:+0100
TZNAME:Europe/Berlin CET
END:STANDARD
BEGIN:STANDARD
DTSTART:20211031T020000
RDATE:20220327T030000
TZOFFSETFROM:+0200
TZOFFSETTO:+0100
TZNAME:Europe/Berlin CET
END:STANDARD
BEGIN:STANDARD
DTSTART:20221030T020000
RDATE:20230326T030000
TZOFFSETFROM:+0200
TZOFFSETTO:+0100
TZNAME:Europe/Berlin CET
END:STANDARD
BEGIN:STANDARD
DTSTART:20231029T020000
RDATE:20240331T030000
TZOFFSETFROM:+0200
TZOFFSETTO:+0100
TZNAME:Europe/Berlin CET
END:STANDARD
BEGIN:STANDARD
DTSTART:20241027T020000
RDATE:20250330T030000
TZOFFSETFROM:+0200
TZOFFSETTO:+0100
TZNAME:Europe/Berlin CET
END:STANDARD
BEGIN:STANDARD
DTSTART:20251026T020000
RDATE:20260329T030000
TZOFFSETFROM:+0200
TZOFFSETTO:+0100
TZNAME:Europe/Berlin CET
END:STANDARD
BEGIN:DAYLIGHT
DTSTART:20170406T140000
RDATE:20171029T020000
TZOFFSETFROM:+0100
TZOFFSETTO:+0200
TZNAME:Europe/Berlin CEST
END:DAYLIGHT
BEGIN:DAYLIGHT
DTSTART:20180325T030000
RDATE:20181028T020000
TZOFFSETFROM:+0100
TZOFFSETTO:+0200
TZNAME:Europe/Berlin CEST
END:DAYLIGHT
BEGIN:DAYLIGHT
DTSTART:20190331T030000
RDATE:20191027T020000
TZOFFSETFROM:+0100
TZOFFSETTO:+0200
TZNAME:Europe/Berlin CEST
END:DAYLIGHT
BEGIN:DAYLIGHT
DTSTART:20200329T030000
RDATE:20201025T020000
TZOFFSETFROM:+0100
TZOFFSETTO:+0200
TZNAME:Europe/Berlin CEST
END:DAYLIGHT
BEGIN:DAYLIGHT
DTSTART:20210328T030000
RDATE:20211031T020000
TZOFFSETFROM:+0100
TZOFFSETTO:+0200
TZNAME:Europe/Berlin CEST
END:DAYLIGHT
BEGIN:DAYLIGHT
DTSTART:20220327T030000
RDATE:20221030T020000
TZOFFSETFROM:+0100
TZOFFSETTO:+0200
TZNAME:Europe/Berlin CEST
END:DAYLIGHT
BEGIN:DAYLIGHT
DTSTART:20230326T030000
RDATE:20231029T020000
TZOFFSETFROM:+0100
TZOFFSETTO:+0200
TZNAME:Europe/Berlin CEST
END:DAYLIGHT
BEGIN:DAYLIGHT
DTSTART:20240331T030000
RDATE:20241027T020000
TZOFFSETFROM:+0100
TZOFFSETTO:+0200
TZNAME:Europe/Berlin CEST
END:DAYLIGHT
BEGIN:DAYLIGHT
DTSTART:20250330T030000
RDATE:20251026T020000
TZOFFSETFROM:+0100
TZOFFSETTO:+0200
TZNAME:Europe/Berlin CEST
END:DAYLIGHT
END:VTIMEZONE
BEGIN:VEVENT
UID:dd335c5ac8f9d4ec32258e8c6a542f25
CATEGORIES:Veranstaltungen
CREATED:20180309T184958
SUMMARY:Newcomer-Event: Training und Jedermann-Schleifchenturnier
DESCRIPTION:Bald findet in unserer Tennishalle wieder ein Newcomer-Event statt, zu dem 
 wir gerne einladen: NEWCOMER - TRAINING \nUND JEDERMANN-SCHLEIFCHENTURNIER\
 nam Samstag 7. April 14:00 Uhr Zielgruppe: Neumitglieder Ü18, die noch nich
 t in einer Mannschaft spielen Ablauf: \n - 14:00 Uhr Treff in unserer Tenni
 shalle\n - bis ca.15:30 Uhr Tennis mit Trainer unserer Tennisakademie auf 2
  Plätzen\n - ab 15:30 Uhr: Jedermann-Schleifchen-Turnier\n - Ende je nach T
 eilnehmerzahl bis ca. 17:00/17:30 Uhr\n - bis 18 Uhr kann die Halle im Ansc
 hluss für freies Spiel genutzt werden Unkostenbeitrag für Training, Halle, 
 Bälle, Preise: 10 EUR Anmeldung: am Besten sofort, spätestens bis Mittwoch 
 4. April per E-Mail Wer es noch nicht kennt: Schleifchenturniere sind eine 
 tolle Gelegenheit andere Mitglieder kennenzulernen, vielleicht den ein oder
  anderen künftigen Spielpartner zu finden, und macht einfach eine Menge Spa
 ss! Beim Schleifchenturnier werden Paare gebildet aus schlechteren und bess
 eren Tennisspielern. So haben auch Tenniseinsteiger mal die Möglichkeit mit
  guten Spielern ein Match zu machen. Die Partner werden nach jeder Runde ne
 u gelost. Ein Spiel geht 15-20 Minuten. Nach jeder Runde erhalten die Gewin
 ner ein Schleifchen, daher eben auch der Name Schleifchenturnier. Weitere I
 nfos dazu hier (clubleben/turniere#schleifchenturniere). Und wer sehen möch
 te, was beim letzten Event so los war.... hier die Fotogalerie vom 10. Febr
 uar (index.php?option=com_content&amp;view=article&amp;id=179:newcomer-trai
 ning-und-schleifchenturnier-10-2-2018-fotogalerie&amp;catid=34). 
X-ALT-DESC;FMTTYPE=text/html:<div>Bald findet in unserer Tennishalle wieder ein Newcomer-Event statt, zu
  dem wir gerne einladen:</div><div>&nbsp;</div><div style="text-align: cent
 er;"><strong>NEWCOMER - TRAINING&nbsp;</strong><br /><strong>UND JEDERMANN-
 SCHLEIFCHENTURNIER</strong><br /><strong>am&nbsp;Samstag 7. April 14:00 Uhr
 </strong></div><div>&nbsp;</div><div>Zielgruppe: Neumitglieder Ü18, die noc
 h nicht in einer Mannschaft spielen</div><div>&nbsp;</div><div>Ablauf:&nbsp
 ;</div><ul><li>14:00 Uhr&nbsp;Treff in unserer Tennishalle</li><li>bis ca.1
 5:30 Uhr Tennis mit Trainer unserer Tennisakademie auf 2 Plätzen</li><li>ab
  15:30 Uhr: Jedermann-Schleifchen-Turnier</li><li>Ende je nach Teilnehmerza
 hl bis ca. 17:00/17:30 Uhr</li><li>bis 18 Uhr kann die Halle im Anschluss f
 ür freies Spiel genutzt werden</li></ul><div>&nbsp;</div><div>Unkostenbeitr
 ag für Training, Halle, Bälle, Preise: 10 EUR</div><div>&nbsp;</div><div>An
 meldung: am Besten sofort, spätestens bis Mittwoch 4. April per E-Mail</div
 ><div>&nbsp;</div><div>Wer es noch nicht kennt: Schleifchenturniere sind ei
 ne tolle Gelegenheit andere Mitglieder kennenzulernen, vielleicht den ein o
 der anderen künftigen Spielpartner zu finden, und macht einfach eine Menge 
 Spass! Beim Schleifchenturnier werden Paare gebildet aus schlechteren und b
 esseren Tennisspielern. So haben auch Tenniseinsteiger mal die Möglichkeit 
 mit guten Spielern ein&nbsp;Match zu machen. Die Partner werden nach jeder 
 Runde neu gelost. Ein Spiel geht 15-20 Minuten. Nach jeder Runde erhalten d
 ie Gewinner ein Schleifchen, daher eben auch&nbsp;der Name Schleifchenturni
 er. Weitere Infos dazu&nbsp;<a href="https://www.btc-wista.de/clubleben/tur
 niere#schleifchenturniere">hier</a>.</div><div>&nbsp;</div><div>Und wer seh
 en möchte, was beim letzten Event so los war.... <a href="https://www.btc-w
 ista.de/index.php?option=com_content&amp;view=article&amp;id=179:newcomer-t
 raining-und-schleifchenturnier-10-2-2018-fotogalerie&amp;catid=34">hier die
  Fotogalerie vom 10. Februar</a>.</div><div>&nbsp;</div>
DTSTAMP:20260422T103010
DTSTART;TZID=Europe/Berlin:20180407T140000
DTEND;TZID=Europe/Berlin:20180407T180000
SEQUENCE:0
TRANSP:OPAQUE
END:VEVENT
END:VCALENDAR