BEGIN:VCALENDAR
VERSION:2.0
PRODID:-//jEvents 2.0 for Joomla//EN
CALSCALE:GREGORIAN
METHOD:PUBLISH
BEGIN:VTIMEZONE
TZID:Europe/Berlin
BEGIN:STANDARD
DTSTART:20171130T170000
RDATE:20180325T030000
TZOFFSETFROM:+0200
TZOFFSETTO:+0100
TZNAME:Europe/Berlin CET
END:STANDARD
BEGIN:STANDARD
DTSTART:20181028T020000
RDATE:20190331T030000
TZOFFSETFROM:+0200
TZOFFSETTO:+0100
TZNAME:Europe/Berlin CET
END:STANDARD
BEGIN:STANDARD
DTSTART:20191027T020000
RDATE:20200329T030000
TZOFFSETFROM:+0200
TZOFFSETTO:+0100
TZNAME:Europe/Berlin CET
END:STANDARD
BEGIN:STANDARD
DTSTART:20201025T020000
RDATE:20210328T030000
TZOFFSETFROM:+0200
TZOFFSETTO:+0100
TZNAME:Europe/Berlin CET
END:STANDARD
BEGIN:STANDARD
DTSTART:20211031T020000
RDATE:20220327T030000
TZOFFSETFROM:+0200
TZOFFSETTO:+0100
TZNAME:Europe/Berlin CET
END:STANDARD
BEGIN:STANDARD
DTSTART:20221030T020000
RDATE:20230326T030000
TZOFFSETFROM:+0200
TZOFFSETTO:+0100
TZNAME:Europe/Berlin CET
END:STANDARD
BEGIN:STANDARD
DTSTART:20231029T020000
RDATE:20240331T030000
TZOFFSETFROM:+0200
TZOFFSETTO:+0100
TZNAME:Europe/Berlin CET
END:STANDARD
BEGIN:STANDARD
DTSTART:20241027T020000
RDATE:20250330T030000
TZOFFSETFROM:+0200
TZOFFSETTO:+0100
TZNAME:Europe/Berlin CET
END:STANDARD
BEGIN:STANDARD
DTSTART:20251026T020000
RDATE:20260329T030000
TZOFFSETFROM:+0200
TZOFFSETTO:+0100
TZNAME:Europe/Berlin CET
END:STANDARD
BEGIN:DAYLIGHT
DTSTART:20180325T030000
RDATE:20181028T020000
TZOFFSETFROM:+0100
TZOFFSETTO:+0200
TZNAME:Europe/Berlin CEST
END:DAYLIGHT
BEGIN:DAYLIGHT
DTSTART:20190331T030000
RDATE:20191027T020000
TZOFFSETFROM:+0100
TZOFFSETTO:+0200
TZNAME:Europe/Berlin CEST
END:DAYLIGHT
BEGIN:DAYLIGHT
DTSTART:20200329T030000
RDATE:20201025T020000
TZOFFSETFROM:+0100
TZOFFSETTO:+0200
TZNAME:Europe/Berlin CEST
END:DAYLIGHT
BEGIN:DAYLIGHT
DTSTART:20210328T030000
RDATE:20211031T020000
TZOFFSETFROM:+0100
TZOFFSETTO:+0200
TZNAME:Europe/Berlin CEST
END:DAYLIGHT
BEGIN:DAYLIGHT
DTSTART:20220327T030000
RDATE:20221030T020000
TZOFFSETFROM:+0100
TZOFFSETTO:+0200
TZNAME:Europe/Berlin CEST
END:DAYLIGHT
BEGIN:DAYLIGHT
DTSTART:20230326T030000
RDATE:20231029T020000
TZOFFSETFROM:+0100
TZOFFSETTO:+0200
TZNAME:Europe/Berlin CEST
END:DAYLIGHT
BEGIN:DAYLIGHT
DTSTART:20240331T030000
RDATE:20241027T020000
TZOFFSETFROM:+0100
TZOFFSETTO:+0200
TZNAME:Europe/Berlin CEST
END:DAYLIGHT
BEGIN:DAYLIGHT
DTSTART:20250330T030000
RDATE:20251026T020000
TZOFFSETFROM:+0100
TZOFFSETTO:+0200
TZNAME:Europe/Berlin CEST
END:DAYLIGHT
END:VTIMEZONE
BEGIN:VEVENT
UID:5d51b3de922e6cf5e87d4c5d6b5bed65
CATEGORIES:Veranstaltungen
CREATED:20181111T100130
SUMMARY:Jugend-Weihnachtsfeier & Bowling
DESCRIPTION:Liebe Kinder und Jugendliche des BTC WISTA,\n\nalle Jahre wieder kommt nich
 t nur der Weihnachtsmann, sondern lassen die jüngsten WISTAs ihr Tennisjahr
  gemeinsam ausklingen.\nDazu laden wir Euch dieses Mal ein am\n1. Dezember 
 2018 von 17.00 bis 19:00 Uhr\nzum Weihnachtsbowling im Tower Bowl, Köpenick
 er Straße 11, 12524\nDies ist auch unser Treffpunkt!\nGegen 19.30 Uhr werde
 n wir zurück im Verein sein und gemeinsam mit den „großen“ WISTAs weiter fe
 iern. Für Essen und Getränke ist gesorgt. Für Euch ist sowohl das Bowlen al
 s auch die anschließende Weihnachtsfeier kostenlos. Gerne können Eure Elter
 n und Großeltern Karten für die Weihnachtsfeier erwerben und mit von der Pa
 rtie sein.\nAnmeldung bitte bis zum 23. November per E-Mail an Diese E-Mail
 -Adresse ist vor Spambots geschützt! Zur Anzeige muss JavaScript eingeschal
 tet sein!
				document.getElementById('cloak1effa94a09a490f7ae336c1768f9252
 9').innerHTML = '';
				var prefix = '&#109;a' + 'i&#108;' + '&#116;o';
			
 	var path = 'hr' + 'ef' + '=';
				var addy1effa94a09a490f7ae336c1768f92529
  = 'j&#117;g&#101;ndb&#101;&#105;r&#97;t' + '&#64;';
				addy1effa94a09a490
 f7ae336c1768f92529 = addy1effa94a09a490f7ae336c1768f92529 + 'btc-w&#105;st&
 #97;' + '&#46;' + 'd&#101;';
				var addy_text1effa94a09a490f7ae336c1768f92
 529 = 'j&#117;g&#101;ndb&#101;&#105;r&#97;t' + '&#64;' + 'btc-w&#105;st&#97
 ;' + '&#46;' + 'd&#101;';document.getElementById('cloak1effa94a09a490f7ae33
 6c1768f92529').innerHTML += '<a ' + path + '\'' + prefix + ':' + addy1effa9
 4a09a490f7ae336c1768f92529 + '\'>'+addy_text1effa94a09a490f7ae336c1768f9252
 9+'';
		 oder per Telefon/SMS/Whatsapp bei Lars Mischak unter Tel.: 0160-95
 058785. \nMit sportlichen Grüßen,\nEuer Jugendbeirat\nHenning Lehmbäcker un
 d Lars Mischak\n
X-ALT-DESC;FMTTYPE=text/html:<p><strong><strong>Liebe Kinder und Jugendliche des BTC WISTA,</strong><br 
 /></strong></p><p>alle Jahre wieder kommt nicht nur der Weihnachtsmann, son
 dern lassen die jüngsten WISTAs ihr Tennisjahr gemeinsam ausklingen.</p><p>
 Dazu laden wir Euch dieses Mal ein am</p><p style="text-align: center;"><sp
 an style="color: #ff6600;"><strong>1. Dezember 2018 von 17.00 bis 19:00 Uhr
 <br /></strong>zum Weihnachtsbowling im <strong>Tower Bowl</strong>, Köpeni
 cker Straße 11, 12524</span></p><p><span style="text-decoration: underline;
 ">Dies ist&nbsp;auch unser Treffpunkt!</span></p><p>Gegen 19.30 Uhr werden 
 wir zurück im Verein sein und gemeinsam mit den „großen“ WISTAs weiter feie
 rn. Für Essen und Getränke ist gesorgt.&nbsp;Für Euch ist sowohl das Bowlen
  als auch die anschließende Weihnachtsfeier kostenlos. Gerne können Eure El
 tern und Großeltern Karten für die Weihnachtsfeier erwerben und mit von der
  Partie sein.</p><p>Anmeldung bitte bis zum 23. November per E-Mail an <spa
 n id="cloak1effa94a09a490f7ae336c1768f92529">Diese E-Mail-Adresse ist vor S
 pambots geschützt! Zur Anzeige muss JavaScript eingeschaltet sein!</span><s
 cript type='text/javascript'>
				document.getElementById('cloak1effa94a09a
 490f7ae336c1768f92529').innerHTML = '';
				var prefix = '&#109;a' + 'i&#10
 8;' + '&#116;o';
				var path = 'hr' + 'ef' + '=';
				var addy1effa94a09a4
 90f7ae336c1768f92529 = 'j&#117;g&#101;ndb&#101;&#105;r&#97;t' + '&#64;';
		
 		addy1effa94a09a490f7ae336c1768f92529 = addy1effa94a09a490f7ae336c1768f925
 29 + 'btc-w&#105;st&#97;' + '&#46;' + 'd&#101;';
				var addy_text1effa94a0
 9a490f7ae336c1768f92529 = 'j&#117;g&#101;ndb&#101;&#105;r&#97;t' + '&#64;' 
 + 'btc-w&#105;st&#97;' + '&#46;' + 'd&#101;';document.getElementById('cloak
 1effa94a09a490f7ae336c1768f92529').innerHTML += '<a ' + path + '\'' + prefi
 x + ':' + addy1effa94a09a490f7ae336c1768f92529 + '\'>'+addy_text1effa94a09a
 490f7ae336c1768f92529+'<\/a>';
		</script>&nbsp;oder per Telefon/SMS/Whatsa
 pp bei Lars Mischak unter Tel.: 0160-95058785.&nbsp;</p><p>Mit sportlichen 
 Grüßen,<br />Euer&nbsp;Jugendbeirat</p><p><em>Henning Lehmbäcker und Lars M
 ischak</em></p>
DTSTAMP:20260424T223439
DTSTART;TZID=Europe/Berlin:20181201T170000
DTEND;TZID=Europe/Berlin:20181201T190000
SEQUENCE:0
TRANSP:OPAQUE
END:VEVENT
END:VCALENDAR