BEGIN:VCALENDAR
VERSION:2.0
PRODID:-//jEvents 2.0 for Joomla//EN
CALSCALE:GREGORIAN
METHOD:PUBLISH
BEGIN:VTIMEZONE
TZID:Europe/Berlin
BEGIN:STANDARD
DTSTART:20180309T110000
RDATE:20180325T030000
TZOFFSETFROM:+0200
TZOFFSETTO:+0100
TZNAME:Europe/Berlin CET
END:STANDARD
BEGIN:STANDARD
DTSTART:20181028T020000
RDATE:20190331T030000
TZOFFSETFROM:+0200
TZOFFSETTO:+0100
TZNAME:Europe/Berlin CET
END:STANDARD
BEGIN:STANDARD
DTSTART:20191027T020000
RDATE:20200329T030000
TZOFFSETFROM:+0200
TZOFFSETTO:+0100
TZNAME:Europe/Berlin CET
END:STANDARD
BEGIN:STANDARD
DTSTART:20201025T020000
RDATE:20210328T030000
TZOFFSETFROM:+0200
TZOFFSETTO:+0100
TZNAME:Europe/Berlin CET
END:STANDARD
BEGIN:STANDARD
DTSTART:20211031T020000
RDATE:20220327T030000
TZOFFSETFROM:+0200
TZOFFSETTO:+0100
TZNAME:Europe/Berlin CET
END:STANDARD
BEGIN:STANDARD
DTSTART:20221030T020000
RDATE:20230326T030000
TZOFFSETFROM:+0200
TZOFFSETTO:+0100
TZNAME:Europe/Berlin CET
END:STANDARD
BEGIN:STANDARD
DTSTART:20231029T020000
RDATE:20240331T030000
TZOFFSETFROM:+0200
TZOFFSETTO:+0100
TZNAME:Europe/Berlin CET
END:STANDARD
BEGIN:STANDARD
DTSTART:20241027T020000
RDATE:20250330T030000
TZOFFSETFROM:+0200
TZOFFSETTO:+0100
TZNAME:Europe/Berlin CET
END:STANDARD
BEGIN:STANDARD
DTSTART:20251026T020000
RDATE:20260329T030000
TZOFFSETFROM:+0200
TZOFFSETTO:+0100
TZNAME:Europe/Berlin CET
END:STANDARD
BEGIN:DAYLIGHT
DTSTART:20180325T030000
RDATE:20181028T020000
TZOFFSETFROM:+0100
TZOFFSETTO:+0200
TZNAME:Europe/Berlin CEST
END:DAYLIGHT
BEGIN:DAYLIGHT
DTSTART:20190331T030000
RDATE:20191027T020000
TZOFFSETFROM:+0100
TZOFFSETTO:+0200
TZNAME:Europe/Berlin CEST
END:DAYLIGHT
BEGIN:DAYLIGHT
DTSTART:20200329T030000
RDATE:20201025T020000
TZOFFSETFROM:+0100
TZOFFSETTO:+0200
TZNAME:Europe/Berlin CEST
END:DAYLIGHT
BEGIN:DAYLIGHT
DTSTART:20210328T030000
RDATE:20211031T020000
TZOFFSETFROM:+0100
TZOFFSETTO:+0200
TZNAME:Europe/Berlin CEST
END:DAYLIGHT
BEGIN:DAYLIGHT
DTSTART:20220327T030000
RDATE:20221030T020000
TZOFFSETFROM:+0100
TZOFFSETTO:+0200
TZNAME:Europe/Berlin CEST
END:DAYLIGHT
BEGIN:DAYLIGHT
DTSTART:20230326T030000
RDATE:20231029T020000
TZOFFSETFROM:+0100
TZOFFSETTO:+0200
TZNAME:Europe/Berlin CEST
END:DAYLIGHT
BEGIN:DAYLIGHT
DTSTART:20240331T030000
RDATE:20241027T020000
TZOFFSETFROM:+0100
TZOFFSETTO:+0200
TZNAME:Europe/Berlin CEST
END:DAYLIGHT
BEGIN:DAYLIGHT
DTSTART:20250330T030000
RDATE:20251026T020000
TZOFFSETFROM:+0100
TZOFFSETTO:+0200
TZNAME:Europe/Berlin CEST
END:DAYLIGHT
END:VTIMEZONE
BEGIN:VEVENT
UID:8952adbefeb93277992fcb09e22d5171
CATEGORIES:Veranstaltungen
CREATED:20190116T121109
SUMMARY:Mitglieder-Versammlung 2019
DESCRIPTION:Zu unserer ordentlichen Mitglieder-Versammlung am Sonntag, 10. März 2019 um
  11.00 Uhr haben alle Mitglieder die Einladung erhalten.\nDer Vorstand freu
 t sich auf zahlreiches Erscheinen und aktive Beteiligung.\nBTC WISTA Vorsta
 nd, 16.02.2019\n  \nLiebes Mitglied,\ngemäß unserer Vereinsatzung laden wir
  Dich herzlich zur ordentlichen\nMITGLIEDERVERSAMMLUNG\ndes BTC WISTA e.V.\
 nam Sonntag, 10. März 2019 um 11.00 Uhr\nin unser Clubhaus Wilhelm-Ostwald-
 Str. 4, 12489 Berlin ein.\nTagesordnung:\n\n - Eröffnung und Feststellung d
 er Anwesenheit\n - Genehmigung des Protokolls der ordentlichen MV vom 04.03
 .2018 \n - Bericht des Vorstandes\n - Jahresabschluss 2018\n - Bericht der 
 Revisoren\n - Entlastung des Vorstandes\n - Haushaltsvorschlag für das Gesc
 häftsjahr 2019\n - Verschiedenes\n- Arbeitseinsätze und Veranstaltungen 201
 9Mit sportlichen Grüßen,\ngez. Lothar Schmidt \nVorsitzender\n \nHinweis: I
 m Anschluss an die Versammlung findet eine Besprechung mit den Mannschaftsf
 ührer/innen zur Sommersaison 2019 statt.\n\n
X-ALT-DESC;FMTTYPE=text/html:<p><span style="color: inherit; font-family: inherit; font-size: 1rem; back
 ground-color: inherit;">Zu unserer ordentlichen </span><strong style="color
 : inherit; font-family: inherit; font-size: 1rem;">Mitglieder-Versammlung a
 m Sonntag, 10. März 2019 um 11.00 Uhr</strong><span style="color: inherit; 
 font-family: inherit; font-size: 1rem; background-color: inherit;"> haben a
 lle Mitglieder die Einladung erhalten.</span></p><p>Der Vorstand freut sich
  auf zahlreiches Erscheinen und aktive Beteiligung.</p><p>BTC WISTA Vorstan
 d, 16.02.2019</p><hr /><p>&nbsp;&nbsp;</p><p>Liebes Mitglied,</p><p>gemäß u
 nserer Vereinsatzung laden wir Dich herzlich zur ordentlichen</p><p style="
 text-align: center;"><strong>MITGLIEDERVERSAMMLUNG</strong><br /><strong>de
 s BTC WISTA e.V.</strong><br /><strong>am Sonntag, 10. März 2019 um 11.00 U
 hr</strong></p><p>in unser Clubhaus Wilhelm-Ostwald-Str. 4, 12489 Berlin ei
 n.</p><p><strong>Tagesordnung:</strong></p><ol><li>Eröffnung und Feststellu
 ng der Anwesenheit</li><li>Genehmigung des Protokolls der ordentlichen MV v
 om 04.03.2018<span style="color: inherit; font-family: inherit; font-size: 
 1rem; background-color: inherit;">&nbsp;</span></li><li>Bericht des Vorstan
 des</li><li>Jahresabschluss 2018</li><li>Bericht der Revisoren</li><li>Entl
 astung des Vorstandes</li><li>Haushaltsvorschlag für das Geschäftsjahr 2019
 </li><li>Verschiedenes<br />- Arbeitseinsätze und Veranstaltungen 2019</li>
 </ol><p>Mit sportlichen Grüßen,</p><p>gez. Lothar Schmidt&nbsp;<br />Vorsit
 zender</p><p>&nbsp;</p><p><em>Hinweis: Im Anschluss an die Versammlung find
 et eine Besprechung mit&nbsp;</em><em>den Mannschaftsführer/innen zur Somme
 rsaison 2019 statt.</em></p><p></p>
DTSTAMP:20260425T031714
DTSTART;TZID=Europe/Berlin:20190310T110000
DTEND;TZID=Europe/Berlin:20190310T110000
SEQUENCE:0
TRANSP:OPAQUE
END:VEVENT
END:VCALENDAR