BEGIN:VCALENDAR
VERSION:2.0
PRODID:-//jEvents 2.0 for Joomla//EN
CALSCALE:GREGORIAN
METHOD:PUBLISH
BEGIN:VTIMEZONE
TZID:Europe/Berlin
BEGIN:STANDARD
DTSTART:20180214T190000
RDATE:20180325T030000
TZOFFSETFROM:+0200
TZOFFSETTO:+0100
TZNAME:Europe/Berlin CET
END:STANDARD
BEGIN:STANDARD
DTSTART:20181028T020000
RDATE:20190331T030000
TZOFFSETFROM:+0200
TZOFFSETTO:+0100
TZNAME:Europe/Berlin CET
END:STANDARD
BEGIN:STANDARD
DTSTART:20191027T020000
RDATE:20200329T030000
TZOFFSETFROM:+0200
TZOFFSETTO:+0100
TZNAME:Europe/Berlin CET
END:STANDARD
BEGIN:STANDARD
DTSTART:20201025T020000
RDATE:20210328T030000
TZOFFSETFROM:+0200
TZOFFSETTO:+0100
TZNAME:Europe/Berlin CET
END:STANDARD
BEGIN:STANDARD
DTSTART:20211031T020000
RDATE:20220327T030000
TZOFFSETFROM:+0200
TZOFFSETTO:+0100
TZNAME:Europe/Berlin CET
END:STANDARD
BEGIN:STANDARD
DTSTART:20221030T020000
RDATE:20230326T030000
TZOFFSETFROM:+0200
TZOFFSETTO:+0100
TZNAME:Europe/Berlin CET
END:STANDARD
BEGIN:STANDARD
DTSTART:20231029T020000
RDATE:20240331T030000
TZOFFSETFROM:+0200
TZOFFSETTO:+0100
TZNAME:Europe/Berlin CET
END:STANDARD
BEGIN:STANDARD
DTSTART:20241027T020000
RDATE:20250330T030000
TZOFFSETFROM:+0200
TZOFFSETTO:+0100
TZNAME:Europe/Berlin CET
END:STANDARD
BEGIN:STANDARD
DTSTART:20251026T020000
RDATE:20260329T030000
TZOFFSETFROM:+0200
TZOFFSETTO:+0100
TZNAME:Europe/Berlin CET
END:STANDARD
BEGIN:DAYLIGHT
DTSTART:20180325T030000
RDATE:20181028T020000
TZOFFSETFROM:+0100
TZOFFSETTO:+0200
TZNAME:Europe/Berlin CEST
END:DAYLIGHT
BEGIN:DAYLIGHT
DTSTART:20190331T030000
RDATE:20191027T020000
TZOFFSETFROM:+0100
TZOFFSETTO:+0200
TZNAME:Europe/Berlin CEST
END:DAYLIGHT
BEGIN:DAYLIGHT
DTSTART:20200329T030000
RDATE:20201025T020000
TZOFFSETFROM:+0100
TZOFFSETTO:+0200
TZNAME:Europe/Berlin CEST
END:DAYLIGHT
BEGIN:DAYLIGHT
DTSTART:20210328T030000
RDATE:20211031T020000
TZOFFSETFROM:+0100
TZOFFSETTO:+0200
TZNAME:Europe/Berlin CEST
END:DAYLIGHT
BEGIN:DAYLIGHT
DTSTART:20220327T030000
RDATE:20221030T020000
TZOFFSETFROM:+0100
TZOFFSETTO:+0200
TZNAME:Europe/Berlin CEST
END:DAYLIGHT
BEGIN:DAYLIGHT
DTSTART:20230326T030000
RDATE:20231029T020000
TZOFFSETFROM:+0100
TZOFFSETTO:+0200
TZNAME:Europe/Berlin CEST
END:DAYLIGHT
BEGIN:DAYLIGHT
DTSTART:20240331T030000
RDATE:20241027T020000
TZOFFSETFROM:+0100
TZOFFSETTO:+0200
TZNAME:Europe/Berlin CEST
END:DAYLIGHT
BEGIN:DAYLIGHT
DTSTART:20250330T030000
RDATE:20251026T020000
TZOFFSETFROM:+0100
TZOFFSETTO:+0200
TZNAME:Europe/Berlin CEST
END:DAYLIGHT
END:VTIMEZONE
BEGIN:VEVENT
UID:fb2503e73069a5abaeb174a459365898
CATEGORIES:Veranstaltungen
CREATED:20190203T222447
SUMMARY:Sing-Gruppe
DESCRIPTION:Liebe Mitgliederinnen und Mitglieder,wer hat Lust mit uns gemeinsam zu sing
 en? Ines Paschke wird uns anleiten.  Wir treffen uns das erste Mal am Freit
 ag dem 15. Februar um 19:00 Uhr. Wenn Ihr Interesse habt, aber an diesem Ta
 g nicht könnt, gebt uns bitte trotzdem Bescheid. Wenn wir 8-10 Teilnehmer z
 usammen bekommen, könnte das eine großartige Abwechslung zum Tennis werden 
 und wir lernen uns alle noch besser kennen.Wir freuen uns auf Euch,Euer Ver
 anstaltungs-Beirat Peggy und Brigitte Anmeldung bitte bei:Diese E-Mail-Adre
 sse ist vor Spambots geschützt! Zur Anzeige muss JavaScript eingeschaltet s
 ein!
				document.getElementById('cloakd2db2e1503aa65dbef975170b17446df').i
 nnerHTML = '';
				var prefix = '&#109;a' + 'i&#108;' + '&#116;o';
				var 
 path = 'hr' + 'ef' + '=';
				var addyd2db2e1503aa65dbef975170b17446df = 'f
 r&#105;ck.p&#101;ggy' + '&#64;';
				addyd2db2e1503aa65dbef975170b17446df =
  addyd2db2e1503aa65dbef975170b17446df + 'w&#101;b' + '&#46;' + 'd&#101;';
	
 			var addy_textd2db2e1503aa65dbef975170b17446df = 'fr&#105;ck.p&#101;ggy' 
 + '&#64;' + 'w&#101;b' + '&#46;' + 'd&#101;';document.getElementById('cloak
 d2db2e1503aa65dbef975170b17446df').innerHTML += '<a class="" ' + path + '\'
 ' + prefix + ':' + addyd2db2e1503aa65dbef975170b17446df + '\'>'+addy_textd2
 db2e1503aa65dbef975170b17446df+'';
		Diese E-Mail-Adresse ist vor Spambots 
 geschützt! Zur Anzeige muss JavaScript eingeschaltet sein!
				document.get
 ElementById('cloakf298dd3fb9d5ccfcc3c15d7484e72255').innerHTML = '';
				va
 r prefix = '&#109;a' + 'i&#108;' + '&#116;o';
				var path = 'hr' + 'ef' + 
 '=';
				var addyf298dd3fb9d5ccfcc3c15d7484e72255 = 'br&#105;g&#105;tt&#101
 ;st&#105;ll&#101;r' + '&#64;';
				addyf298dd3fb9d5ccfcc3c15d7484e72255 = a
 ddyf298dd3fb9d5ccfcc3c15d7484e72255 + 'm&#101;' + '&#46;' + 'c&#111;m';
			
 	var addy_textf298dd3fb9d5ccfcc3c15d7484e72255 = 'br&#105;g&#105;tt&#101;st
 &#105;ll&#101;r' + '&#64;' + 'm&#101;' + '&#46;' + 'c&#111;m';document.getE
 lementById('cloakf298dd3fb9d5ccfcc3c15d7484e72255').innerHTML += '<a ' + pa
 th + '\'' + prefix + ':' + addyf298dd3fb9d5ccfcc3c15d7484e72255 + '\'>'+add
 y_textf298dd3fb9d5ccfcc3c15d7484e72255+'';
		  
X-ALT-DESC;FMTTYPE=text/html:<div class="">Liebe Mitgliederinnen und Mitglieder,<br class="" /><br class
 ="" /><b class="">wer hat Lust mit uns gemeinsam zu singen?&nbsp;</b>Ines P
 aschke wird uns anleiten.&nbsp;&nbsp;<br class="" /><br class="" />Wir tref
 fen uns das erste Mal am&nbsp;<b class="">Freitag dem 15. Februar um 19:00 
 Uhr</b>.&nbsp;Wenn Ihr Interesse habt, aber an diesem Tag nicht könnt, gebt
  uns bitte trotzdem Bescheid.&nbsp;Wenn wir 8-10 Teilnehmer zusammen bekomm
 en, könnte das eine großartige Abwechslung zum Tennis werden und wir lernen
  uns alle noch&nbsp;besser kennen.<br class="" /><br class="" />Wir freuen 
 uns auf Euch,</div><div class=""><i class="">Euer&nbsp;Veranstaltungs-Beira
 t Peggy und Brigitte</i></div><div class="">&nbsp;</div><div class="">Anmel
 dung bitte bei:<br class="" /><span id="cloakd2db2e1503aa65dbef975170b17446
 df">Diese E-Mail-Adresse ist vor Spambots geschützt! Zur Anzeige muss JavaS
 cript eingeschaltet sein!</span><script type='text/javascript'>
				documen
 t.getElementById('cloakd2db2e1503aa65dbef975170b17446df').innerHTML = '';
	
 			var prefix = '&#109;a' + 'i&#108;' + '&#116;o';
				var path = 'hr' + 'e
 f' + '=';
				var addyd2db2e1503aa65dbef975170b17446df = 'fr&#105;ck.p&#101
 ;ggy' + '&#64;';
				addyd2db2e1503aa65dbef975170b17446df = addyd2db2e1503a
 a65dbef975170b17446df + 'w&#101;b' + '&#46;' + 'd&#101;';
				var addy_text
 d2db2e1503aa65dbef975170b17446df = 'fr&#105;ck.p&#101;ggy' + '&#64;' + 'w&#
 101;b' + '&#46;' + 'd&#101;';document.getElementById('cloakd2db2e1503aa65db
 ef975170b17446df').innerHTML += '<a class="" ' + path + '\'' + prefix + ':'
  + addyd2db2e1503aa65dbef975170b17446df + '\'>'+addy_textd2db2e1503aa65dbef
 975170b17446df+'<\/a>';
		</script><br class="" /><span id="cloakf298dd3fb9
 d5ccfcc3c15d7484e72255">Diese E-Mail-Adresse ist vor Spambots geschützt! Zu
 r Anzeige muss JavaScript eingeschaltet sein!</span><script type='text/java
 script'>
				document.getElementById('cloakf298dd3fb9d5ccfcc3c15d7484e72255
 ').innerHTML = '';
				var prefix = '&#109;a' + 'i&#108;' + '&#116;o';
				
 var path = 'hr' + 'ef' + '=';
				var addyf298dd3fb9d5ccfcc3c15d7484e72255 
 = 'br&#105;g&#105;tt&#101;st&#105;ll&#101;r' + '&#64;';
				addyf298dd3fb9d
 5ccfcc3c15d7484e72255 = addyf298dd3fb9d5ccfcc3c15d7484e72255 + 'm&#101;' + 
 '&#46;' + 'c&#111;m';
				var addy_textf298dd3fb9d5ccfcc3c15d7484e72255 = '
 br&#105;g&#105;tt&#101;st&#105;ll&#101;r' + '&#64;' + 'm&#101;' + '&#46;' +
  'c&#111;m';document.getElementById('cloakf298dd3fb9d5ccfcc3c15d7484e72255'
 ).innerHTML += '<a ' + path + '\'' + prefix + ':' + addyf298dd3fb9d5ccfcc3c
 15d7484e72255 + '\'>'+addy_textf298dd3fb9d5ccfcc3c15d7484e72255+'<\/a>';
		
 </script>&nbsp;</div><div class="">&nbsp;</div>
DTSTAMP:20260425T021931
DTSTART;TZID=Europe/Berlin:20190215T190000
SEQUENCE:0
TRANSP:OPAQUE
END:VEVENT
END:VCALENDAR