BEGIN:VCALENDAR
VERSION:2.0
PRODID:-//jEvents 2.0 for Joomla//EN
CALSCALE:GREGORIAN
METHOD:PUBLISH
BEGIN:VTIMEZONE
TZID:Europe/Berlin
BEGIN:STANDARD
DTSTART:20181028T020000
RDATE:20190331T030000
TZOFFSETFROM:+0200
TZOFFSETTO:+0100
TZNAME:Europe/Berlin CET
END:STANDARD
BEGIN:STANDARD
DTSTART:20191027T020000
RDATE:20200329T030000
TZOFFSETFROM:+0200
TZOFFSETTO:+0100
TZNAME:Europe/Berlin CET
END:STANDARD
BEGIN:STANDARD
DTSTART:20201025T020000
RDATE:20210328T030000
TZOFFSETFROM:+0200
TZOFFSETTO:+0100
TZNAME:Europe/Berlin CET
END:STANDARD
BEGIN:STANDARD
DTSTART:20211031T020000
RDATE:20220327T030000
TZOFFSETFROM:+0200
TZOFFSETTO:+0100
TZNAME:Europe/Berlin CET
END:STANDARD
BEGIN:STANDARD
DTSTART:20221030T020000
RDATE:20230326T030000
TZOFFSETFROM:+0200
TZOFFSETTO:+0100
TZNAME:Europe/Berlin CET
END:STANDARD
BEGIN:STANDARD
DTSTART:20231029T020000
RDATE:20240331T030000
TZOFFSETFROM:+0200
TZOFFSETTO:+0100
TZNAME:Europe/Berlin CET
END:STANDARD
BEGIN:STANDARD
DTSTART:20241027T020000
RDATE:20250330T030000
TZOFFSETFROM:+0200
TZOFFSETTO:+0100
TZNAME:Europe/Berlin CET
END:STANDARD
BEGIN:STANDARD
DTSTART:20251026T020000
RDATE:20260329T030000
TZOFFSETFROM:+0200
TZOFFSETTO:+0100
TZNAME:Europe/Berlin CET
END:STANDARD
BEGIN:DAYLIGHT
DTSTART:20180426T100000
RDATE:20181028T020000
TZOFFSETFROM:+0100
TZOFFSETTO:+0200
TZNAME:Europe/Berlin CEST
END:DAYLIGHT
BEGIN:DAYLIGHT
DTSTART:20190331T030000
RDATE:20191027T020000
TZOFFSETFROM:+0100
TZOFFSETTO:+0200
TZNAME:Europe/Berlin CEST
END:DAYLIGHT
BEGIN:DAYLIGHT
DTSTART:20200329T030000
RDATE:20201025T020000
TZOFFSETFROM:+0100
TZOFFSETTO:+0200
TZNAME:Europe/Berlin CEST
END:DAYLIGHT
BEGIN:DAYLIGHT
DTSTART:20210328T030000
RDATE:20211031T020000
TZOFFSETFROM:+0100
TZOFFSETTO:+0200
TZNAME:Europe/Berlin CEST
END:DAYLIGHT
BEGIN:DAYLIGHT
DTSTART:20220327T030000
RDATE:20221030T020000
TZOFFSETFROM:+0100
TZOFFSETTO:+0200
TZNAME:Europe/Berlin CEST
END:DAYLIGHT
BEGIN:DAYLIGHT
DTSTART:20230326T030000
RDATE:20231029T020000
TZOFFSETFROM:+0100
TZOFFSETTO:+0200
TZNAME:Europe/Berlin CEST
END:DAYLIGHT
BEGIN:DAYLIGHT
DTSTART:20240331T030000
RDATE:20241027T020000
TZOFFSETFROM:+0100
TZOFFSETTO:+0200
TZNAME:Europe/Berlin CEST
END:DAYLIGHT
BEGIN:DAYLIGHT
DTSTART:20250330T030000
RDATE:20251026T020000
TZOFFSETFROM:+0100
TZOFFSETTO:+0200
TZNAME:Europe/Berlin CEST
END:DAYLIGHT
END:VTIMEZONE
BEGIN:VEVENT
UID:d505c284e5518f7bc28f9145a78a2c9b
CATEGORIES:Arbeitseinsätze
CREATED:20190306T100852
SUMMARY:Arbeitseinsatz
DESCRIPTION:Anmeldung wie immer über die aushängende Liste im Clubhaus-Eingangsbereich 
 oder E-Mail an Diese E-Mail-Adresse ist vor Spambots geschützt! Zur Anzeige
  muss JavaScript eingeschaltet sein!
				document.getElementById('cloak0a46
 20bdcb9c687136defb6f0e880dc2').innerHTML = '';
				var prefix = '&amp;#109;
 a' + 'i&amp;#108;' + '&amp;#116;o';
				var path = 'hr' + 'ef' + '=';
				v
 ar addy0a4620bdcb9c687136defb6f0e880dc2 = '&amp;#105;nf&amp;#111;' + '&amp;
 #64;';
				addy0a4620bdcb9c687136defb6f0e880dc2 = addy0a4620bdcb9c687136def
 b6f0e880dc2 + 'btc-w&amp;#105;st&amp;#97;' + '&amp;#46;' + 'd&amp;#101;';
	
 			var addy_text0a4620bdcb9c687136defb6f0e880dc2 = '&amp;#105;nf&amp;#111;'
  + '&amp;#64;' + 'btc-w&amp;#105;st&amp;#97;' + '&amp;#46;' + 'd&amp;#101;'
 ;document.getElementById('cloak0a4620bdcb9c687136defb6f0e880dc2').innerHTML
  += '&lt;a ' + path + '\'' + prefix + ':' + addy0a4620bdcb9c687136defb6f0e8
 80dc2 + '\'&gt;'+addy_text0a4620bdcb9c687136defb6f0e880dc2+'&lt;\/a&gt;';
	
 	. (mailto:info@btc-wista.de.)\n
X-ALT-DESC;FMTTYPE=text/html:<p>Anmeldung wie immer über die aushängende Liste im Clubhaus-Eingangsberei
 ch&nbsp;oder E-Mail an <a href="mailto:info@btc-wista.de."><span id="cloak0
 a4620bdcb9c687136defb6f0e880dc2">Diese E-Mail-Adresse ist vor Spambots gesc
 hützt! Zur Anzeige muss JavaScript eingeschaltet sein!</span><script type='
 text/javascript'>
				document.getElementById('cloak0a4620bdcb9c687136defb6
 f0e880dc2').innerHTML = '';
				var prefix = '&#109;a' + 'i&#108;' + '&#116
 ;o';
				var path = 'hr' + 'ef' + '=';
				var addy0a4620bdcb9c687136defb6f
 0e880dc2 = '&#105;nf&#111;' + '&#64;';
				addy0a4620bdcb9c687136defb6f0e88
 0dc2 = addy0a4620bdcb9c687136defb6f0e880dc2 + 'btc-w&#105;st&#97;' + '&#46;
 ' + 'd&#101;';
				var addy_text0a4620bdcb9c687136defb6f0e880dc2 = '&#105;n
 f&#111;' + '&#64;' + 'btc-w&#105;st&#97;' + '&#46;' + 'd&#101;';document.ge
 tElementById('cloak0a4620bdcb9c687136defb6f0e880dc2').innerHTML += '<a ' + 
 path + '\'' + prefix + ':' + addy0a4620bdcb9c687136defb6f0e880dc2 + '\'>'+a
 ddy_text0a4620bdcb9c687136defb6f0e880dc2+'<\/a>';
		</script>.</a></p>
DTSTAMP:20260425T113839
DTSTART;TZID=Europe/Berlin:20190427T100000
DTEND;TZID=Europe/Berlin:20190427T140000
SEQUENCE:0
TRANSP:OPAQUE
END:VEVENT
END:VCALENDAR