BEGIN:VCALENDAR
VERSION:2.0
PRODID:-//jEvents 2.0 for Joomla//EN
CALSCALE:GREGORIAN
METHOD:PUBLISH
BEGIN:VTIMEZONE
TZID:Europe/Berlin
BEGIN:STANDARD
DTSTART:20181129T173000
RDATE:20190331T030000
TZOFFSETFROM:+0200
TZOFFSETTO:+0100
TZNAME:Europe/Berlin CET
END:STANDARD
BEGIN:STANDARD
DTSTART:20191027T020000
RDATE:20200329T030000
TZOFFSETFROM:+0200
TZOFFSETTO:+0100
TZNAME:Europe/Berlin CET
END:STANDARD
BEGIN:STANDARD
DTSTART:20201025T020000
RDATE:20210328T030000
TZOFFSETFROM:+0200
TZOFFSETTO:+0100
TZNAME:Europe/Berlin CET
END:STANDARD
BEGIN:STANDARD
DTSTART:20211031T020000
RDATE:20220327T030000
TZOFFSETFROM:+0200
TZOFFSETTO:+0100
TZNAME:Europe/Berlin CET
END:STANDARD
BEGIN:STANDARD
DTSTART:20221030T020000
RDATE:20230326T030000
TZOFFSETFROM:+0200
TZOFFSETTO:+0100
TZNAME:Europe/Berlin CET
END:STANDARD
BEGIN:STANDARD
DTSTART:20231029T020000
RDATE:20240331T030000
TZOFFSETFROM:+0200
TZOFFSETTO:+0100
TZNAME:Europe/Berlin CET
END:STANDARD
BEGIN:STANDARD
DTSTART:20241027T020000
RDATE:20250330T030000
TZOFFSETFROM:+0200
TZOFFSETTO:+0100
TZNAME:Europe/Berlin CET
END:STANDARD
BEGIN:STANDARD
DTSTART:20251026T020000
RDATE:20260329T030000
TZOFFSETFROM:+0200
TZOFFSETTO:+0100
TZNAME:Europe/Berlin CET
END:STANDARD
BEGIN:DAYLIGHT
DTSTART:20190331T030000
RDATE:20191027T020000
TZOFFSETFROM:+0100
TZOFFSETTO:+0200
TZNAME:Europe/Berlin CEST
END:DAYLIGHT
BEGIN:DAYLIGHT
DTSTART:20200329T030000
RDATE:20201025T020000
TZOFFSETFROM:+0100
TZOFFSETTO:+0200
TZNAME:Europe/Berlin CEST
END:DAYLIGHT
BEGIN:DAYLIGHT
DTSTART:20210328T030000
RDATE:20211031T020000
TZOFFSETFROM:+0100
TZOFFSETTO:+0200
TZNAME:Europe/Berlin CEST
END:DAYLIGHT
BEGIN:DAYLIGHT
DTSTART:20220327T030000
RDATE:20221030T020000
TZOFFSETFROM:+0100
TZOFFSETTO:+0200
TZNAME:Europe/Berlin CEST
END:DAYLIGHT
BEGIN:DAYLIGHT
DTSTART:20230326T030000
RDATE:20231029T020000
TZOFFSETFROM:+0100
TZOFFSETTO:+0200
TZNAME:Europe/Berlin CEST
END:DAYLIGHT
BEGIN:DAYLIGHT
DTSTART:20240331T030000
RDATE:20241027T020000
TZOFFSETFROM:+0100
TZOFFSETTO:+0200
TZNAME:Europe/Berlin CEST
END:DAYLIGHT
BEGIN:DAYLIGHT
DTSTART:20250330T030000
RDATE:20251026T020000
TZOFFSETFROM:+0100
TZOFFSETTO:+0200
TZNAME:Europe/Berlin CEST
END:DAYLIGHT
END:VTIMEZONE
BEGIN:VEVENT
UID:929610330abc035e303ec232556aba46
CATEGORIES:Veranstaltungen
CREATED:20190306T101831
SUMMARY:Jugend-Weihnachtsfeier
DESCRIPTION:Das Tennisjahr neigt sich auch für die Tennisjugend unseres Vereins dem End
 e zu und weil Ihr, liebe Nachwuchs-WISTAs, so fleißig trainiert und Punkte 
 gesammelt habt, laden wir Euch dieses Jahr zum gemeinsamen Abhängen/Weihnac
 hts-Bouldern mit dem WISTA-Weihnachtsmann am\n30. November 2019 von 17.30 b
 is um 19.30 Uhr\nin der SÜDBLOC Boulderhalle (https://www.südbloc.de/boulde
 rn-im-südbloc/), Berlin Tempelhof, Großbeerenstraße 2-10, 12107 Berlin ein.
  Die Teilnahme ist für Euch kostenlos, und für Essen und Getränke ist gesor
 gt.\nTreffpunkt ist 16.30 Uhr bei uns im Verein. Der Jugendbeirat organisie
 rt den Transport. Gegen 20.30 Uhr werden wir zurück im Verein sein.\nDamit 
 wir enstprechend planen können, meldet Euch am besten gleich heute, spätest
 ens bis zum 23. November 2019 an, und zwar per E-Mail an Diese E-Mail-Adres
 se ist vor Spambots geschützt! Zur Anzeige muss JavaScript eingeschaltet se
 in!
				document.getElementById('cloakae1dcc84527021dbd1959cfb14b2dc39').in
 nerHTML = '';
				var prefix = '&#109;a' + 'i&#108;' + '&#116;o';
				var p
 ath = 'hr' + 'ef' + '=';
				var addyae1dcc84527021dbd1959cfb14b2dc39 = 'j&
 #117;g&#101;ndb&#101;&#105;r&#97;t' + '&#64;';
				addyae1dcc84527021dbd195
 9cfb14b2dc39 = addyae1dcc84527021dbd1959cfb14b2dc39 + 'btc-w&#105;st&#97;' 
 + '&#46;' + 'd&#101;';
				var addy_textae1dcc84527021dbd1959cfb14b2dc39 = 
 'j&#117;g&#101;ndb&#101;&#105;r&#97;t' + '&#64;' + 'btc-w&#105;st&#97;' + '
 &#46;' + 'd&#101;';document.getElementById('cloakae1dcc84527021dbd1959cfb14
 b2dc39').innerHTML += '<a ' + path + '\'' + prefix + ':' + addyae1dcc845270
 21dbd1959cfb14b2dc39 + '\'>'+addy_textae1dcc84527021dbd1959cfb14b2dc39+'';

 		 oder\nbei Lars Mischak unter Tel.: 0160-95058785.\nSportliche Grüße,\nEu
 er Jugendbeirat\nLars Mischak und Henning Lehmbäcker\n
X-ALT-DESC;FMTTYPE=text/html:<p>Das Tennisjahr neigt sich auch für die Tennisjugend unseres Vereins dem 
 Ende zu und weil Ihr, liebe Nachwuchs-WISTAs, so fleißig trainiert und Punk
 te gesammelt habt, laden wir Euch dieses Jahr zum gemeinsamen Abhängen/Weih
 nachts-Bouldern mit dem WISTA-Weihnachtsmann am</p><p style="text-align: ce
 nter;"><span style="color: #ff0000; font-size: 14pt;"><strong>30. November 
 2019 von 17.30 bis um 19.30 Uhr</strong></span></p><p>in der <a href="https
 ://www.südbloc.de/bouldern-im-südbloc/" target="_blank" rel="noopener">SÜDB
 LOC Boulderhalle</a>, Berlin Tempelhof, Großbeerenstraße 2-10, 12107 Berlin
  ein. Die Teilnahme ist für Euch kostenlos, und für Essen und Getränke ist 
 gesorgt.</p><p>Treffpunkt ist 16.30 Uhr bei uns im Verein. Der Jugendbeirat
  organisiert den Transport. Gegen 20.30 Uhr werden wir zurück im Verein sei
 n.</p><p>Damit wir enstprechend planen können, meldet Euch <span style="col
 or: #ff0000;"><strong>am besten gleich heute,&nbsp;spätestens bis zum 23. N
 ovember 2019 an</strong></span>, und zwar per E-Mail an&nbsp;<span id="cloa
 kae1dcc84527021dbd1959cfb14b2dc39">Diese E-Mail-Adresse ist vor Spambots ge
 schützt! Zur Anzeige muss JavaScript eingeschaltet sein!</span><script type
 ='text/javascript'>
				document.getElementById('cloakae1dcc84527021dbd1959
 cfb14b2dc39').innerHTML = '';
				var prefix = '&#109;a' + 'i&#108;' + '&#1
 16;o';
				var path = 'hr' + 'ef' + '=';
				var addyae1dcc84527021dbd1959c
 fb14b2dc39 = 'j&#117;g&#101;ndb&#101;&#105;r&#97;t' + '&#64;';
				addyae1d
 cc84527021dbd1959cfb14b2dc39 = addyae1dcc84527021dbd1959cfb14b2dc39 + 'btc-
 w&#105;st&#97;' + '&#46;' + 'd&#101;';
				var addy_textae1dcc84527021dbd19
 59cfb14b2dc39 = 'j&#117;g&#101;ndb&#101;&#105;r&#97;t' + '&#64;' + 'btc-w&#
 105;st&#97;' + '&#46;' + 'd&#101;';document.getElementById('cloakae1dcc8452
 7021dbd1959cfb14b2dc39').innerHTML += '<a ' + path + '\'' + prefix + ':' + 
 addyae1dcc84527021dbd1959cfb14b2dc39 + '\'>'+addy_textae1dcc84527021dbd1959
 cfb14b2dc39+'<\/a>';
		</script> oder<br />bei Lars Mischak unter Tel.: 016
 0-95058785.</p><p>Sportliche Grüße,<br /><em>Euer Jugendbeirat</em><br /><e
 m>Lars Mischak und Henning Lehmbäcker</em></p>
DTSTAMP:20260424T205440
DTSTART;TZID=Europe/Berlin:20191130T173000
DTEND;TZID=Europe/Berlin:20191130T193000
SEQUENCE:0
TRANSP:OPAQUE
END:VEVENT
END:VCALENDAR