BEGIN:VCALENDAR
VERSION:2.0
PRODID:-//jEvents 2.0 for Joomla//EN
CALSCALE:GREGORIAN
METHOD:PUBLISH
BEGIN:VTIMEZONE
TZID:Europe/Berlin
BEGIN:STANDARD
DTSTART:20181213T140000
RDATE:20190331T030000
TZOFFSETFROM:+0200
TZOFFSETTO:+0100
TZNAME:Europe/Berlin CET
END:STANDARD
BEGIN:STANDARD
DTSTART:20191027T020000
RDATE:20200329T030000
TZOFFSETFROM:+0200
TZOFFSETTO:+0100
TZNAME:Europe/Berlin CET
END:STANDARD
BEGIN:STANDARD
DTSTART:20201025T020000
RDATE:20210328T030000
TZOFFSETFROM:+0200
TZOFFSETTO:+0100
TZNAME:Europe/Berlin CET
END:STANDARD
BEGIN:STANDARD
DTSTART:20211031T020000
RDATE:20220327T030000
TZOFFSETFROM:+0200
TZOFFSETTO:+0100
TZNAME:Europe/Berlin CET
END:STANDARD
BEGIN:STANDARD
DTSTART:20221030T020000
RDATE:20230326T030000
TZOFFSETFROM:+0200
TZOFFSETTO:+0100
TZNAME:Europe/Berlin CET
END:STANDARD
BEGIN:STANDARD
DTSTART:20231029T020000
RDATE:20240331T030000
TZOFFSETFROM:+0200
TZOFFSETTO:+0100
TZNAME:Europe/Berlin CET
END:STANDARD
BEGIN:STANDARD
DTSTART:20241027T020000
RDATE:20250330T030000
TZOFFSETFROM:+0200
TZOFFSETTO:+0100
TZNAME:Europe/Berlin CET
END:STANDARD
BEGIN:STANDARD
DTSTART:20251026T020000
RDATE:20260329T030000
TZOFFSETFROM:+0200
TZOFFSETTO:+0100
TZNAME:Europe/Berlin CET
END:STANDARD
BEGIN:DAYLIGHT
DTSTART:20190331T030000
RDATE:20191027T020000
TZOFFSETFROM:+0100
TZOFFSETTO:+0200
TZNAME:Europe/Berlin CEST
END:DAYLIGHT
BEGIN:DAYLIGHT
DTSTART:20200329T030000
RDATE:20201025T020000
TZOFFSETFROM:+0100
TZOFFSETTO:+0200
TZNAME:Europe/Berlin CEST
END:DAYLIGHT
BEGIN:DAYLIGHT
DTSTART:20210328T030000
RDATE:20211031T020000
TZOFFSETFROM:+0100
TZOFFSETTO:+0200
TZNAME:Europe/Berlin CEST
END:DAYLIGHT
BEGIN:DAYLIGHT
DTSTART:20220327T030000
RDATE:20221030T020000
TZOFFSETFROM:+0100
TZOFFSETTO:+0200
TZNAME:Europe/Berlin CEST
END:DAYLIGHT
BEGIN:DAYLIGHT
DTSTART:20230326T030000
RDATE:20231029T020000
TZOFFSETFROM:+0100
TZOFFSETTO:+0200
TZNAME:Europe/Berlin CEST
END:DAYLIGHT
BEGIN:DAYLIGHT
DTSTART:20240331T030000
RDATE:20241027T020000
TZOFFSETFROM:+0100
TZOFFSETTO:+0200
TZNAME:Europe/Berlin CEST
END:DAYLIGHT
BEGIN:DAYLIGHT
DTSTART:20250330T030000
RDATE:20251026T020000
TZOFFSETFROM:+0100
TZOFFSETTO:+0200
TZNAME:Europe/Berlin CEST
END:DAYLIGHT
END:VTIMEZONE
BEGIN:VEVENT
UID:551e5d7416a1dbbed35438dcf2e7e604
CATEGORIES:Veranstaltungen
CREATED:20191029T092918
SUMMARY:JETZT ANMELDEN: Weihnachts-Basteln 2019
LOCATION:Clubhaus
DESCRIPTION:Draußen färben sich die Blätter und bald steht schon wieder Weihnachten vor
  der Tür. Zur Einstimmung auf die Weihnachtszeit treffen wir uns im Vereins
 haus zum geselligen\nWeihnachts-Basteln im BTC WISTA\nam Samstag 14. Dezemb
 er 2019 von 14:00-17:00 Uhr\nDer Kostenbeitrag beträgt 12€ pro Person (alle
  Materialien werden gestellt) - mit freundlicher Unterstützung von Jaquelin
 e Seidel (creative-loft-berlin.blogspot.com (http://creative-loft-berlin.bl
 ogspot.com)). \nVoranmeldungen bis 7. Dezember durch Eintragen in der Liste
  im Clubhaus oder direkt bei Peggy oder Brigitte per E-Mail unter Betreff: 
 "Basteln" (Diese E-Mail-Adresse ist vor Spambots geschützt! Zur Anzeige mus
 s JavaScript eingeschaltet sein!
				document.getElementById('cloak5ab87735
 66809c49449f0e8df7679e90').innerHTML = '';
				var prefix = '&#109;a' + 'i&
 #108;' + '&#116;o';
				var path = 'hr' + 'ef' + '=';
				var addy5ab877356
 6809c49449f0e8df7679e90 = 'p&#101;ggy.fr&#105;ck' + '&#64;';
				addy5ab877
 3566809c49449f0e8df7679e90 = addy5ab8773566809c49449f0e8df7679e90 + 'w&#101
 ;b' + '&#46;' + 'd&#101;';
				var addy_text5ab8773566809c49449f0e8df7679e9
 0 = 'p&#101;ggy.fr&#105;ck' + '&#64;' + 'w&#101;b' + '&#46;' + 'd&#101;';do
 cument.getElementById('cloak5ab8773566809c49449f0e8df7679e90').innerHTML +=
  '<a ' + path + '\'' + prefix + ':' + addy5ab8773566809c49449f0e8df7679e90 
 + '\'>'+addy_text5ab8773566809c49449f0e8df7679e90+'';
		; Diese E-Mail-Adre
 sse ist vor Spambots geschützt! Zur Anzeige muss JavaScript eingeschaltet s
 ein!
				document.getElementById('cloaka113d29886035d55adb2f110a90facca').i
 nnerHTML = '';
				var prefix = '&#109;a' + 'i&#108;' + '&#116;o';
				var 
 path = 'hr' + 'ef' + '=';
				var addya113d29886035d55adb2f110a90facca = 'b
 r&#105;g&#105;tt&#101;st&#105;ll&#101;r' + '&#64;';
				addya113d29886035d5
 5adb2f110a90facca = addya113d29886035d55adb2f110a90facca + 'm&#101;' + '&#4
 6;' + 'c&#111;m';
				var addy_texta113d29886035d55adb2f110a90facca = 'br&#
 105;g&#105;tt&#101;st&#105;ll&#101;r' + '&#64;' + 'm&#101;' + '&#46;' + 'c&
 #111;m';document.getElementById('cloaka113d29886035d55adb2f110a90facca').in
 nerHTML += '<a ' + path + '\'' + prefix + ':' + addya113d29886035d55adb2f11
 0a90facca + '\'>'+addy_texta113d29886035d55adb2f110a90facca+'';
		)\nWir fr
 euen uns auf Euch!\n \n \nP.S.: Hier ein paar Eindrücke vom Basteln in 2017
  in unserer Fotogalerie (clubleben/fotogalerie/34-fotogalerie-news/183-weih
 nachtsbasteln-25-11-2017-fotogalerie).\n \n
X-ALT-DESC;FMTTYPE=text/html:<p>Draußen färben sich die Blätter und bald steht schon wieder Weihnachten 
 vor der Tür. Zur Einstimmung auf die Weihnachtszeit treffen wir uns im Vere
 inshaus zum geselligen</p><p style="text-align: center;"><strong>Weihnachts
 -Basteln im BTC WISTA</strong><br /><strong>am Samstag 14. Dezember 2019 vo
 n 14:00-17:00 Uhr</strong></p><p>Der&nbsp;Kostenbeitrag beträgt 12€ pro Per
 son (alle Materialien werden gestellt) - mit freundlicher Unterstützung von
  Jaqueline Seidel (<a href="http://creative-loft-berlin.blogspot.com">creat
 ive-loft-berlin.blogspot.com</a>).&nbsp;</p><p>Voranmeldungen bis 7. Dezemb
 er durch Eintragen in der Liste im Clubhaus oder direkt bei Peggy oder Brig
 itte per E-Mail unter Betreff: "Basteln" (<span id="cloak5ab8773566809c4944
 9f0e8df7679e90">Diese E-Mail-Adresse ist vor Spambots geschützt! Zur Anzeig
 e muss JavaScript eingeschaltet sein!</span><script type='text/javascript'>
 
				document.getElementById('cloak5ab8773566809c49449f0e8df7679e90').inner
 HTML = '';
				var prefix = '&#109;a' + 'i&#108;' + '&#116;o';
				var path
  = 'hr' + 'ef' + '=';
				var addy5ab8773566809c49449f0e8df7679e90 = 'p&#10
 1;ggy.fr&#105;ck' + '&#64;';
				addy5ab8773566809c49449f0e8df7679e90 = add
 y5ab8773566809c49449f0e8df7679e90 + 'w&#101;b' + '&#46;' + 'd&#101;';
				v
 ar addy_text5ab8773566809c49449f0e8df7679e90 = 'p&#101;ggy.fr&#105;ck' + '&
 #64;' + 'w&#101;b' + '&#46;' + 'd&#101;';document.getElementById('cloak5ab8
 773566809c49449f0e8df7679e90').innerHTML += '<a ' + path + '\'' + prefix + 
 ':' + addy5ab8773566809c49449f0e8df7679e90 + '\'>'+addy_text5ab8773566809c4
 9449f0e8df7679e90+'<\/a>';
		</script>; <span id="cloaka113d29886035d55adb2
 f110a90facca">Diese E-Mail-Adresse ist vor Spambots geschützt! Zur Anzeige 
 muss JavaScript eingeschaltet sein!</span><script type='text/javascript'>
	
 			document.getElementById('cloaka113d29886035d55adb2f110a90facca').innerHT
 ML = '';
				var prefix = '&#109;a' + 'i&#108;' + '&#116;o';
				var path =
  'hr' + 'ef' + '=';
				var addya113d29886035d55adb2f110a90facca = 'br&#105
 ;g&#105;tt&#101;st&#105;ll&#101;r' + '&#64;';
				addya113d29886035d55adb2f
 110a90facca = addya113d29886035d55adb2f110a90facca + 'm&#101;' + '&#46;' + 
 'c&#111;m';
				var addy_texta113d29886035d55adb2f110a90facca = 'br&#105;g&
 #105;tt&#101;st&#105;ll&#101;r' + '&#64;' + 'm&#101;' + '&#46;' + 'c&#111;m
 ';document.getElementById('cloaka113d29886035d55adb2f110a90facca').innerHTM
 L += '<a ' + path + '\'' + prefix + ':' + addya113d29886035d55adb2f110a90fa
 cca + '\'>'+addy_texta113d29886035d55adb2f110a90facca+'<\/a>';
		</script>)
 </p><p>Wir freuen uns auf Euch!</p><p style="text-align: center;">&nbsp;</p
 ><p>&nbsp;</p><p>P.S.: Hier ein paar Eindrücke vom Basteln in 2017 in unser
 er&nbsp;<a href="https://www.btc-wista.de/clubleben/fotogalerie/34-fotogale
 rie-news/183-weihnachtsbasteln-25-11-2017-fotogalerie" moz-do-not-send="tru
 e">Fotogalerie</a>.</p><p>&nbsp;</p>
DTSTAMP:20260424T165027
DTSTART;TZID=Europe/Berlin:20191214T140000
DTEND;TZID=Europe/Berlin:20191214T170000
SEQUENCE:0
TRANSP:OPAQUE
END:VEVENT
END:VCALENDAR