BEGIN:VCALENDAR
VERSION:2.0
PRODID:-//jEvents 2.0 for Joomla//EN
CALSCALE:GREGORIAN
METHOD:PUBLISH
BEGIN:VTIMEZONE
TZID:Europe/Berlin
BEGIN:STANDARD
DTSTART:20190321T110000
RDATE:20190331T030000
TZOFFSETFROM:+0200
TZOFFSETTO:+0100
TZNAME:Europe/Berlin CET
END:STANDARD
BEGIN:STANDARD
DTSTART:20191027T020000
RDATE:20200329T030000
TZOFFSETFROM:+0200
TZOFFSETTO:+0100
TZNAME:Europe/Berlin CET
END:STANDARD
BEGIN:STANDARD
DTSTART:20201025T020000
RDATE:20210328T030000
TZOFFSETFROM:+0200
TZOFFSETTO:+0100
TZNAME:Europe/Berlin CET
END:STANDARD
BEGIN:STANDARD
DTSTART:20211031T020000
RDATE:20220327T030000
TZOFFSETFROM:+0200
TZOFFSETTO:+0100
TZNAME:Europe/Berlin CET
END:STANDARD
BEGIN:STANDARD
DTSTART:20221030T020000
RDATE:20230326T030000
TZOFFSETFROM:+0200
TZOFFSETTO:+0100
TZNAME:Europe/Berlin CET
END:STANDARD
BEGIN:STANDARD
DTSTART:20231029T020000
RDATE:20240331T030000
TZOFFSETFROM:+0200
TZOFFSETTO:+0100
TZNAME:Europe/Berlin CET
END:STANDARD
BEGIN:STANDARD
DTSTART:20241027T020000
RDATE:20250330T030000
TZOFFSETFROM:+0200
TZOFFSETTO:+0100
TZNAME:Europe/Berlin CET
END:STANDARD
BEGIN:STANDARD
DTSTART:20251026T020000
RDATE:20260329T030000
TZOFFSETFROM:+0200
TZOFFSETTO:+0100
TZNAME:Europe/Berlin CET
END:STANDARD
BEGIN:DAYLIGHT
DTSTART:20190331T030000
RDATE:20191027T020000
TZOFFSETFROM:+0100
TZOFFSETTO:+0200
TZNAME:Europe/Berlin CEST
END:DAYLIGHT
BEGIN:DAYLIGHT
DTSTART:20200329T030000
RDATE:20201025T020000
TZOFFSETFROM:+0100
TZOFFSETTO:+0200
TZNAME:Europe/Berlin CEST
END:DAYLIGHT
BEGIN:DAYLIGHT
DTSTART:20210328T030000
RDATE:20211031T020000
TZOFFSETFROM:+0100
TZOFFSETTO:+0200
TZNAME:Europe/Berlin CEST
END:DAYLIGHT
BEGIN:DAYLIGHT
DTSTART:20220327T030000
RDATE:20221030T020000
TZOFFSETFROM:+0100
TZOFFSETTO:+0200
TZNAME:Europe/Berlin CEST
END:DAYLIGHT
BEGIN:DAYLIGHT
DTSTART:20230326T030000
RDATE:20231029T020000
TZOFFSETFROM:+0100
TZOFFSETTO:+0200
TZNAME:Europe/Berlin CEST
END:DAYLIGHT
BEGIN:DAYLIGHT
DTSTART:20240331T030000
RDATE:20241027T020000
TZOFFSETFROM:+0100
TZOFFSETTO:+0200
TZNAME:Europe/Berlin CEST
END:DAYLIGHT
BEGIN:DAYLIGHT
DTSTART:20250330T030000
RDATE:20251026T020000
TZOFFSETFROM:+0100
TZOFFSETTO:+0200
TZNAME:Europe/Berlin CEST
END:DAYLIGHT
END:VTIMEZONE
BEGIN:VEVENT
UID:81a6ea2c5da40346434fa78a98e86d9a
CATEGORIES:Veranstaltungen
CREATED:20200117T012124
SUMMARY:WIRD VERSCHOBEN: Mitglieder-Versammlung 2020
DESCRIPTION:Vorab-Information für Eure Terminkalender: unsere nächste ordentliche Mitgl
 ieder-Versammlung findet am Samstag, 21. März 2020 um 11.00 Uhr statt. Der 
 Vorstand freut sich auf zahlreiches Erscheinen und aktive Beteiligung.\nIm 
 Anschluss an die Versammlung findet eine Besprechung mit den Mannschaftsfüh
 rer/innen zur Sommersaison 2020 statt.\nBTC WISTA Vorstand, 17.01.2020\n \n
  \n
X-ALT-DESC;FMTTYPE=text/html:<p><span style="color: inherit; font-family: inherit; font-size: 1rem; back
 ground-color: inherit;"><strong>Vorab-Information für Eure Terminkalender:<
 /strong>&nbsp;unsere nächste ordentliche Mitglieder-Versammlung findet am S
 amstag, 21. März 2020 um 11.00 Uhr statt. Der Vorstand freut sich auf zahlr
 eiches Erscheinen und aktive Beteiligung.</span></p><p><em>Im Anschluss an 
 die Versammlung findet eine Besprechung mit&nbsp;</em><em>den Mannschaftsfü
 hrer/innen zur Sommersaison 2020 statt.</em></p><p>BTC WISTA Vorstand, 17.0
 1.2020</p><p>&nbsp;</p><p>&nbsp;</p>
DTSTAMP:20260422T193806
DTSTART;TZID=Europe/Berlin:20200321T110000
DTEND;TZID=Europe/Berlin:20200321T133000
SEQUENCE:0
TRANSP:OPAQUE
END:VEVENT
END:VCALENDAR