BEGIN:VCALENDAR
VERSION:2.0
PRODID:-//jEvents 2.0 for Joomla//EN
CALSCALE:GREGORIAN
METHOD:PUBLISH
BEGIN:VTIMEZONE
TZID:Europe/Berlin
BEGIN:STANDARD
DTSTART:20190207T140000
RDATE:20190331T030000
TZOFFSETFROM:+0200
TZOFFSETTO:+0100
TZNAME:Europe/Berlin CET
END:STANDARD
BEGIN:STANDARD
DTSTART:20191027T020000
RDATE:20200329T030000
TZOFFSETFROM:+0200
TZOFFSETTO:+0100
TZNAME:Europe/Berlin CET
END:STANDARD
BEGIN:STANDARD
DTSTART:20201025T020000
RDATE:20210328T030000
TZOFFSETFROM:+0200
TZOFFSETTO:+0100
TZNAME:Europe/Berlin CET
END:STANDARD
BEGIN:STANDARD
DTSTART:20211031T020000
RDATE:20220327T030000
TZOFFSETFROM:+0200
TZOFFSETTO:+0100
TZNAME:Europe/Berlin CET
END:STANDARD
BEGIN:STANDARD
DTSTART:20221030T020000
RDATE:20230326T030000
TZOFFSETFROM:+0200
TZOFFSETTO:+0100
TZNAME:Europe/Berlin CET
END:STANDARD
BEGIN:STANDARD
DTSTART:20231029T020000
RDATE:20240331T030000
TZOFFSETFROM:+0200
TZOFFSETTO:+0100
TZNAME:Europe/Berlin CET
END:STANDARD
BEGIN:STANDARD
DTSTART:20241027T020000
RDATE:20250330T030000
TZOFFSETFROM:+0200
TZOFFSETTO:+0100
TZNAME:Europe/Berlin CET
END:STANDARD
BEGIN:STANDARD
DTSTART:20251026T020000
RDATE:20260329T030000
TZOFFSETFROM:+0200
TZOFFSETTO:+0100
TZNAME:Europe/Berlin CET
END:STANDARD
BEGIN:DAYLIGHT
DTSTART:20190331T030000
RDATE:20191027T020000
TZOFFSETFROM:+0100
TZOFFSETTO:+0200
TZNAME:Europe/Berlin CEST
END:DAYLIGHT
BEGIN:DAYLIGHT
DTSTART:20200329T030000
RDATE:20201025T020000
TZOFFSETFROM:+0100
TZOFFSETTO:+0200
TZNAME:Europe/Berlin CEST
END:DAYLIGHT
BEGIN:DAYLIGHT
DTSTART:20210328T030000
RDATE:20211031T020000
TZOFFSETFROM:+0100
TZOFFSETTO:+0200
TZNAME:Europe/Berlin CEST
END:DAYLIGHT
BEGIN:DAYLIGHT
DTSTART:20220327T030000
RDATE:20221030T020000
TZOFFSETFROM:+0100
TZOFFSETTO:+0200
TZNAME:Europe/Berlin CEST
END:DAYLIGHT
BEGIN:DAYLIGHT
DTSTART:20230326T030000
RDATE:20231029T020000
TZOFFSETFROM:+0100
TZOFFSETTO:+0200
TZNAME:Europe/Berlin CEST
END:DAYLIGHT
BEGIN:DAYLIGHT
DTSTART:20240331T030000
RDATE:20241027T020000
TZOFFSETFROM:+0100
TZOFFSETTO:+0200
TZNAME:Europe/Berlin CEST
END:DAYLIGHT
BEGIN:DAYLIGHT
DTSTART:20250330T030000
RDATE:20251026T020000
TZOFFSETFROM:+0100
TZOFFSETTO:+0200
TZNAME:Europe/Berlin CEST
END:DAYLIGHT
END:VTIMEZONE
BEGIN:VEVENT
UID:d5a2605f7380217e58b54479d6f34838
CATEGORIES:Veranstaltungen
CREATED:20200122T213816
SUMMARY:Newcomer-Event: Training und Jedermann-Schleifchenturnier
DESCRIPTION:Bald findet in unserer Tennishalle wieder ein Newcomer-Event statt, zu dem 
 wir gerne einladen: NEWCOMER - TRAINING \nUND JEDERMANN-SCHLEIFCHENTURNIER\
 nam Samstag 8. Feburar 14:00 Uhr Zielgruppe: Neumitglieder Ü16, die noch ni
 cht in einer Mannschaft spielen, sowie interessierte potentielle Neumitglie
 der Ablauf: \n - 14:00 Uhr Treff in unserer Tennishalle\n - bis ca.15:30 Uh
 r Tennis mit Trainern unserer Tennisakademie auf 2 Plätzen\n - ab 15:30 Uhr
 : Jedermann-Schleifchen-Turnier\n - Ende je nach Teilnehmerzahl bis ca. 17:
 00/17:30 Uhr\n - bis 18 Uhr kann die Halle im Anschluss für freies Spiel ge
 nutzt werden Unkostenbeitrag für Training, Halle, Bälle, Preise: 10 EUR Anm
 eldung: am Besten sofort, spätestens bis Mittwoch 5. Feburar per E-Mail an 
 Diese E-Mail-Adresse ist vor Spambots geschützt! Zur Anzeige muss JavaScrip
 t eingeschaltet sein!
				document.getElementById('cloak5a08ec538e3c827ae0e
 abc44a69492b7').innerHTML = '';
				var prefix = '&#109;a' + 'i&#108;' + '&
 #116;o';
				var path = 'hr' + 'ef' + '=';
				var addy5a08ec538e3c827ae0ea
 bc44a69492b7 = '&#105;nf&#111;' + '&#64;';
				addy5a08ec538e3c827ae0eabc44
 a69492b7 = addy5a08ec538e3c827ae0eabc44a69492b7 + 'btc-w&#105;st&#97;' + '&
 #46;' + 'd&#101;';
				var addy_text5a08ec538e3c827ae0eabc44a69492b7 = '&#1
 05;nf&#111;' + '&#64;' + 'btc-w&#105;st&#97;' + '&#46;' + 'd&#101;';documen
 t.getElementById('cloak5a08ec538e3c827ae0eabc44a69492b7').innerHTML += '<a 
 ' + path + '\'' + prefix + ':' + addy5a08ec538e3c827ae0eabc44a69492b7 + '\'
 >'+addy_text5a08ec538e3c827ae0eabc44a69492b7+'';
		 Wer es noch nicht kennt
 : Schleifchenturniere sind eine tolle Gelegenheit andere Mitglieder kennenz
 ulernen, vielleicht den ein oder anderen künftigen Spielpartner zu finden, 
 und macht einfach eine Menge Spass! Beim Schleifchenturnier werden Paare ge
 bildet aus schlechteren und besseren Tennisspielern. So haben auch Tennisei
 nsteiger mal die Möglichkeit mit guten Spielern ein Match zu machen. Die Pa
 rtner werden nach jeder Runde neu gelost. Ein Spiel geht 15-20 Minuten. Nac
 h jeder Runde erhalten die Gewinner ein Schleifchen, daher eben auch der Na
 me Schleifchenturnier. Weitere Infos dazu hier (clubleben/turniere#schleifc
 henturniere). Und wer sehen möchte, was beim letzten Event so los war.... h
 ier die Fotogalerie eines Newcomer-Events in 2018 (index.php?option=com_con
 tent&amp;view=article&amp;id=179:newcomer-training-und-schleifchenturnier-1
 0-2-2018-fotogalerie&amp;catid=34). 
X-ALT-DESC;FMTTYPE=text/html:<div>Bald findet in unserer Tennishalle wieder ein Newcomer-Event statt, zu
  dem wir gerne einladen:</div><div>&nbsp;</div><div style="text-align: cent
 er;"><strong>NEWCOMER - TRAINING&nbsp;</strong><br /><strong>UND JEDERMANN-
 SCHLEIFCHENTURNIER</strong><br /><strong>am&nbsp;Samstag 8. Feburar 14:00 U
 hr</strong></div><div>&nbsp;</div><div>Zielgruppe: Neumitglieder Ü16, die n
 och nicht in einer Mannschaft spielen, sowie interessierte potentielle Neum
 itglieder</div><div>&nbsp;</div><div>Ablauf:&nbsp;</div><ul><li>14:00 Uhr&n
 bsp;Treff in unserer Tennishalle</li><li>bis ca.15:30 Uhr Tennis mit Traine
 rn unserer Tennisakademie auf 2 Plätzen</li><li>ab 15:30 Uhr: Jedermann-Sch
 leifchen-Turnier</li><li>Ende je nach Teilnehmerzahl bis ca. 17:00/17:30 Uh
 r</li><li>bis 18 Uhr kann die Halle im Anschluss für freies Spiel genutzt w
 erden</li></ul><div>&nbsp;</div><div>Unkostenbeitrag für Training, Halle, B
 älle, Preise: 10 EUR</div><div>&nbsp;</div><div>Anmeldung: am Besten sofort
 , spätestens bis Mittwoch 5. Feburar per E-Mail an <span id="cloak5a08ec538
 e3c827ae0eabc44a69492b7">Diese E-Mail-Adresse ist vor Spambots geschützt! Z
 ur Anzeige muss JavaScript eingeschaltet sein!</span><script type='text/jav
 ascript'>
				document.getElementById('cloak5a08ec538e3c827ae0eabc44a69492b
 7').innerHTML = '';
				var prefix = '&#109;a' + 'i&#108;' + '&#116;o';
			
 	var path = 'hr' + 'ef' + '=';
				var addy5a08ec538e3c827ae0eabc44a69492b7
  = '&#105;nf&#111;' + '&#64;';
				addy5a08ec538e3c827ae0eabc44a69492b7 = a
 ddy5a08ec538e3c827ae0eabc44a69492b7 + 'btc-w&#105;st&#97;' + '&#46;' + 'd&#
 101;';
				var addy_text5a08ec538e3c827ae0eabc44a69492b7 = '&#105;nf&#111;'
  + '&#64;' + 'btc-w&#105;st&#97;' + '&#46;' + 'd&#101;';document.getElement
 ById('cloak5a08ec538e3c827ae0eabc44a69492b7').innerHTML += '<a ' + path + '
 \'' + prefix + ':' + addy5a08ec538e3c827ae0eabc44a69492b7 + '\'>'+addy_text
 5a08ec538e3c827ae0eabc44a69492b7+'<\/a>';
		</script></div><div>&nbsp;</div
 ><div>Wer es noch nicht kennt: Schleifchenturniere sind eine tolle Gelegenh
 eit andere Mitglieder kennenzulernen, vielleicht den ein oder anderen künft
 igen Spielpartner zu finden, und macht einfach eine Menge Spass! Beim Schle
 ifchenturnier werden Paare gebildet aus schlechteren und besseren Tennisspi
 elern. So haben auch Tenniseinsteiger mal die Möglichkeit mit guten Spieler
 n ein&nbsp;Match zu machen. Die Partner werden nach jeder Runde neu gelost.
  Ein Spiel geht 15-20 Minuten. Nach jeder Runde erhalten die Gewinner ein S
 chleifchen, daher eben auch&nbsp;der Name Schleifchenturnier. Weitere Infos
  dazu&nbsp;<a href="https://www.btc-wista.de/clubleben/turniere#schleifchen
 turniere">hier</a>.</div><div>&nbsp;</div><div>Und wer sehen möchte, was be
 im letzten Event so los war.... <a href="https://www.btc-wista.de/index.php
 ?option=com_content&amp;view=article&amp;id=179:newcomer-training-und-schle
 ifchenturnier-10-2-2018-fotogalerie&amp;catid=34">hier die Fotogalerie eine
 s Newcomer-Events in 2018</a>.</div><div>&nbsp;</div>
DTSTAMP:20260423T024730
DTSTART;TZID=Europe/Berlin:20200208T140000
DTEND;TZID=Europe/Berlin:20200208T180000
SEQUENCE:0
TRANSP:OPAQUE
END:VEVENT
END:VCALENDAR