BEGIN:VCALENDAR
VERSION:2.0
PRODID:-//jEvents 2.0 for Joomla//EN
CALSCALE:GREGORIAN
METHOD:PUBLISH
BEGIN:VTIMEZONE
TZID:Europe/Berlin
BEGIN:STANDARD
DTSTART:20190327T170000
RDATE:20190331T030000
TZOFFSETFROM:+0200
TZOFFSETTO:+0100
TZNAME:Europe/Berlin CET
END:STANDARD
BEGIN:STANDARD
DTSTART:20191027T020000
RDATE:20200329T030000
TZOFFSETFROM:+0200
TZOFFSETTO:+0100
TZNAME:Europe/Berlin CET
END:STANDARD
BEGIN:STANDARD
DTSTART:20201025T020000
RDATE:20210328T030000
TZOFFSETFROM:+0200
TZOFFSETTO:+0100
TZNAME:Europe/Berlin CET
END:STANDARD
BEGIN:STANDARD
DTSTART:20211031T020000
RDATE:20220327T030000
TZOFFSETFROM:+0200
TZOFFSETTO:+0100
TZNAME:Europe/Berlin CET
END:STANDARD
BEGIN:STANDARD
DTSTART:20221030T020000
RDATE:20230326T030000
TZOFFSETFROM:+0200
TZOFFSETTO:+0100
TZNAME:Europe/Berlin CET
END:STANDARD
BEGIN:STANDARD
DTSTART:20231029T020000
RDATE:20240331T030000
TZOFFSETFROM:+0200
TZOFFSETTO:+0100
TZNAME:Europe/Berlin CET
END:STANDARD
BEGIN:STANDARD
DTSTART:20241027T020000
RDATE:20250330T030000
TZOFFSETFROM:+0200
TZOFFSETTO:+0100
TZNAME:Europe/Berlin CET
END:STANDARD
BEGIN:STANDARD
DTSTART:20251026T020000
RDATE:20260329T030000
TZOFFSETFROM:+0200
TZOFFSETTO:+0100
TZNAME:Europe/Berlin CET
END:STANDARD
BEGIN:DAYLIGHT
DTSTART:20190331T030000
RDATE:20191027T020000
TZOFFSETFROM:+0100
TZOFFSETTO:+0200
TZNAME:Europe/Berlin CEST
END:DAYLIGHT
BEGIN:DAYLIGHT
DTSTART:20200329T030000
RDATE:20201025T020000
TZOFFSETFROM:+0100
TZOFFSETTO:+0200
TZNAME:Europe/Berlin CEST
END:DAYLIGHT
BEGIN:DAYLIGHT
DTSTART:20210328T030000
RDATE:20211031T020000
TZOFFSETFROM:+0100
TZOFFSETTO:+0200
TZNAME:Europe/Berlin CEST
END:DAYLIGHT
BEGIN:DAYLIGHT
DTSTART:20220327T030000
RDATE:20221030T020000
TZOFFSETFROM:+0100
TZOFFSETTO:+0200
TZNAME:Europe/Berlin CEST
END:DAYLIGHT
BEGIN:DAYLIGHT
DTSTART:20230326T030000
RDATE:20231029T020000
TZOFFSETFROM:+0100
TZOFFSETTO:+0200
TZNAME:Europe/Berlin CEST
END:DAYLIGHT
BEGIN:DAYLIGHT
DTSTART:20240331T030000
RDATE:20241027T020000
TZOFFSETFROM:+0100
TZOFFSETTO:+0200
TZNAME:Europe/Berlin CEST
END:DAYLIGHT
BEGIN:DAYLIGHT
DTSTART:20250330T030000
RDATE:20251026T020000
TZOFFSETFROM:+0100
TZOFFSETTO:+0200
TZNAME:Europe/Berlin CEST
END:DAYLIGHT
END:VTIMEZONE
BEGIN:VEVENT
UID:3fa411c61173a92ba2c37ac0ceb28bd7
CATEGORIES:Veranstaltungen
CREATED:20200217T133140
SUMMARY:ABGESAGT: 24 Stunden Tennis-Event 27./28. März
DESCRIPTION:Schlaflos in Adlershof:\n24-Stunden Tennis-Event beim BTC WISTA\n\nLiebe Te
 nnisenthusiasten,\nwer kennt das nicht, man liegt nachts wach und immer wie
 der geht einem das letzte Training oder Match durch den Kopf und lässt eine
 n nicht schlafen. Am liebsten würde man aus dem Bett springen und seine Feh
 ler korrigieren – leider hat aber die Tennishalle zu und es fehlt der Spiel
 partner. Hier wollen wir wenigstens einmal im Jahr Abhilfe schaffen und lad
 en Euch zum 24 Stunden Tennis in unsere Halle ein. Die Idee ist, dass wir a
 m\nFreitag 27. bis Samstag 28. März 2020\nvon 17 Uhr bis 17 Uhr spielen.\nE
 s ist ein 24-Stunden-Team Cup. Die Spielregeln findet Ihr hier (images/by_n
 avigation/verein/news/20200327-24-std-tennis/Spielregeln_24-Stunden-Team-Cu
 p.pdf), und sie hängen dann auch in der Halle aus.\n\n - Auf Platz 5\n - Ei
 nzel oder Doppel / für eine Stunde\n - Aufschlagmessung auf Platz 6\n - Bei
  großem Andrang beide Plätze\n - Zum Finale - „Schaukampf“ der Trainer 28. 
 von 16:00 - 17:00 Uhr\n - Um 17:30 Uhr wird anschließend die Siegerehrung s
 tattfinden mit geselligem BeisammenseinFür eine verbindliche Anmeldung brau
 chen wir folgende Daten:\n\n - In welchem Zeitfenster wollt Ihr spielen?\n 
 - Wollt Ihr Einzel oder Doppel spielen?\n - Habt Ihr einen Mitspieler oder 
 sollen wir eine Verabredung herstellen?Rückmeldungen bis zum 15. März 2020 
 an Diese E-Mail-Adresse ist vor Spambots geschützt! Zur Anzeige muss JavaSc
 ript eingeschaltet sein!
				document.getElementById('cloak4cf88a507043090f
 c6f4538cc0ea80a5').innerHTML = '';
				var prefix = '&#109;a' + 'i&#108;' +
  '&#116;o';
				var path = 'hr' + 'ef' + '=';
				var addy4cf88a507043090fc
 6f4538cc0ea80a5 = 'br&#105;g&#105;tt&#101;.st&#105;ll&#101;r' + '&#64;';
		
 		addy4cf88a507043090fc6f4538cc0ea80a5 = addy4cf88a507043090fc6f4538cc0ea80
 a5 + 'btc-w&#105;st&#97;' + '&#46;' + 'd&#101;';
				var addy_text4cf88a507
 043090fc6f4538cc0ea80a5 = 'br&#105;g&#105;tt&#101;.st&#105;ll&#101;r' + '&#
 64;' + 'btc-w&#105;st&#97;' + '&#46;' + 'd&#101;';document.getElementById('
 cloak4cf88a507043090fc6f4538cc0ea80a5').innerHTML += '<a style="font-family
 : inherit; font-size: 1rem;" ' + path + '\'' + prefix + ':' + addy4cf88a507
 043090fc6f4538cc0ea80a5 + '\'>'+addy_text4cf88a507043090fc6f4538cc0ea80a5+'
 ';
		 oder in die ausgehängte Liste im Clubhaus eintragen.\nZuschauer sind 
 unbedingt erwünscht. In der Halle wird es ein Sportlerbuffet geben (Kuchens
 penden erwünscht). Eine Spendenbox steht bereit. Die Spenden kommen dem Ver
 ein für die Aktion zugute (und erlaubt uns weitere solche tollen Veranstalt
 ungen durchführen zu können).\nAm 28.3.20 – 18:30 Uhr wird anschließend die
  Siegerehrung stattfinden mit geselligem Beisammensein.\nAuf zahlreiche Tei
 lnehmer freuen sich\nder Vorstand, Event-Beirat, der Ideengeber Henning Leh
 mbecker, und die weiteren Helfer!\n
X-ALT-DESC;FMTTYPE=text/html:<h3>Schlaflos in Adlershof:<br />24-Stunden Tennis-Event beim BTC WISTA<br 
 /><br /></h3><p>Liebe Tennisenthusiasten,</p><p>wer kennt das nicht, man li
 egt nachts wach und immer wieder geht einem das letzte Training oder Match 
 durch den Kopf und lässt einen nicht schlafen. Am liebsten würde man aus de
 m Bett springen und seine Fehler korrigieren – leider hat aber die Tennisha
 lle zu und es fehlt der Spielpartner. Hier wollen wir wenigstens einmal im 
 Jahr Abhilfe schaffen und laden Euch zum 24 Stunden Tennis in unsere Halle 
 ein. Die Idee ist, dass wir am</p><p style="text-align: center;"><span styl
 e="color: #ff6600;"><strong>Freitag 27. bis Samstag 28. März 2020</strong><
 /span><br /><span style="color: #ff6600;"><strong>von 17 Uhr bis 17 Uhr spi
 elen.</strong></span></p><p>Es ist ein 24-Stunden-Team Cup. <a href="https:
 //www.btc-wista.de/images/by_navigation/verein/news/20200327-24-std-tennis/
 Spielregeln_24-Stunden-Team-Cup.pdf" target="_blank">Die Spielregeln findet
  Ihr hier</a>, und sie hängen dann auch in der Halle aus.</p><ul><li>Auf Pl
 atz 5</li><li>Einzel oder Doppel / für eine Stunde</li><li>Aufschlagmessung
  auf Platz 6</li><li>Bei großem Andrang beide Plätze</li><li>Zum Finale - „
 Schaukampf“ der Trainer 28. von 16:00 - 17:00 Uhr</li><li>Um 17:30 Uhr wird
  anschließend die Siegerehrung stattfinden mit geselligem Beisammensein</li
 ></ul><p>Für eine verbindliche Anmeldung brauchen wir folgende Daten:</p><u
 l><li>In welchem Zeitfenster wollt Ihr spielen?</li><li>Wollt Ihr Einzel od
 er Doppel spielen?</li><li>Habt Ihr einen Mitspieler oder sollen wir eine V
 erabredung herstellen?</li></ul><p>Rückmeldungen bis zum 15. März 2020 an <
 span id="cloak4cf88a507043090fc6f4538cc0ea80a5">Diese E-Mail-Adresse ist vo
 r Spambots geschützt! Zur Anzeige muss JavaScript eingeschaltet sein!</span
 ><script type='text/javascript'>
				document.getElementById('cloak4cf88a50
 7043090fc6f4538cc0ea80a5').innerHTML = '';
				var prefix = '&#109;a' + 'i&
 #108;' + '&#116;o';
				var path = 'hr' + 'ef' + '=';
				var addy4cf88a507
 043090fc6f4538cc0ea80a5 = 'br&#105;g&#105;tt&#101;.st&#105;ll&#101;r' + '&#
 64;';
				addy4cf88a507043090fc6f4538cc0ea80a5 = addy4cf88a507043090fc6f453
 8cc0ea80a5 + 'btc-w&#105;st&#97;' + '&#46;' + 'd&#101;';
				var addy_text4
 cf88a507043090fc6f4538cc0ea80a5 = 'br&#105;g&#105;tt&#101;.st&#105;ll&#101;
 r' + '&#64;' + 'btc-w&#105;st&#97;' + '&#46;' + 'd&#101;';document.getEleme
 ntById('cloak4cf88a507043090fc6f4538cc0ea80a5').innerHTML += '<a style="fon
 t-family: inherit; font-size: 1rem;" ' + path + '\'' + prefix + ':' + addy4
 cf88a507043090fc6f4538cc0ea80a5 + '\'>'+addy_text4cf88a507043090fc6f4538cc0
 ea80a5+'<\/a>';
		</script> oder in die ausgehängte Liste im Clubhaus eintr
 agen.</p><p>Zuschauer sind unbedingt erwünscht.&nbsp;In der Halle wird es e
 in Sportlerbuffet geben (Kuchenspenden erwünscht).&nbsp;Eine Spendenbox ste
 ht bereit. Die Spenden kommen dem Verein für die Aktion zugute (und erlaubt
  uns weitere solche tollen Veranstaltungen durchführen zu können).</p><p>Am
  28.3.20 – 18:30 Uhr wird anschließend die Siegerehrung stattfinden mit ges
 elligem Beisammensein.</p><p>Auf zahlreiche Teilnehmer freuen sich<br /><em
 >der Vorstand, Event-Beirat, der Ideengeber Henning Lehmbecker, und die wei
 teren Helfer!</em></p>
DTSTAMP:20260422T193811
DTSTART;TZID=Europe/Berlin:20200327T170000
DTEND;TZID=Europe/Berlin:20200328T190000
SEQUENCE:0
TRANSP:OPAQUE
END:VEVENT
END:VCALENDAR