BEGIN:VCALENDAR
VERSION:2.0
PRODID:-//jEvents 2.0 for Joomla//EN
CALSCALE:GREGORIAN
METHOD:PUBLISH
BEGIN:VTIMEZONE
TZID:Europe/Berlin
BEGIN:STANDARD
DTSTART:20191027T020000
RDATE:20200329T030000
TZOFFSETFROM:+0200
TZOFFSETTO:+0100
TZNAME:Europe/Berlin CET
END:STANDARD
BEGIN:STANDARD
DTSTART:20201025T020000
RDATE:20210328T030000
TZOFFSETFROM:+0200
TZOFFSETTO:+0100
TZNAME:Europe/Berlin CET
END:STANDARD
BEGIN:STANDARD
DTSTART:20211031T020000
RDATE:20220327T030000
TZOFFSETFROM:+0200
TZOFFSETTO:+0100
TZNAME:Europe/Berlin CET
END:STANDARD
BEGIN:STANDARD
DTSTART:20221030T020000
RDATE:20230326T030000
TZOFFSETFROM:+0200
TZOFFSETTO:+0100
TZNAME:Europe/Berlin CET
END:STANDARD
BEGIN:STANDARD
DTSTART:20231029T020000
RDATE:20240331T030000
TZOFFSETFROM:+0200
TZOFFSETTO:+0100
TZNAME:Europe/Berlin CET
END:STANDARD
BEGIN:STANDARD
DTSTART:20241027T020000
RDATE:20250330T030000
TZOFFSETFROM:+0200
TZOFFSETTO:+0100
TZNAME:Europe/Berlin CET
END:STANDARD
BEGIN:STANDARD
DTSTART:20251026T020000
RDATE:20260329T030000
TZOFFSETFROM:+0200
TZOFFSETTO:+0100
TZNAME:Europe/Berlin CET
END:STANDARD
BEGIN:DAYLIGHT
DTSTART:20190514T183000
RDATE:20191027T020000
TZOFFSETFROM:+0100
TZOFFSETTO:+0200
TZNAME:Europe/Berlin CEST
END:DAYLIGHT
BEGIN:DAYLIGHT
DTSTART:20200329T030000
RDATE:20201025T020000
TZOFFSETFROM:+0100
TZOFFSETTO:+0200
TZNAME:Europe/Berlin CEST
END:DAYLIGHT
BEGIN:DAYLIGHT
DTSTART:20210328T030000
RDATE:20211031T020000
TZOFFSETFROM:+0100
TZOFFSETTO:+0200
TZNAME:Europe/Berlin CEST
END:DAYLIGHT
BEGIN:DAYLIGHT
DTSTART:20220327T030000
RDATE:20221030T020000
TZOFFSETFROM:+0100
TZOFFSETTO:+0200
TZNAME:Europe/Berlin CEST
END:DAYLIGHT
BEGIN:DAYLIGHT
DTSTART:20230326T030000
RDATE:20231029T020000
TZOFFSETFROM:+0100
TZOFFSETTO:+0200
TZNAME:Europe/Berlin CEST
END:DAYLIGHT
BEGIN:DAYLIGHT
DTSTART:20240331T030000
RDATE:20241027T020000
TZOFFSETFROM:+0100
TZOFFSETTO:+0200
TZNAME:Europe/Berlin CEST
END:DAYLIGHT
BEGIN:DAYLIGHT
DTSTART:20250330T030000
RDATE:20251026T020000
TZOFFSETFROM:+0100
TZOFFSETTO:+0200
TZNAME:Europe/Berlin CEST
END:DAYLIGHT
END:VTIMEZONE
BEGIN:VEVENT
UID:23b20ea1b98f50937d2432a176fc0021
CATEGORIES:Veranstaltungen
CREATED:20200514T091505
SUMMARY:Vorstandssitzung (Videokonferenz)
DESCRIPTION:Interne Besprechung des Vorstandes und ggf. der Beiräte.\nAlle Vereinsmitgl
 ieder haben zu Beginn jeder Vorstandssitzung Gelegenheit, ihre Anregungen o
 der Sorgen direkt und persönlich vorzutragen, gerne auch vorab per E-Mail a
 n: Diese E-Mail-Adresse ist vor Spambots geschützt! Zur Anzeige muss JavaSc
 ript eingeschaltet sein!
				document.getElementById('cloake7542b8a13ac94ea
 b81d1e2c1b1650c6').innerHTML = '';
				var prefix = '&#109;a' + 'i&#108;' +
  '&#116;o';
				var path = 'hr' + 'ef' + '=';
				var addye7542b8a13ac94eab
 81d1e2c1b1650c6 = '&#105;nf&#111;' + '&#64;';
				addye7542b8a13ac94eab81d1
 e2c1b1650c6 = addye7542b8a13ac94eab81d1e2c1b1650c6 + 'btc-w&#105;st&#97;' +
  '&#46;' + 'd&#101;';
				var addy_texte7542b8a13ac94eab81d1e2c1b1650c6 = '
 &#105;nf&#111;' + '&#64;' + 'btc-w&#105;st&#97;' + '&#46;' + 'd&#101;';docu
 ment.getElementById('cloake7542b8a13ac94eab81d1e2c1b1650c6').innerHTML += '
 <a ' + path + '\'' + prefix + ':' + addye7542b8a13ac94eab81d1e2c1b1650c6 + 
 '\'>'+addy_texte7542b8a13ac94eab81d1e2c1b1650c6+'';
		\n
X-ALT-DESC;FMTTYPE=text/html:<p>Interne Besprechung des Vorstandes und ggf. der Beiräte.</p><p>Alle Vere
 insmitglieder haben zu Beginn jeder Vorstandssitzung Gelegenheit, ihre Anre
 gungen oder Sorgen direkt und persönlich vorzutragen, gerne auch vorab per 
 E-Mail an:&nbsp;<span id="cloake7542b8a13ac94eab81d1e2c1b1650c6">Diese E-Ma
 il-Adresse ist vor Spambots geschützt! Zur Anzeige muss JavaScript eingesch
 altet sein!</span><script type='text/javascript'>
				document.getElementBy
 Id('cloake7542b8a13ac94eab81d1e2c1b1650c6').innerHTML = '';
				var prefix 
 = '&#109;a' + 'i&#108;' + '&#116;o';
				var path = 'hr' + 'ef' + '=';
				
 var addye7542b8a13ac94eab81d1e2c1b1650c6 = '&#105;nf&#111;' + '&#64;';
				
 addye7542b8a13ac94eab81d1e2c1b1650c6 = addye7542b8a13ac94eab81d1e2c1b1650c6
  + 'btc-w&#105;st&#97;' + '&#46;' + 'd&#101;';
				var addy_texte7542b8a13a
 c94eab81d1e2c1b1650c6 = '&#105;nf&#111;' + '&#64;' + 'btc-w&#105;st&#97;' +
  '&#46;' + 'd&#101;';document.getElementById('cloake7542b8a13ac94eab81d1e2c
 1b1650c6').innerHTML += '<a ' + path + '\'' + prefix + ':' + addye7542b8a13
 ac94eab81d1e2c1b1650c6 + '\'>'+addy_texte7542b8a13ac94eab81d1e2c1b1650c6+'<
 \/a>';
		</script></p>
DTSTAMP:20260422T112629
DTSTART;TZID=Europe/Berlin:20200514T183000
DTEND;TZID=Europe/Berlin:20200514T200000
SEQUENCE:0
TRANSP:OPAQUE
END:VEVENT
END:VCALENDAR