BEGIN:VCALENDAR
VERSION:2.0
PRODID:-//jEvents 2.0 for Joomla//EN
CALSCALE:GREGORIAN
METHOD:PUBLISH
BEGIN:VTIMEZONE
TZID:Europe/Berlin
BEGIN:STANDARD
DTSTART:20191027T020000
RDATE:20200329T030000
TZOFFSETFROM:+0200
TZOFFSETTO:+0100
TZNAME:Europe/Berlin CET
END:STANDARD
BEGIN:STANDARD
DTSTART:20201025T020000
RDATE:20210328T030000
TZOFFSETFROM:+0200
TZOFFSETTO:+0100
TZNAME:Europe/Berlin CET
END:STANDARD
BEGIN:STANDARD
DTSTART:20211031T020000
RDATE:20220327T030000
TZOFFSETFROM:+0200
TZOFFSETTO:+0100
TZNAME:Europe/Berlin CET
END:STANDARD
BEGIN:STANDARD
DTSTART:20221030T020000
RDATE:20230326T030000
TZOFFSETFROM:+0200
TZOFFSETTO:+0100
TZNAME:Europe/Berlin CET
END:STANDARD
BEGIN:STANDARD
DTSTART:20231029T020000
RDATE:20240331T030000
TZOFFSETFROM:+0200
TZOFFSETTO:+0100
TZNAME:Europe/Berlin CET
END:STANDARD
BEGIN:STANDARD
DTSTART:20241027T020000
RDATE:20250330T030000
TZOFFSETFROM:+0200
TZOFFSETTO:+0100
TZNAME:Europe/Berlin CET
END:STANDARD
BEGIN:STANDARD
DTSTART:20251026T020000
RDATE:20260329T030000
TZOFFSETFROM:+0200
TZOFFSETTO:+0100
TZNAME:Europe/Berlin CET
END:STANDARD
BEGIN:DAYLIGHT
DTSTART:20190916T180000
RDATE:20191027T020000
TZOFFSETFROM:+0100
TZOFFSETTO:+0200
TZNAME:Europe/Berlin CEST
END:DAYLIGHT
BEGIN:DAYLIGHT
DTSTART:20200329T030000
RDATE:20201025T020000
TZOFFSETFROM:+0100
TZOFFSETTO:+0200
TZNAME:Europe/Berlin CEST
END:DAYLIGHT
BEGIN:DAYLIGHT
DTSTART:20210328T030000
RDATE:20211031T020000
TZOFFSETFROM:+0100
TZOFFSETTO:+0200
TZNAME:Europe/Berlin CEST
END:DAYLIGHT
BEGIN:DAYLIGHT
DTSTART:20220327T030000
RDATE:20221030T020000
TZOFFSETFROM:+0100
TZOFFSETTO:+0200
TZNAME:Europe/Berlin CEST
END:DAYLIGHT
BEGIN:DAYLIGHT
DTSTART:20230326T030000
RDATE:20231029T020000
TZOFFSETFROM:+0100
TZOFFSETTO:+0200
TZNAME:Europe/Berlin CEST
END:DAYLIGHT
BEGIN:DAYLIGHT
DTSTART:20240331T030000
RDATE:20241027T020000
TZOFFSETFROM:+0100
TZOFFSETTO:+0200
TZNAME:Europe/Berlin CEST
END:DAYLIGHT
BEGIN:DAYLIGHT
DTSTART:20250330T030000
RDATE:20251026T020000
TZOFFSETFROM:+0100
TZOFFSETTO:+0200
TZNAME:Europe/Berlin CEST
END:DAYLIGHT
END:VTIMEZONE
BEGIN:VEVENT
UID:b5781f504ece5d0e7c92e46bf4042b06
CATEGORIES:Tennisakademie regelmäßige Veranstaltung
CREATED:20200817T170418
SUMMARY:Einsteiger-Training (Tennis Xpress)
DESCRIPTION:Tennis Xpress ist ein einfaches und motivierendes Programm, das Erwachsene 
 mit viel Spaß in die Sportart Tennis einführt. Die Vermittlung der Spielfäh
 igkeit steht an vorderster Stelle.\nEs richtet sich an erwachsene Einsteige
 r. Auch sie können durch den Einsatz von langsameren Bällen und kleineren P
 lätzen schon sehr schnell Tennis spielen. Am Ende der ersten Stunde sind di
 e \nErwachsenen in der Lage, mit den orangen oder grünen Bällen auf dem ges
 amten Tennisfeld das Spiel mit einem Aufschlag zu eröffnen und Bälle hin un
 d her zu schlagen. Bereits hier beginnen sie, um Punkte zu spielen und erst
 e kleine Wettkämpfe auszutragen.\nAm Ende des gesamten Kurses, der aus sech
 s Einheiten à 90min besteht, beherrschen die Teilnehmer die grundlegenden T
 echniken, Taktiken und Regeln des Tennissports. Und sie sollen in der Lage 
 sein, mit grünen Bällen auf dem gesamten Tennisfeld um Punkte spielen zu kö
 nnen.\n
X-ALT-DESC;FMTTYPE=text/html:<p>Tennis Xpress ist ein einfaches und motivierendes Programm, das Erwachse
 ne mit viel Spaß in die Sportart Tennis einführt. Die Vermittlung der Spiel
 fähigkeit steht an vorderster Stelle.</p><p>Es richtet sich an erwachsene E
 insteiger. Auch sie können durch den Einsatz von langsameren Bällen und kle
 ineren Plätzen schon sehr schnell Tennis spielen. Am Ende der ersten Stunde
  sind die <br />Erwachsenen in der Lage, mit den orangen oder grünen Bällen
  auf dem gesamten Tennisfeld das Spiel mit einem Aufschlag zu eröffnen und 
 Bälle hin und her zu schlagen. Bereits hier beginnen sie, um Punkte zu spie
 len und erste kleine Wettkämpfe auszutragen.</p><p>Am Ende des gesamten Kur
 ses, der aus sechs Einheiten à 90min besteht, beherrschen die Teilnehmer di
 e grundlegenden Techniken, Taktiken und Regeln des Tennissports. Und sie so
 llen in der Lage sein, mit grünen Bällen auf dem gesamten Tennisfeld um Pun
 kte spielen zu können.</p>
DTSTAMP:20260420T072055
DTSTART;TZID=Europe/Berlin:20200916T180000
DTEND;TZID=Europe/Berlin:20200916T200000
SEQUENCE:0
TRANSP:OPAQUE
END:VEVENT
END:VCALENDAR