BEGIN:VCALENDAR
VERSION:2.0
PRODID:-//jEvents 2.0 for Joomla//EN
CALSCALE:GREGORIAN
METHOD:PUBLISH
BEGIN:VTIMEZONE
TZID:Europe/Berlin
BEGIN:STANDARD
DTSTART:20221030T020000
RDATE:20230326T030000
TZOFFSETFROM:+0200
TZOFFSETTO:+0100
TZNAME:Europe/Berlin CET
END:STANDARD
BEGIN:STANDARD
DTSTART:20231029T020000
RDATE:20240331T030000
TZOFFSETFROM:+0200
TZOFFSETTO:+0100
TZNAME:Europe/Berlin CET
END:STANDARD
BEGIN:STANDARD
DTSTART:20241027T020000
RDATE:20250330T030000
TZOFFSETFROM:+0200
TZOFFSETTO:+0100
TZNAME:Europe/Berlin CET
END:STANDARD
BEGIN:STANDARD
DTSTART:20251026T020000
RDATE:20260329T030000
TZOFFSETFROM:+0200
TZOFFSETTO:+0100
TZNAME:Europe/Berlin CET
END:STANDARD
BEGIN:DAYLIGHT
DTSTART:20220915T140000
RDATE:20221030T020000
TZOFFSETFROM:+0100
TZOFFSETTO:+0200
TZNAME:Europe/Berlin CEST
END:DAYLIGHT
BEGIN:DAYLIGHT
DTSTART:20230326T030000
RDATE:20231029T020000
TZOFFSETFROM:+0100
TZOFFSETTO:+0200
TZNAME:Europe/Berlin CEST
END:DAYLIGHT
BEGIN:DAYLIGHT
DTSTART:20240331T030000
RDATE:20241027T020000
TZOFFSETFROM:+0100
TZOFFSETTO:+0200
TZNAME:Europe/Berlin CEST
END:DAYLIGHT
BEGIN:DAYLIGHT
DTSTART:20250330T030000
RDATE:20251026T020000
TZOFFSETFROM:+0100
TZOFFSETTO:+0200
TZNAME:Europe/Berlin CEST
END:DAYLIGHT
END:VTIMEZONE
BEGIN:VEVENT
UID:f9fb274ce454e88602d14d1bba6d5b40
CATEGORIES:Turniere
CREATED:20230915T103113
SUMMARY:Clubmeisterschaft Newcomer
DESCRIPTION:AN ALLE NEWCOMER IM BTC WISTA Traditionell veranstalten wir neben der „norm
 alen“ Clubmeisterschaft auch ein „Newcomer“-Turnier für unsere neuen Verein
 smitglieder (in 2022 und 2023 eingetreten) über 18 Jahre. Daher laden wir D
 ich ein zur Clubmeisterschaft Newcomer am kommenden Samstag, 16.9.2023von 1
 4:00-18:00 Uhr Wenn Du jetzt also vielleicht denkst „eine Meisterschaft ist
  doch nichts für mich“ oder „ich bin froh, wenn ich einen Ball übers Netz b
 ringe“ - dann lass Dir gesagt sein - genau deshalb haben wir dieses Angebot
  eingerichtet! Es gibt also keinen Grund, sich zu genieren, und zu blamiere
 n sowieso nicht! Es geht in allererster Linie um den Spaß und natürlich auc
 h die anderen kennenzulernen. ACHTUNG ANMELDESCHLUSS Donnerstag, 14. Septem
 ber - am besten jetzt gar nicht lange überlegen, und gleich direkt anmelden
 ! Online hier:  (https://btc-wista.ebusy.de/event-module/1362?eventView=all
 )https://btc-wista.ebusy.de/event-module/1362?eventView=all (https://btc-wi
 sta.ebusy.de/event-module/1362?eventView=all), alternativ per E-Mail an  (m
 ailto:info@btc-wista.de)Diese E-Mail-Adresse ist vor Spambots geschützt! Zu
 r Anzeige muss JavaScript eingeschaltet sein!
				document.getElementById('
 cloakae837549d31a193a32537e76847445f3').innerHTML = '';
				var prefix = '&
 #109;a' + 'i&#108;' + '&#116;o';
				var path = 'hr' + 'ef' + '=';
				var 
 addyae837549d31a193a32537e76847445f3 = '&#105;nf&#111;' + '&#64;';
				addy
 ae837549d31a193a32537e76847445f3 = addyae837549d31a193a32537e76847445f3 + '
 btc-w&#105;st&#97;' + '&#46;' + 'd&#101;';
				var addy_textae837549d31a193
 a32537e76847445f3 = '&#105;nf&#111;' + '&#64;' + 'btc-w&#105;st&#97;' + '&#
 46;' + 'd&#101;';document.getElementById('cloakae837549d31a193a32537e768474
 45f3').innerHTML += '<a ' + path + '\'' + prefix + ':' + addyae837549d31a19
 3a32537e76847445f3 + '\'>'+addy_textae837549d31a193a32537e76847445f3+'';
		
 . Hier noch einige Antworten auf häufig gestellte Fragen: Für wen ist diese
 s Newcomer-Turnier?Als Anfänger:in, mit einigen Trainingsstunden, oder als 
 Wiedereinsteiger:in bist Du hier genau richtig! Alte "Tennis-Hasen“ und „Tu
 rnierspieler“ bleiben außen vor! So macht es auch Spaß, wenn man noch nicht
  so gut Tennis spielt. Wie wird gespielt?Es werden Einzel- und Doppelspiele
  durchgeführt - Spielmodus je nach Teilnehmerzahl, Spiele gehen über nur ei
 nen Satz, so dass die einzelnen Spiele kurz sind und viele Paarungen zustan
 de kommen, und jeder 3-4 mal drankommt. Wir planen zwischen 14:00 Uhr -18:0
 0 Uhr zu spielen (je nach Teilnehmerzahl ggf. bis maximal 19 Uhr). Kostet d
 as was?Die Meldegebühr beträgt 10 EUR für Bälle und Preise. Was muss ich mi
 tbringen?Deinen Tennisschläger, Sonnencreme, ggf. Handtuch, Proviant. Geträ
 nke können aus unserem Kühlschrank im Clubhaus erworben werden. Bälle werde
 n durch den Verein gestellt.  Die Turnierleitung macht Reinald Faß, Mobil 0
 173 3671665, E-Mail:  (mailto:reinald.fass@btc-wista.de)Diese E-Mail-Adress
 e ist vor Spambots geschützt! Zur Anzeige muss JavaScript eingeschaltet sei
 n!
				document.getElementById('cloaka2055453dc888b7527a25437955cb1f8').inn
 erHTML = '';
				var prefix = '&#109;a' + 'i&#108;' + '&#116;o';
				var pa
 th = 'hr' + 'ef' + '=';
				var addya2055453dc888b7527a25437955cb1f8 = 'r&#
 101;&#105;n&#97;ld.f&#97;ss' + '&#64;';
				addya2055453dc888b7527a25437955
 cb1f8 = addya2055453dc888b7527a25437955cb1f8 + 'btc-w&#105;st&#97;' + '&#46
 ;' + 'd&#101;';
				var addy_texta2055453dc888b7527a25437955cb1f8 = 'r&#101
 ;&#105;n&#97;ld.f&#97;ss' + '&#64;' + 'btc-w&#105;st&#97;' + '&#46;' + 'd&#
 101;';document.getElementById('cloaka2055453dc888b7527a25437955cb1f8').inne
 rHTML += '<a ' + path + '\'' + prefix + ':' + addya2055453dc888b7527a254379
 55cb1f8 + '\'>'+addy_texta2055453dc888b7527a25437955cb1f8+'';
		. Falls noc
 h Fragen sind: Du kannst uns gerne per E-Mail anschreiben oder einfach anru
 fen. Wir freuen uns auf Deine Anmeldung, zahlreiche Teilnehmer und einen Ri
 esen-Spaß!  Sportliche Grüße,der Vorstand des BTC WISTA
X-ALT-DESC;FMTTYPE=text/html:<div><strong>AN ALLE NEWCOMER IM BTC WISTA</strong></div><div>&nbsp;</div><
 div>Traditionell veranstalten wir neben der „normalen“ Clubmeisterschaft au
 ch ein&nbsp;<b>„Newcomer“-Turnier für unsere neuen Vereinsmitglieder</b>&nb
 sp;(in 2022 und 2023 eingetreten) über 18 Jahre.</div><div>&nbsp;</div><div
 >Daher laden wir Dich ein zur</div><div>&nbsp;</div><div style="text-align:
  center;"><b><span style="color: #ff2600;">Clubmeisterschaft Newcomer&nbsp;
 </span></b></div><div style="text-align: center;"><b><span style="color: #f
 f2600;">am kommenden Samstag, 16.9.2023</span></b></div><div style="text-al
 ign: center;"><b><span style="color: #ff2600;">von 14:00-18:00 Uhr</span></
 b></div><div>&nbsp;</div><div>Wenn Du jetzt also vielleicht denkst „eine Me
 isterschaft ist doch nichts für mich“ oder „ich bin froh, wenn ich einen Ba
 ll übers Netz bringe“ - dann lass Dir gesagt sein -&nbsp;<b>genau deshalb h
 aben wir dieses Angebot eingerichtet!&nbsp;</b>Es gibt also keinen Grund, s
 ich zu genieren, und zu blamieren sowieso nicht! Es geht in allererster Lin
 ie um den Spaß und natürlich auch die anderen kennenzulernen.</div><div>&nb
 sp;</div><div><b><span style="color: #ff2600;">ACHTUNG ANMELDESCHLUSS Donne
 rstag, 14. September&nbsp;</span></b>- am besten jetzt gar nicht lange über
 legen, und gleich direkt anmelden! Online hier:&nbsp;<a href="https://btc-w
 ista.ebusy.de/event-module/1362?eventView=all"></a><a href="https://btc-wis
 ta.ebusy.de/event-module/1362?eventView=all">https://btc-wista.ebusy.de/eve
 nt-module/1362?eventView=all</a>, alternativ per E-Mail an&nbsp;<a href="ma
 ilto:info@btc-wista.de"></a><span id="cloakae837549d31a193a32537e76847445f3
 ">Diese E-Mail-Adresse ist vor Spambots geschützt! Zur Anzeige muss JavaScr
 ipt eingeschaltet sein!</span><script type='text/javascript'>
				document.
 getElementById('cloakae837549d31a193a32537e76847445f3').innerHTML = '';
			
 	var prefix = '&#109;a' + 'i&#108;' + '&#116;o';
				var path = 'hr' + 'ef'
  + '=';
				var addyae837549d31a193a32537e76847445f3 = '&#105;nf&#111;' + '
 &#64;';
				addyae837549d31a193a32537e76847445f3 = addyae837549d31a193a3253
 7e76847445f3 + 'btc-w&#105;st&#97;' + '&#46;' + 'd&#101;';
				var addy_tex
 tae837549d31a193a32537e76847445f3 = '&#105;nf&#111;' + '&#64;' + 'btc-w&#10
 5;st&#97;' + '&#46;' + 'd&#101;';document.getElementById('cloakae837549d31a
 193a32537e76847445f3').innerHTML += '<a ' + path + '\'' + prefix + ':' + ad
 dyae837549d31a193a32537e76847445f3 + '\'>'+addy_textae837549d31a193a32537e7
 6847445f3+'<\/a>';
		</script>.</div><div>&nbsp;</div><div>Hier noch einige
  Antworten auf häufig gestellte Fragen:</div><div>&nbsp;</div><div><i><b>Fü
 r wen ist dieses Newcomer-Turnier?</b></i></div><div><b>Als Anfänger:in, mi
 t einigen Trainingsstunden, oder als Wiedereinsteiger:in bist Du hier genau
  richtig!</b>&nbsp;Alte "Tennis-Hasen“ und „Turnierspieler“ bleiben außen v
 or! So macht es auch Spaß, wenn man noch nicht so gut Tennis spielt.</div><
 div>&nbsp;</div><div><i><b>Wie wird gespielt?</b></i></div><div>Es werden E
 inzel- und Doppelspiele durchgeführt - Spielmodus je nach Teilnehmerzahl, S
 piele gehen über nur einen Satz, so dass die einzelnen Spiele kurz sind und
  viele Paarungen zustande kommen, und jeder 3-4 mal drankommt. Wir planen z
 wischen 14:00 Uhr -18:00 Uhr zu spielen (je nach Teilnehmerzahl ggf. bis ma
 ximal 19 Uhr).</div><div>&nbsp;</div><div><div><b><i>Kostet das was?</i></b
 ></div><div>Die Meldegebühr beträgt 10 EUR für Bälle und Preise.</div></div
 ><div>&nbsp;</div><div><b><i>Was muss ich mitbringen?</i></b></div><div>Dei
 nen Tennisschläger, Sonnencreme, ggf. Handtuch, Proviant. Getränke können a
 us unserem Kühlschrank im Clubhaus erworben werden. Bälle werden durch den 
 Verein gestellt.</div><div>&nbsp;</div><div>&nbsp;</div><div>Die Turnierlei
 tung macht Reinald Faß, Mobil 0173 3671665, E-Mail:&nbsp;<a href="mailto:re
 inald.fass@btc-wista.de"></a><span id="cloaka2055453dc888b7527a25437955cb1f
 8">Diese E-Mail-Adresse ist vor Spambots geschützt! Zur Anzeige muss JavaSc
 ript eingeschaltet sein!</span><script type='text/javascript'>
				document
 .getElementById('cloaka2055453dc888b7527a25437955cb1f8').innerHTML = '';
		
 		var prefix = '&#109;a' + 'i&#108;' + '&#116;o';
				var path = 'hr' + 'ef
 ' + '=';
				var addya2055453dc888b7527a25437955cb1f8 = 'r&#101;&#105;n&#97
 ;ld.f&#97;ss' + '&#64;';
				addya2055453dc888b7527a25437955cb1f8 = addya20
 55453dc888b7527a25437955cb1f8 + 'btc-w&#105;st&#97;' + '&#46;' + 'd&#101;';
 
				var addy_texta2055453dc888b7527a25437955cb1f8 = 'r&#101;&#105;n&#97;ld
 .f&#97;ss' + '&#64;' + 'btc-w&#105;st&#97;' + '&#46;' + 'd&#101;';document.
 getElementById('cloaka2055453dc888b7527a25437955cb1f8').innerHTML += '<a ' 
 + path + '\'' + prefix + ':' + addya2055453dc888b7527a25437955cb1f8 + '\'>'
 +addy_texta2055453dc888b7527a25437955cb1f8+'<\/a>';
		</script>. Falls noch
  Fragen sind: Du kannst uns gerne per E-Mail anschreiben oder einfach anruf
 en.</div><div><div>&nbsp;</div><div>Wir freuen uns auf Deine Anmeldung, zah
 lreiche Teilnehmer und einen Riesen-Spaß!</div></div><div>&nbsp;</div><div>
 &nbsp;</div><div><div><div><div>Sportliche Grüße,</div><div><i>der Vorstand
  des BTC WISTA</i></div></div></div></div>
DTSTAMP:20260422T203308
DTSTART;TZID=Europe/Berlin:20230916T140000
DTEND;TZID=Europe/Berlin:20230916T180000
SEQUENCE:0
TRANSP:OPAQUE
END:VEVENT
END:VCALENDAR