BEGIN:VCALENDAR
VERSION:2.0
PRODID:-//jEvents 2.0 for Joomla//EN
CALSCALE:GREGORIAN
METHOD:PUBLISH
BEGIN:VTIMEZONE
TZID:Europe/Berlin
BEGIN:STANDARD
DTSTART:20161110T150000
RDATE:20170326T030000
TZOFFSETFROM:+0200
TZOFFSETTO:+0100
TZNAME:Europe/Berlin CET
END:STANDARD
BEGIN:STANDARD
DTSTART:20171029T020000
RDATE:20180325T030000
TZOFFSETFROM:+0200
TZOFFSETTO:+0100
TZNAME:Europe/Berlin CET
END:STANDARD
BEGIN:STANDARD
DTSTART:20181028T020000
RDATE:20190331T030000
TZOFFSETFROM:+0200
TZOFFSETTO:+0100
TZNAME:Europe/Berlin CET
END:STANDARD
BEGIN:STANDARD
DTSTART:20191027T020000
RDATE:20200329T030000
TZOFFSETFROM:+0200
TZOFFSETTO:+0100
TZNAME:Europe/Berlin CET
END:STANDARD
BEGIN:STANDARD
DTSTART:20201025T020000
RDATE:20210328T030000
TZOFFSETFROM:+0200
TZOFFSETTO:+0100
TZNAME:Europe/Berlin CET
END:STANDARD
BEGIN:STANDARD
DTSTART:20211031T020000
RDATE:20220327T030000
TZOFFSETFROM:+0200
TZOFFSETTO:+0100
TZNAME:Europe/Berlin CET
END:STANDARD
BEGIN:STANDARD
DTSTART:20221030T020000
RDATE:20230326T030000
TZOFFSETFROM:+0200
TZOFFSETTO:+0100
TZNAME:Europe/Berlin CET
END:STANDARD
BEGIN:STANDARD
DTSTART:20231029T020000
RDATE:20240331T030000
TZOFFSETFROM:+0200
TZOFFSETTO:+0100
TZNAME:Europe/Berlin CET
END:STANDARD
BEGIN:STANDARD
DTSTART:20241027T020000
RDATE:20250330T030000
TZOFFSETFROM:+0200
TZOFFSETTO:+0100
TZNAME:Europe/Berlin CET
END:STANDARD
BEGIN:STANDARD
DTSTART:20251026T020000
RDATE:20260329T030000
TZOFFSETFROM:+0200
TZOFFSETTO:+0100
TZNAME:Europe/Berlin CET
END:STANDARD
BEGIN:DAYLIGHT
DTSTART:20170326T030000
RDATE:20171029T020000
TZOFFSETFROM:+0100
TZOFFSETTO:+0200
TZNAME:Europe/Berlin CEST
END:DAYLIGHT
BEGIN:DAYLIGHT
DTSTART:20180325T030000
RDATE:20181028T020000
TZOFFSETFROM:+0100
TZOFFSETTO:+0200
TZNAME:Europe/Berlin CEST
END:DAYLIGHT
BEGIN:DAYLIGHT
DTSTART:20190331T030000
RDATE:20191027T020000
TZOFFSETFROM:+0100
TZOFFSETTO:+0200
TZNAME:Europe/Berlin CEST
END:DAYLIGHT
BEGIN:DAYLIGHT
DTSTART:20200329T030000
RDATE:20201025T020000
TZOFFSETFROM:+0100
TZOFFSETTO:+0200
TZNAME:Europe/Berlin CEST
END:DAYLIGHT
BEGIN:DAYLIGHT
DTSTART:20210328T030000
RDATE:20211031T020000
TZOFFSETFROM:+0100
TZOFFSETTO:+0200
TZNAME:Europe/Berlin CEST
END:DAYLIGHT
BEGIN:DAYLIGHT
DTSTART:20220327T030000
RDATE:20221030T020000
TZOFFSETFROM:+0100
TZOFFSETTO:+0200
TZNAME:Europe/Berlin CEST
END:DAYLIGHT
BEGIN:DAYLIGHT
DTSTART:20230326T030000
RDATE:20231029T020000
TZOFFSETFROM:+0100
TZOFFSETTO:+0200
TZNAME:Europe/Berlin CEST
END:DAYLIGHT
BEGIN:DAYLIGHT
DTSTART:20240331T030000
RDATE:20241027T020000
TZOFFSETFROM:+0100
TZOFFSETTO:+0200
TZNAME:Europe/Berlin CEST
END:DAYLIGHT
BEGIN:DAYLIGHT
DTSTART:20250330T030000
RDATE:20251026T020000
TZOFFSETFROM:+0100
TZOFFSETTO:+0200
TZNAME:Europe/Berlin CEST
END:DAYLIGHT
END:VTIMEZONE
BEGIN:VEVENT
UID:1fed13155b4dc9030c56a923c39bef53
CATEGORIES:Gastronomie
CREATED:20171022T191453
SUMMARY:JETZT ANMELDEN: Gänsebraten-Essen
DESCRIPTION:Auch dieses Jahr gibt es wieder den beliebten Gänsebraten mit Rotkohl, Grün
 kohl und Klößen.\nSamstag, den 11. November, 15:00 Uhr\nVerbindliche Reserv
 ierung unbedingt erforderlich: Tel. 0171-1735000, Liste im Clubhaus eintrag
 en oder E-Mail Diese E-Mail-Adresse ist vor Spambots geschützt! Zur Anzeige
  muss JavaScript eingeschaltet sein!
				document.getElementById('cloak503c
 ae6e9b9b13e3509eb5b9d1195e39').innerHTML = '';
				var prefix = '&amp;#109;
 a' + 'i&amp;#108;' + '&amp;#116;o';
				var path = 'hr' + 'ef' + '=';
				v
 ar addy503cae6e9b9b13e3509eb5b9d1195e39 = 'w&amp;#105;st&amp;#97;w&amp;#105
 ;rt' + '&amp;#64;';
				addy503cae6e9b9b13e3509eb5b9d1195e39 = addy503cae6e
 9b9b13e3509eb5b9d1195e39 + 'w&amp;#101;b' + '&amp;#46;' + 'd&amp;#101;';
		
 		var addy_text503cae6e9b9b13e3509eb5b9d1195e39 = 'w&amp;#105;st&amp;#97;w&
 amp;#105;rt' + '&amp;#64;' + 'w&amp;#101;b' + '&amp;#46;' + 'd&amp;#101;';d
 ocument.getElementById('cloak503cae6e9b9b13e3509eb5b9d1195e39').innerHTML +
 = '&lt;a ' + path + '\'' + prefix + ':' + addy503cae6e9b9b13e3509eb5b9d1195
 e39 + '\'&gt;'+addy_text503cae6e9b9b13e3509eb5b9d1195e39+'&lt;\/a&gt;';
		 
 (mailto:wistawirt@web.de,).\n
X-ALT-DESC;FMTTYPE=text/html:<p>Auch dieses Jahr gibt es wieder den beliebten Gänsebraten mit Rotkohl, G
 rünkohl und Klößen.</p><p>Samstag, den 11. November,&nbsp;15:00 Uhr</p><p>V
 erbindliche Reservierung unbedingt erforderlich: Tel. 0171-1735000, Liste i
 m Clubhaus eintragen oder E-Mail <a href="mailto:wistawirt@web.de,"><span i
 d="cloak503cae6e9b9b13e3509eb5b9d1195e39">Diese E-Mail-Adresse ist vor Spam
 bots geschützt! Zur Anzeige muss JavaScript eingeschaltet sein!</span><scri
 pt type='text/javascript'>
				document.getElementById('cloak503cae6e9b9b13
 e3509eb5b9d1195e39').innerHTML = '';
				var prefix = '&#109;a' + 'i&#108;'
  + '&#116;o';
				var path = 'hr' + 'ef' + '=';
				var addy503cae6e9b9b13e
 3509eb5b9d1195e39 = 'w&#105;st&#97;w&#105;rt' + '&#64;';
				addy503cae6e9b
 9b13e3509eb5b9d1195e39 = addy503cae6e9b9b13e3509eb5b9d1195e39 + 'w&#101;b' 
 + '&#46;' + 'd&#101;';
				var addy_text503cae6e9b9b13e3509eb5b9d1195e39 = 
 'w&#105;st&#97;w&#105;rt' + '&#64;' + 'w&#101;b' + '&#46;' + 'd&#101;';docu
 ment.getElementById('cloak503cae6e9b9b13e3509eb5b9d1195e39').innerHTML += '
 <a ' + path + '\'' + prefix + ':' + addy503cae6e9b9b13e3509eb5b9d1195e39 + 
 '\'>'+addy_text503cae6e9b9b13e3509eb5b9d1195e39+'<\/a>';
		</script></a>.</
 p>
DTSTAMP:20260421T184039
DTSTART;TZID=Europe/Berlin:20171111T150000
SEQUENCE:0
TRANSP:OPAQUE
END:VEVENT
END:VCALENDAR