BEGIN:VCALENDAR
VERSION:2.0
PRODID:-//jEvents 2.0 for Joomla//EN
CALSCALE:GREGORIAN
METHOD:PUBLISH
BEGIN:VTIMEZONE
TZID:Europe/Berlin
BEGIN:STANDARD
DTSTART:20171110T140000
RDATE:20180325T030000
TZOFFSETFROM:+0200
TZOFFSETTO:+0100
TZNAME:Europe/Berlin CET
END:STANDARD
BEGIN:STANDARD
DTSTART:20181028T020000
RDATE:20190331T030000
TZOFFSETFROM:+0200
TZOFFSETTO:+0100
TZNAME:Europe/Berlin CET
END:STANDARD
BEGIN:STANDARD
DTSTART:20191027T020000
RDATE:20200329T030000
TZOFFSETFROM:+0200
TZOFFSETTO:+0100
TZNAME:Europe/Berlin CET
END:STANDARD
BEGIN:STANDARD
DTSTART:20201025T020000
RDATE:20210328T030000
TZOFFSETFROM:+0200
TZOFFSETTO:+0100
TZNAME:Europe/Berlin CET
END:STANDARD
BEGIN:STANDARD
DTSTART:20211031T020000
RDATE:20220327T030000
TZOFFSETFROM:+0200
TZOFFSETTO:+0100
TZNAME:Europe/Berlin CET
END:STANDARD
BEGIN:STANDARD
DTSTART:20221030T020000
RDATE:20230326T030000
TZOFFSETFROM:+0200
TZOFFSETTO:+0100
TZNAME:Europe/Berlin CET
END:STANDARD
BEGIN:STANDARD
DTSTART:20231029T020000
RDATE:20240331T030000
TZOFFSETFROM:+0200
TZOFFSETTO:+0100
TZNAME:Europe/Berlin CET
END:STANDARD
BEGIN:STANDARD
DTSTART:20241027T020000
RDATE:20250330T030000
TZOFFSETFROM:+0200
TZOFFSETTO:+0100
TZNAME:Europe/Berlin CET
END:STANDARD
BEGIN:STANDARD
DTSTART:20251026T020000
RDATE:20260329T030000
TZOFFSETFROM:+0200
TZOFFSETTO:+0100
TZNAME:Europe/Berlin CET
END:STANDARD
BEGIN:DAYLIGHT
DTSTART:20180325T030000
RDATE:20181028T020000
TZOFFSETFROM:+0100
TZOFFSETTO:+0200
TZNAME:Europe/Berlin CEST
END:DAYLIGHT
BEGIN:DAYLIGHT
DTSTART:20190331T030000
RDATE:20191027T020000
TZOFFSETFROM:+0100
TZOFFSETTO:+0200
TZNAME:Europe/Berlin CEST
END:DAYLIGHT
BEGIN:DAYLIGHT
DTSTART:20200329T030000
RDATE:20201025T020000
TZOFFSETFROM:+0100
TZOFFSETTO:+0200
TZNAME:Europe/Berlin CEST
END:DAYLIGHT
BEGIN:DAYLIGHT
DTSTART:20210328T030000
RDATE:20211031T020000
TZOFFSETFROM:+0100
TZOFFSETTO:+0200
TZNAME:Europe/Berlin CEST
END:DAYLIGHT
BEGIN:DAYLIGHT
DTSTART:20220327T030000
RDATE:20221030T020000
TZOFFSETFROM:+0100
TZOFFSETTO:+0200
TZNAME:Europe/Berlin CEST
END:DAYLIGHT
BEGIN:DAYLIGHT
DTSTART:20230326T030000
RDATE:20231029T020000
TZOFFSETFROM:+0100
TZOFFSETTO:+0200
TZNAME:Europe/Berlin CEST
END:DAYLIGHT
BEGIN:DAYLIGHT
DTSTART:20240331T030000
RDATE:20241027T020000
TZOFFSETFROM:+0100
TZOFFSETTO:+0200
TZNAME:Europe/Berlin CEST
END:DAYLIGHT
BEGIN:DAYLIGHT
DTSTART:20250330T030000
RDATE:20251026T020000
TZOFFSETFROM:+0100
TZOFFSETTO:+0200
TZNAME:Europe/Berlin CEST
END:DAYLIGHT
END:VTIMEZONE
BEGIN:VEVENT
UID:c0c266558c76c193e2b89fc545a7ca3d
CATEGORIES:Gastronomie
CREATED:20181022T145735
SUMMARY:JETZT ANMELDEN: Gänsebraten-Essen
DESCRIPTION:Auch dieses Jahr gibt es wieder den beliebten Gänsebraten mit Rotkohl, Grün
 kohl und Klößen. Aufgrund der hohen Nachfrage an 2 Terminen:\nSamstag, den 
 10. November, 14:00 Uhr\nSonntag, den 11. November, 14:00 Uhr\n \nVerbindli
 che Reservierung unbedingt erforderlich: Tel. 0171-1735000, Liste im Clubha
 us eintragen oder E-Mail Diese E-Mail-Adresse ist vor Spambots geschützt! Z
 ur Anzeige muss JavaScript eingeschaltet sein!
				document.getElementById(
 'cloakee481c76c363e629fba710fc2342763e').innerHTML = '';
				var prefix = '
 &amp;#109;a' + 'i&amp;#108;' + '&amp;#116;o';
				var path = 'hr' + 'ef' + 
 '=';
				var addyee481c76c363e629fba710fc2342763e = 'w&amp;#105;st&amp;#97;
 w&amp;#105;rt' + '&amp;#64;';
				addyee481c76c363e629fba710fc2342763e = ad
 dyee481c76c363e629fba710fc2342763e + 'w&amp;#101;b' + '&amp;#46;' + 'd&amp;
 #101;';
				var addy_textee481c76c363e629fba710fc2342763e = 'w&amp;#105;st&
 amp;#97;w&amp;#105;rt' + '&amp;#64;' + 'w&amp;#101;b' + '&amp;#46;' + 'd&am
 p;#101;';document.getElementById('cloakee481c76c363e629fba710fc2342763e').i
 nnerHTML += '&lt;a ' + path + '\'' + prefix + ':' + addyee481c76c363e629fba
 710fc2342763e + '\'&gt;'+addy_textee481c76c363e629fba710fc2342763e+'&lt;\/a
 &gt;';
		 (mailto:wistawirt@web.de,).\n
X-ALT-DESC;FMTTYPE=text/html:<p>Auch dieses Jahr gibt es wieder den beliebten Gänsebraten mit Rotkohl, G
 rünkohl und Klößen. Aufgrund der hohen Nachfrage an 2 Terminen:</p><p style
 ="text-align: center;">Samstag, den 10. November, 14:00 Uhr<br />Sonntag, d
 en 11. November,&nbsp;14:00 Uhr</p><p>&nbsp;</p><p>Verbindliche Reservierun
 g unbedingt erforderlich: Tel. 0171-1735000, Liste im Clubhaus eintragen od
 er E-Mail <a href="mailto:wistawirt@web.de,"><span id="cloakee481c76c363e62
 9fba710fc2342763e">Diese E-Mail-Adresse ist vor Spambots geschützt! Zur Anz
 eige muss JavaScript eingeschaltet sein!</span><script type='text/javascrip
 t'>
				document.getElementById('cloakee481c76c363e629fba710fc2342763e').in
 nerHTML = '';
				var prefix = '&#109;a' + 'i&#108;' + '&#116;o';
				var p
 ath = 'hr' + 'ef' + '=';
				var addyee481c76c363e629fba710fc2342763e = 'w&
 #105;st&#97;w&#105;rt' + '&#64;';
				addyee481c76c363e629fba710fc2342763e 
 = addyee481c76c363e629fba710fc2342763e + 'w&#101;b' + '&#46;' + 'd&#101;';

 				var addy_textee481c76c363e629fba710fc2342763e = 'w&#105;st&#97;w&#105;r
 t' + '&#64;' + 'w&#101;b' + '&#46;' + 'd&#101;';document.getElementById('cl
 oakee481c76c363e629fba710fc2342763e').innerHTML += '<a ' + path + '\'' + pr
 efix + ':' + addyee481c76c363e629fba710fc2342763e + '\'>'+addy_textee481c76
 c363e629fba710fc2342763e+'<\/a>';
		</script></a>.</p>
DTSTAMP:20260422T051602
DTSTART;TZID=Europe/Berlin:20181111T140000
SEQUENCE:0
TRANSP:OPAQUE
END:VEVENT
END:VCALENDAR