BEGIN:VCALENDAR
VERSION:2.0
PRODID:-//jEvents 2.0 for Joomla//EN
CALSCALE:GREGORIAN
METHOD:PUBLISH
BEGIN:VTIMEZONE
TZID:Europe/Berlin
BEGIN:STANDARD
DTSTART:20181101T100000
RDATE:20190331T030000
TZOFFSETFROM:+0200
TZOFFSETTO:+0100
TZNAME:Europe/Berlin CET
END:STANDARD
BEGIN:STANDARD
DTSTART:20191027T020000
RDATE:20200329T030000
TZOFFSETFROM:+0200
TZOFFSETTO:+0100
TZNAME:Europe/Berlin CET
END:STANDARD
BEGIN:STANDARD
DTSTART:20201025T020000
RDATE:20210328T030000
TZOFFSETFROM:+0200
TZOFFSETTO:+0100
TZNAME:Europe/Berlin CET
END:STANDARD
BEGIN:STANDARD
DTSTART:20211031T020000
RDATE:20220327T030000
TZOFFSETFROM:+0200
TZOFFSETTO:+0100
TZNAME:Europe/Berlin CET
END:STANDARD
BEGIN:STANDARD
DTSTART:20221030T020000
RDATE:20230326T030000
TZOFFSETFROM:+0200
TZOFFSETTO:+0100
TZNAME:Europe/Berlin CET
END:STANDARD
BEGIN:STANDARD
DTSTART:20231029T020000
RDATE:20240331T030000
TZOFFSETFROM:+0200
TZOFFSETTO:+0100
TZNAME:Europe/Berlin CET
END:STANDARD
BEGIN:STANDARD
DTSTART:20241027T020000
RDATE:20250330T030000
TZOFFSETFROM:+0200
TZOFFSETTO:+0100
TZNAME:Europe/Berlin CET
END:STANDARD
BEGIN:STANDARD
DTSTART:20251026T020000
RDATE:20260329T030000
TZOFFSETFROM:+0200
TZOFFSETTO:+0100
TZNAME:Europe/Berlin CET
END:STANDARD
BEGIN:DAYLIGHT
DTSTART:20190331T030000
RDATE:20191027T020000
TZOFFSETFROM:+0100
TZOFFSETTO:+0200
TZNAME:Europe/Berlin CEST
END:DAYLIGHT
BEGIN:DAYLIGHT
DTSTART:20200329T030000
RDATE:20201025T020000
TZOFFSETFROM:+0100
TZOFFSETTO:+0200
TZNAME:Europe/Berlin CEST
END:DAYLIGHT
BEGIN:DAYLIGHT
DTSTART:20210328T030000
RDATE:20211031T020000
TZOFFSETFROM:+0100
TZOFFSETTO:+0200
TZNAME:Europe/Berlin CEST
END:DAYLIGHT
BEGIN:DAYLIGHT
DTSTART:20220327T030000
RDATE:20221030T020000
TZOFFSETFROM:+0100
TZOFFSETTO:+0200
TZNAME:Europe/Berlin CEST
END:DAYLIGHT
BEGIN:DAYLIGHT
DTSTART:20230326T030000
RDATE:20231029T020000
TZOFFSETFROM:+0100
TZOFFSETTO:+0200
TZNAME:Europe/Berlin CEST
END:DAYLIGHT
BEGIN:DAYLIGHT
DTSTART:20240331T030000
RDATE:20241027T020000
TZOFFSETFROM:+0100
TZOFFSETTO:+0200
TZNAME:Europe/Berlin CEST
END:DAYLIGHT
BEGIN:DAYLIGHT
DTSTART:20250330T030000
RDATE:20251026T020000
TZOFFSETFROM:+0100
TZOFFSETTO:+0200
TZNAME:Europe/Berlin CEST
END:DAYLIGHT
END:VTIMEZONE
BEGIN:VEVENT
UID:40422a8b5ab713878fd3eeea9ef0de1c
CATEGORIES:Arbeitseinsätze
CREATED:20191020T215009
SUMMARY:Arbeitseinsatz
DESCRIPTION:<p>Anmeldung wie immer über die aushängende Liste im Clubhaus-Eingangsberei
 ch&nbsp;oder E-Mail an <a href="mailto:info@btc-wista.de."><span id="cloak1
 511dac8b673b002189c8791388bd7b7">Diese E-Mail-Adresse ist vor Spambots gesc
 hützt! Zur Anzeige muss JavaScript eingeschaltet sein!</span><script type='
 text/javascript'>
				document.getElementById('cloak1511dac8b673b002189c879
 1388bd7b7').innerHTML = '';
				var prefix = '&#109;a' + 'i&#108;' + '&#116
 ;o';
				var path = 'hr' + 'ef' + '=';
				var addy1511dac8b673b002189c8791
 388bd7b7 = '&#105;nf&#111;' + '&#64;';
				addy1511dac8b673b002189c8791388b
 d7b7 = addy1511dac8b673b002189c8791388bd7b7 + 'btc-w&#105;st&#97;' + '&#46;
 ' + 'd&#101;';
				var addy_text1511dac8b673b002189c8791388bd7b7 = '&#105;n
 f&#111;' + '&#64;' + 'btc-w&#105;st&#97;' + '&#46;' + 'd&#101;';document.ge
 tElementById('cloak1511dac8b673b002189c8791388bd7b7').innerHTML += '<a ' + 
 path + '\'' + prefix + ':' + addy1511dac8b673b002189c8791388bd7b7 + '\'>'+a
 ddy_text1511dac8b673b002189c8791388bd7b7+'<\/a>';
		</script>.</a></p>
DTSTAMP:20260424T130458
DTSTART;TZID=Europe/Berlin:20191102T100000
DTEND;TZID=Europe/Berlin:20191102T140000
SEQUENCE:0
TRANSP:OPAQUE
END:VEVENT
END:VCALENDAR