BEGIN:VCALENDAR
VERSION:2.0
PRODID:-//jEvents 2.0 for Joomla//EN
CALSCALE:GREGORIAN
METHOD:PUBLISH
BEGIN:VTIMEZONE
TZID:Europe/Berlin
BEGIN:STANDARD
DTSTART:20191027T020000
RDATE:20200329T030000
TZOFFSETFROM:+0200
TZOFFSETTO:+0100
TZNAME:Europe/Berlin CET
END:STANDARD
BEGIN:STANDARD
DTSTART:20201025T020000
RDATE:20210328T030000
TZOFFSETFROM:+0200
TZOFFSETTO:+0100
TZNAME:Europe/Berlin CET
END:STANDARD
BEGIN:STANDARD
DTSTART:20211031T020000
RDATE:20220327T030000
TZOFFSETFROM:+0200
TZOFFSETTO:+0100
TZNAME:Europe/Berlin CET
END:STANDARD
BEGIN:STANDARD
DTSTART:20221030T020000
RDATE:20230326T030000
TZOFFSETFROM:+0200
TZOFFSETTO:+0100
TZNAME:Europe/Berlin CET
END:STANDARD
BEGIN:STANDARD
DTSTART:20231029T020000
RDATE:20240331T030000
TZOFFSETFROM:+0200
TZOFFSETTO:+0100
TZNAME:Europe/Berlin CET
END:STANDARD
BEGIN:STANDARD
DTSTART:20241027T020000
RDATE:20250330T030000
TZOFFSETFROM:+0200
TZOFFSETTO:+0100
TZNAME:Europe/Berlin CET
END:STANDARD
BEGIN:STANDARD
DTSTART:20251026T020000
RDATE:20260329T030000
TZOFFSETFROM:+0200
TZOFFSETTO:+0100
TZNAME:Europe/Berlin CET
END:STANDARD
BEGIN:DAYLIGHT
DTSTART:20190811T190000
RDATE:20191027T020000
TZOFFSETFROM:+0100
TZOFFSETTO:+0200
TZNAME:Europe/Berlin CEST
END:DAYLIGHT
BEGIN:DAYLIGHT
DTSTART:20200329T030000
RDATE:20201025T020000
TZOFFSETFROM:+0100
TZOFFSETTO:+0200
TZNAME:Europe/Berlin CEST
END:DAYLIGHT
BEGIN:DAYLIGHT
DTSTART:20210328T030000
RDATE:20211031T020000
TZOFFSETFROM:+0100
TZOFFSETTO:+0200
TZNAME:Europe/Berlin CEST
END:DAYLIGHT
BEGIN:DAYLIGHT
DTSTART:20220327T030000
RDATE:20221030T020000
TZOFFSETFROM:+0100
TZOFFSETTO:+0200
TZNAME:Europe/Berlin CEST
END:DAYLIGHT
BEGIN:DAYLIGHT
DTSTART:20230326T030000
RDATE:20231029T020000
TZOFFSETFROM:+0100
TZOFFSETTO:+0200
TZNAME:Europe/Berlin CEST
END:DAYLIGHT
BEGIN:DAYLIGHT
DTSTART:20240331T030000
RDATE:20241027T020000
TZOFFSETFROM:+0100
TZOFFSETTO:+0200
TZNAME:Europe/Berlin CEST
END:DAYLIGHT
BEGIN:DAYLIGHT
DTSTART:20250330T030000
RDATE:20251026T020000
TZOFFSETFROM:+0100
TZOFFSETTO:+0200
TZNAME:Europe/Berlin CEST
END:DAYLIGHT
END:VTIMEZONE
BEGIN:VEVENT
UID:781a70abcfaace9d22542a80aed27034
CATEGORIES:Tennisakademie regelmäßige Veranstaltung
CREATED:20200525T181520
SUMMARY:After-Work-Training Dienstag
DESCRIPTION:<p>Immer dienstags und donnerstags 19:00 bzw. 18:00 Uhr lädt die Tennisakad
 emie Boewer-Kachel zum After-Work-Training. Trainiert wird in der Gruppe, Z
 ielgruppe sind Neumitglieder, Wiedereinsteiger, Freizeit- und Hobby-Spieler
 .</p><p>Weitere Infos &amp; Anmeldung bitte über die Trainer der Tennisakad
 emie über die Kontaktdaten unten, oder einfach direkt am Platz ansprechen:&
 nbsp;</p><p>Dienstags-Termine: René Kachel 0177-8714821, E-Mail&nbsp;<span 
 id="cloak6e792c1bc7e638b93f7939262b46ecb9">Diese E-Mail-Adresse ist vor Spa
 mbots geschützt! Zur Anzeige muss JavaScript eingeschaltet sein!</span><scr
 ipt type='text/javascript'>
				document.getElementById('cloak6e792c1bc7e63
 8b93f7939262b46ecb9').innerHTML = '';
				var prefix = '&#109;a' + 'i&#108;
 ' + '&#116;o';
				var path = 'hr' + 'ef' + '=';
				var addy6e792c1bc7e638
 b93f7939262b46ecb9 = 'k&#97;ch&#101;l.r&#101;n&#101;' + '&#64;';
				addy6e
 792c1bc7e638b93f7939262b46ecb9 = addy6e792c1bc7e638b93f7939262b46ecb9 + 'w&
 #101;b' + '&#46;' + 'd&#101;';
				var addy_text6e792c1bc7e638b93f7939262b4
 6ecb9 = 'k&#97;ch&#101;l.r&#101;n&#101;' + '&#64;' + 'w&#101;b' + '&#46;' +
  'd&#101;';document.getElementById('cloak6e792c1bc7e638b93f7939262b46ecb9')
 .innerHTML += '<a ' + path + '\'' + prefix + ':' + addy6e792c1bc7e638b93f79
 39262b46ecb9 + '\'>'+addy_text6e792c1bc7e638b93f7939262b46ecb9+'<\/a>';
		<
 /script><br />Donnerstags-Termine: Attila Boewer 0176-43615755 (bevorzugt p
 er SMS/WhatsApp), E-Mail&nbsp;<span id="cloak0e35ed4905b88d8c1e17efa65bdb07
 25">Diese E-Mail-Adresse ist vor Spambots geschützt! Zur Anzeige muss JavaS
 cript eingeschaltet sein!</span><script type='text/javascript'>
				documen
 t.getElementById('cloak0e35ed4905b88d8c1e17efa65bdb0725').innerHTML = '';
	
 			var prefix = '&#109;a' + 'i&#108;' + '&#116;o';
				var path = 'hr' + 'e
 f' + '=';
				var addy0e35ed4905b88d8c1e17efa65bdb0725 = 'b&#111;&#101;b&#1
 01;k' + '&#64;';
				addy0e35ed4905b88d8c1e17efa65bdb0725 = addy0e35ed4905b
 88d8c1e17efa65bdb0725 + '&#97;&#111;l' + '&#46;' + 'c&#111;m';
				var addy
 _text0e35ed4905b88d8c1e17efa65bdb0725 = 'b&#111;&#101;b&#101;k' + '&#64;' +
  '&#97;&#111;l' + '&#46;' + 'c&#111;m';document.getElementById('cloak0e35ed
 4905b88d8c1e17efa65bdb0725').innerHTML += '<a ' + path + '\'' + prefix + ':
 ' + addy0e35ed4905b88d8c1e17efa65bdb0725 + '\'>'+addy_text0e35ed4905b88d8c1
 e17efa65bdb0725+'<\/a>';
		</script></p>
DTSTAMP:20260419T150139
DTSTART;TZID=Europe/Berlin:20200811T190000
DTEND;TZID=Europe/Berlin:20200811T210000
SEQUENCE:0
TRANSP:OPAQUE
END:VEVENT
END:VCALENDAR