BEGIN:VCALENDAR
VERSION:2.0
PRODID:-//jEvents 2.0 for Joomla//EN
CALSCALE:GREGORIAN
METHOD:PUBLISH
BEGIN:VTIMEZONE
TZID:Europe/Berlin
BEGIN:STANDARD
DTSTART:20211031T020000
RDATE:20220327T030000
TZOFFSETFROM:+0200
TZOFFSETTO:+0100
TZNAME:Europe/Berlin CET
END:STANDARD
BEGIN:STANDARD
DTSTART:20221030T020000
RDATE:20230326T030000
TZOFFSETFROM:+0200
TZOFFSETTO:+0100
TZNAME:Europe/Berlin CET
END:STANDARD
BEGIN:STANDARD
DTSTART:20231029T020000
RDATE:20240331T030000
TZOFFSETFROM:+0200
TZOFFSETTO:+0100
TZNAME:Europe/Berlin CET
END:STANDARD
BEGIN:STANDARD
DTSTART:20241027T020000
RDATE:20250330T030000
TZOFFSETFROM:+0200
TZOFFSETTO:+0100
TZNAME:Europe/Berlin CET
END:STANDARD
BEGIN:STANDARD
DTSTART:20251026T020000
RDATE:20260329T030000
TZOFFSETFROM:+0200
TZOFFSETTO:+0100
TZNAME:Europe/Berlin CET
END:STANDARD
BEGIN:DAYLIGHT
DTSTART:20210817T180000
RDATE:20211031T020000
TZOFFSETFROM:+0100
TZOFFSETTO:+0200
TZNAME:Europe/Berlin CEST
END:DAYLIGHT
BEGIN:DAYLIGHT
DTSTART:20220327T030000
RDATE:20221030T020000
TZOFFSETFROM:+0100
TZOFFSETTO:+0200
TZNAME:Europe/Berlin CEST
END:DAYLIGHT
BEGIN:DAYLIGHT
DTSTART:20230326T030000
RDATE:20231029T020000
TZOFFSETFROM:+0100
TZOFFSETTO:+0200
TZNAME:Europe/Berlin CEST
END:DAYLIGHT
BEGIN:DAYLIGHT
DTSTART:20240331T030000
RDATE:20241027T020000
TZOFFSETFROM:+0100
TZOFFSETTO:+0200
TZNAME:Europe/Berlin CEST
END:DAYLIGHT
BEGIN:DAYLIGHT
DTSTART:20250330T030000
RDATE:20251026T020000
TZOFFSETFROM:+0100
TZOFFSETTO:+0200
TZNAME:Europe/Berlin CEST
END:DAYLIGHT
END:VTIMEZONE
BEGIN:VEVENT
UID:cd5558333a132a43e01d1d4f2d4199f3
CATEGORIES:Tennisakademie regelmäßige Veranstaltung
CREATED:20220512T202646
SUMMARY:After-Work-Training Donnerstag
DESCRIPTION:<p>Immer&nbsp;dienstags, donnerstags&nbsp;und freitags&nbsp;18:00 Uhr lädt 
 die Tennisakademie Boewer-Kachel zum beliebten After-Work-Training.&nbsp;<b
 r /><br /><strong>Dienstag und Donnerstag:</strong> Zielgruppe&nbsp;<strong
 >Wiedereinsteiger, Freizeit- und Hobby-Spieler.</strong><br /><strong>Freit
 ag:</strong> Zielgruppe <strong>Newcomer &amp; Einsteiger</strong></p><p>Ko
 stenpunkt: 20 EUR für 2 Stunden. Weitere Infos &amp; Anmeldung bitte über d
 ie Trainer der Tennisakademie über die Kontaktdaten unten, oder einfach dir
 ekt am Platz ansprechen:&nbsp;</p><p><strong>Dienstags-Termine:</strong> <a
  href="index.php?option=com_content&amp;view=article&amp;id=33:tennisakadem
 ie-boewer-kachel&amp;catid=31:tennisakademie&amp;Itemid=138#vincent">Vincen
 t Holten</a>&nbsp;0157-37987475, E-Mail&nbsp;<span id="cloaka945821521918d9
 9596c06e505f0c2ad">Diese E-Mail-Adresse ist vor Spambots geschützt! Zur Anz
 eige muss JavaScript eingeschaltet sein!</span><script type='text/javascrip
 t'>
				document.getElementById('cloaka945821521918d99596c06e505f0c2ad').in
 nerHTML = '';
				var prefix = '&#109;a' + 'i&#108;' + '&#116;o';
				var p
 ath = 'hr' + 'ef' + '=';
				var addya945821521918d99596c06e505f0c2ad = 'v&
 #105;nc&#101;nt.h&#111;lt&#101;n99' + '&#64;';
				addya945821521918d99596c
 06e505f0c2ad = addya945821521918d99596c06e505f0c2ad + 'gm&#97;&#105;l' + '&
 #46;' + 'c&#111;m';
				var addy_texta945821521918d99596c06e505f0c2ad = 'v&
 #105;nc&#101;nt.h&#111;lt&#101;n99' + '&#64;' + 'gm&#97;&#105;l' + '&#46;' 
 + 'c&#111;m';document.getElementById('cloaka945821521918d99596c06e505f0c2ad
 ').innerHTML += '<a ' + path + '\'' + prefix + ':' + addya945821521918d9959
 6c06e505f0c2ad + '\'>'+addy_texta945821521918d99596c06e505f0c2ad+'<\/a>';
	
 	</script><br /><strong>Donnerstags- und Freitags-Termine:</strong> <a href
 ="index.php?option=com_content&amp;view=article&amp;id=33:tennisakademie-bo
 ewer-kachel&amp;catid=31:tennisakademie&amp;Itemid=138#attila">Attila Boewe
 r</a> 0176-43615755 (bevorzugt per SMS/WhatsApp), E-Mail&nbsp;<span id="clo
 ak17cd6b47bf3be9fba0ae377be9f7cb71">Diese E-Mail-Adresse ist vor Spambots g
 eschützt! Zur Anzeige muss JavaScript eingeschaltet sein!</span><script typ
 e='text/javascript'>
				document.getElementById('cloak17cd6b47bf3be9fba0ae
 377be9f7cb71').innerHTML = '';
				var prefix = '&#109;a' + 'i&#108;' + '&#
 116;o';
				var path = 'hr' + 'ef' + '=';
				var addy17cd6b47bf3be9fba0ae3
 77be9f7cb71 = 'b&#111;&#101;b&#101;k' + '&#64;';
				addy17cd6b47bf3be9fba0
 ae377be9f7cb71 = addy17cd6b47bf3be9fba0ae377be9f7cb71 + '&#97;&#111;l' + '&
 #46;' + 'c&#111;m';
				var addy_text17cd6b47bf3be9fba0ae377be9f7cb71 = 'b&
 #111;&#101;b&#101;k' + '&#64;' + '&#97;&#111;l' + '&#46;' + 'c&#111;m';docu
 ment.getElementById('cloak17cd6b47bf3be9fba0ae377be9f7cb71').innerHTML += '
 <a ' + path + '\'' + prefix + ':' + addy17cd6b47bf3be9fba0ae377be9f7cb71 + 
 '\'>'+addy_text17cd6b47bf3be9fba0ae377be9f7cb71+'<\/a>';
		</script></p><p>
 &nbsp;</p>
X-ALT-DESC;FMTTYPE=text/html:<p>Immer&nbsp;dienstags, donnerstags&nbsp;und freitags&nbsp;18:00 Uhr lädt 
 die Tennisakademie Boewer-Kachel zum beliebten After-Work-Training.&nbsp;<b
 r /><br /><strong>Dienstag und Donnerstag:</strong> Zielgruppe&nbsp;<strong
 >Wiedereinsteiger, Freizeit- und Hobby-Spieler.</strong><br /><strong>Freit
 ag:</strong> Zielgruppe <strong>Newcomer &amp; Einsteiger</strong></p><p>Ko
 stenpunkt: 20 EUR für 2 Stunden. Weitere Infos &amp; Anmeldung bitte über d
 ie Trainer der Tennisakademie über die Kontaktdaten unten, oder einfach dir
 ekt am Platz ansprechen:&nbsp;</p><p><strong>Dienstags-Termine:</strong> <a
  href="https://www.btc-wista.de/index.php?option=com_content&amp;view=artic
 le&amp;id=33:tennisakademie-boewer-kachel&amp;catid=31:tennisakademie&amp;I
 temid=138#vincent">Vincent Holten</a>&nbsp;0157-37987475, E-Mail&nbsp;<span
  id="cloaka945821521918d99596c06e505f0c2ad">Diese E-Mail-Adresse ist vor Sp
 ambots geschützt! Zur Anzeige muss JavaScript eingeschaltet sein!</span><sc
 ript type='text/javascript'>
				document.getElementById('cloaka94582152191
 8d99596c06e505f0c2ad').innerHTML = '';
				var prefix = '&#109;a' + 'i&#108
 ;' + '&#116;o';
				var path = 'hr' + 'ef' + '=';
				var addya945821521918
 d99596c06e505f0c2ad = 'v&#105;nc&#101;nt.h&#111;lt&#101;n99' + '&#64;';
			
 	addya945821521918d99596c06e505f0c2ad = addya945821521918d99596c06e505f0c2a
 d + 'gm&#97;&#105;l' + '&#46;' + 'c&#111;m';
				var addy_texta945821521918
 d99596c06e505f0c2ad = 'v&#105;nc&#101;nt.h&#111;lt&#101;n99' + '&#64;' + 'g
 m&#97;&#105;l' + '&#46;' + 'c&#111;m';document.getElementById('cloaka945821
 521918d99596c06e505f0c2ad').innerHTML += '<a ' + path + '\'' + prefix + ':'
  + addya945821521918d99596c06e505f0c2ad + '\'>'+addy_texta945821521918d9959
 6c06e505f0c2ad+'<\/a>';
		</script><br /><strong>Donnerstags- und Freitags-
 Termine:</strong> <a href="https://www.btc-wista.de/index.php?option=com_co
 ntent&amp;view=article&amp;id=33:tennisakademie-boewer-kachel&amp;catid=31:
 tennisakademie&amp;Itemid=138#attila">Attila Boewer</a> 0176-43615755 (bevo
 rzugt per SMS/WhatsApp), E-Mail&nbsp;<span id="cloak17cd6b47bf3be9fba0ae377
 be9f7cb71">Diese E-Mail-Adresse ist vor Spambots geschützt! Zur Anzeige mus
 s JavaScript eingeschaltet sein!</span><script type='text/javascript'>
				
 document.getElementById('cloak17cd6b47bf3be9fba0ae377be9f7cb71').innerHTML 
 = '';
				var prefix = '&#109;a' + 'i&#108;' + '&#116;o';
				var path = 'h
 r' + 'ef' + '=';
				var addy17cd6b47bf3be9fba0ae377be9f7cb71 = 'b&#111;&#1
 01;b&#101;k' + '&#64;';
				addy17cd6b47bf3be9fba0ae377be9f7cb71 = addy17cd
 6b47bf3be9fba0ae377be9f7cb71 + '&#97;&#111;l' + '&#46;' + 'c&#111;m';
				v
 ar addy_text17cd6b47bf3be9fba0ae377be9f7cb71 = 'b&#111;&#101;b&#101;k' + '&
 #64;' + '&#97;&#111;l' + '&#46;' + 'c&#111;m';document.getElementById('cloa
 k17cd6b47bf3be9fba0ae377be9f7cb71').innerHTML += '<a ' + path + '\'' + pref
 ix + ':' + addy17cd6b47bf3be9fba0ae377be9f7cb71 + '\'>'+addy_text17cd6b47bf
 3be9fba0ae377be9f7cb71+'<\/a>';
		</script></p><p>&nbsp;</p>
DTSTAMP:20260419T133538
DTSTART;TZID=Europe/Berlin:20220818T180000
DTEND;TZID=Europe/Berlin:20220818T200000
SEQUENCE:0
TRANSP:OPAQUE
END:VEVENT
END:VCALENDAR