BEGIN:VCALENDAR
VERSION:2.0
PRODID:-//jEvents 2.0 for Joomla//EN
CALSCALE:GREGORIAN
METHOD:PUBLISH
BEGIN:VTIMEZONE
TZID:Europe/Berlin
BEGIN:STANDARD
DTSTART:20211031T020000
RDATE:20220327T030000
TZOFFSETFROM:+0200
TZOFFSETTO:+0100
TZNAME:Europe/Berlin CET
END:STANDARD
BEGIN:STANDARD
DTSTART:20221030T020000
RDATE:20230326T030000
TZOFFSETFROM:+0200
TZOFFSETTO:+0100
TZNAME:Europe/Berlin CET
END:STANDARD
BEGIN:STANDARD
DTSTART:20231029T020000
RDATE:20240331T030000
TZOFFSETFROM:+0200
TZOFFSETTO:+0100
TZNAME:Europe/Berlin CET
END:STANDARD
BEGIN:STANDARD
DTSTART:20241027T020000
RDATE:20250330T030000
TZOFFSETFROM:+0200
TZOFFSETTO:+0100
TZNAME:Europe/Berlin CET
END:STANDARD
BEGIN:STANDARD
DTSTART:20251026T020000
RDATE:20260329T030000
TZOFFSETFROM:+0200
TZOFFSETTO:+0100
TZNAME:Europe/Berlin CET
END:STANDARD
BEGIN:DAYLIGHT
DTSTART:20210526T180000
RDATE:20211031T020000
TZOFFSETFROM:+0100
TZOFFSETTO:+0200
TZNAME:Europe/Berlin CEST
END:DAYLIGHT
BEGIN:DAYLIGHT
DTSTART:20220327T030000
RDATE:20221030T020000
TZOFFSETFROM:+0100
TZOFFSETTO:+0200
TZNAME:Europe/Berlin CEST
END:DAYLIGHT
BEGIN:DAYLIGHT
DTSTART:20230326T030000
RDATE:20231029T020000
TZOFFSETFROM:+0100
TZOFFSETTO:+0200
TZNAME:Europe/Berlin CEST
END:DAYLIGHT
BEGIN:DAYLIGHT
DTSTART:20240331T030000
RDATE:20241027T020000
TZOFFSETFROM:+0100
TZOFFSETTO:+0200
TZNAME:Europe/Berlin CEST
END:DAYLIGHT
BEGIN:DAYLIGHT
DTSTART:20250330T030000
RDATE:20251026T020000
TZOFFSETFROM:+0100
TZOFFSETTO:+0200
TZNAME:Europe/Berlin CEST
END:DAYLIGHT
END:VTIMEZONE
BEGIN:VEVENT
UID:3511cba9f6add35466eeb7bd62dffca6
CATEGORIES:Tennisakademie regelmäßige Veranstaltung
CREATED:20220512T202747
SUMMARY:After-Work-Training Freitag
DESCRIPTION:<p>Immer&nbsp;dienstags, donnerstags&nbsp;und freitags&nbsp;18:00 Uhr lädt 
 die Tennisakademie Boewer-Kachel zum beliebten After-Work-Training.&nbsp;<b
 r /><br /><strong>Dienstag und Donnerstag:</strong> Zielgruppe&nbsp;<strong
 >Wiedereinsteiger, Freizeit- und Hobby-Spieler.</strong><br /><strong>Freit
 ag:</strong> Zielgruppe <strong>Newcomer &amp; Einsteiger</strong></p><p>Ko
 stenpunkt: 20 EUR für 2 Stunden. Weitere Infos &amp; Anmeldung bitte über d
 ie Trainer der Tennisakademie über die Kontaktdaten unten, oder einfach dir
 ekt am Platz ansprechen:&nbsp;</p><p><strong>Dienstags-Termine:</strong> <a
  href="index.php?option=com_content&amp;view=article&amp;id=33:tennisakadem
 ie-boewer-kachel&amp;catid=31:tennisakademie&amp;Itemid=138#vincent">Vincen
 t Holten</a>&nbsp;0157-37987475, E-Mail&nbsp;<span id="cloaka611fae9a25235b
 b1a82396b5094ecf3">Diese E-Mail-Adresse ist vor Spambots geschützt! Zur Anz
 eige muss JavaScript eingeschaltet sein!</span><script type='text/javascrip
 t'>
				document.getElementById('cloaka611fae9a25235bb1a82396b5094ecf3').in
 nerHTML = '';
				var prefix = '&#109;a' + 'i&#108;' + '&#116;o';
				var p
 ath = 'hr' + 'ef' + '=';
				var addya611fae9a25235bb1a82396b5094ecf3 = 'v&
 #105;nc&#101;nt.h&#111;lt&#101;n99' + '&#64;';
				addya611fae9a25235bb1a82
 396b5094ecf3 = addya611fae9a25235bb1a82396b5094ecf3 + 'gm&#97;&#105;l' + '&
 #46;' + 'c&#111;m';
				var addy_texta611fae9a25235bb1a82396b5094ecf3 = 'v&
 #105;nc&#101;nt.h&#111;lt&#101;n99' + '&#64;' + 'gm&#97;&#105;l' + '&#46;' 
 + 'c&#111;m';document.getElementById('cloaka611fae9a25235bb1a82396b5094ecf3
 ').innerHTML += '<a ' + path + '\'' + prefix + ':' + addya611fae9a25235bb1a
 82396b5094ecf3 + '\'>'+addy_texta611fae9a25235bb1a82396b5094ecf3+'<\/a>';
	
 	</script><br /><strong>Donnerstags- und Freitags-Termine:</strong> <a href
 ="index.php?option=com_content&amp;view=article&amp;id=33:tennisakademie-bo
 ewer-kachel&amp;catid=31:tennisakademie&amp;Itemid=138#attila">Attila Boewe
 r</a> 0176-43615755 (bevorzugt per SMS/WhatsApp), E-Mail&nbsp;<span id="clo
 ak0098e0323326c44689a3008b2378a0a4">Diese E-Mail-Adresse ist vor Spambots g
 eschützt! Zur Anzeige muss JavaScript eingeschaltet sein!</span><script typ
 e='text/javascript'>
				document.getElementById('cloak0098e0323326c44689a3
 008b2378a0a4').innerHTML = '';
				var prefix = '&#109;a' + 'i&#108;' + '&#
 116;o';
				var path = 'hr' + 'ef' + '=';
				var addy0098e0323326c44689a30
 08b2378a0a4 = 'b&#111;&#101;b&#101;k' + '&#64;';
				addy0098e0323326c44689
 a3008b2378a0a4 = addy0098e0323326c44689a3008b2378a0a4 + '&#97;&#111;l' + '&
 #46;' + 'c&#111;m';
				var addy_text0098e0323326c44689a3008b2378a0a4 = 'b&
 #111;&#101;b&#101;k' + '&#64;' + '&#97;&#111;l' + '&#46;' + 'c&#111;m';docu
 ment.getElementById('cloak0098e0323326c44689a3008b2378a0a4').innerHTML += '
 <a ' + path + '\'' + prefix + ':' + addy0098e0323326c44689a3008b2378a0a4 + 
 '\'>'+addy_text0098e0323326c44689a3008b2378a0a4+'<\/a>';
		</script></p><p>
 &nbsp;</p>
X-ALT-DESC;FMTTYPE=text/html:<p>Immer&nbsp;dienstags, donnerstags&nbsp;und freitags&nbsp;18:00 Uhr lädt 
 die Tennisakademie Boewer-Kachel zum beliebten After-Work-Training.&nbsp;<b
 r /><br /><strong>Dienstag und Donnerstag:</strong> Zielgruppe&nbsp;<strong
 >Wiedereinsteiger, Freizeit- und Hobby-Spieler.</strong><br /><strong>Freit
 ag:</strong> Zielgruppe <strong>Newcomer &amp; Einsteiger</strong></p><p>Ko
 stenpunkt: 20 EUR für 2 Stunden. Weitere Infos &amp; Anmeldung bitte über d
 ie Trainer der Tennisakademie über die Kontaktdaten unten, oder einfach dir
 ekt am Platz ansprechen:&nbsp;</p><p><strong>Dienstags-Termine:</strong> <a
  href="https://www.btc-wista.de/index.php?option=com_content&amp;view=artic
 le&amp;id=33:tennisakademie-boewer-kachel&amp;catid=31:tennisakademie&amp;I
 temid=138#vincent">Vincent Holten</a>&nbsp;0157-37987475, E-Mail&nbsp;<span
  id="cloaka611fae9a25235bb1a82396b5094ecf3">Diese E-Mail-Adresse ist vor Sp
 ambots geschützt! Zur Anzeige muss JavaScript eingeschaltet sein!</span><sc
 ript type='text/javascript'>
				document.getElementById('cloaka611fae9a252
 35bb1a82396b5094ecf3').innerHTML = '';
				var prefix = '&#109;a' + 'i&#108
 ;' + '&#116;o';
				var path = 'hr' + 'ef' + '=';
				var addya611fae9a2523
 5bb1a82396b5094ecf3 = 'v&#105;nc&#101;nt.h&#111;lt&#101;n99' + '&#64;';
			
 	addya611fae9a25235bb1a82396b5094ecf3 = addya611fae9a25235bb1a82396b5094ecf
 3 + 'gm&#97;&#105;l' + '&#46;' + 'c&#111;m';
				var addy_texta611fae9a2523
 5bb1a82396b5094ecf3 = 'v&#105;nc&#101;nt.h&#111;lt&#101;n99' + '&#64;' + 'g
 m&#97;&#105;l' + '&#46;' + 'c&#111;m';document.getElementById('cloaka611fae
 9a25235bb1a82396b5094ecf3').innerHTML += '<a ' + path + '\'' + prefix + ':'
  + addya611fae9a25235bb1a82396b5094ecf3 + '\'>'+addy_texta611fae9a25235bb1a
 82396b5094ecf3+'<\/a>';
		</script><br /><strong>Donnerstags- und Freitags-
 Termine:</strong> <a href="https://www.btc-wista.de/index.php?option=com_co
 ntent&amp;view=article&amp;id=33:tennisakademie-boewer-kachel&amp;catid=31:
 tennisakademie&amp;Itemid=138#attila">Attila Boewer</a> 0176-43615755 (bevo
 rzugt per SMS/WhatsApp), E-Mail&nbsp;<span id="cloak0098e0323326c44689a3008
 b2378a0a4">Diese E-Mail-Adresse ist vor Spambots geschützt! Zur Anzeige mus
 s JavaScript eingeschaltet sein!</span><script type='text/javascript'>
				
 document.getElementById('cloak0098e0323326c44689a3008b2378a0a4').innerHTML 
 = '';
				var prefix = '&#109;a' + 'i&#108;' + '&#116;o';
				var path = 'h
 r' + 'ef' + '=';
				var addy0098e0323326c44689a3008b2378a0a4 = 'b&#111;&#1
 01;b&#101;k' + '&#64;';
				addy0098e0323326c44689a3008b2378a0a4 = addy0098
 e0323326c44689a3008b2378a0a4 + '&#97;&#111;l' + '&#46;' + 'c&#111;m';
				v
 ar addy_text0098e0323326c44689a3008b2378a0a4 = 'b&#111;&#101;b&#101;k' + '&
 #64;' + '&#97;&#111;l' + '&#46;' + 'c&#111;m';document.getElementById('cloa
 k0098e0323326c44689a3008b2378a0a4').innerHTML += '<a ' + path + '\'' + pref
 ix + ':' + addy0098e0323326c44689a3008b2378a0a4 + '\'>'+addy_text0098e03233
 26c44689a3008b2378a0a4+'<\/a>';
		</script></p><p>&nbsp;</p>
DTSTAMP:20260422T160213
DTSTART;TZID=Europe/Berlin:20220527T180000
DTEND;TZID=Europe/Berlin:20220527T200000
SEQUENCE:0
TRANSP:OPAQUE
END:VEVENT
END:VCALENDAR