BEGIN:VCALENDAR
VERSION:2.0
PRODID:-//jEvents 2.0 for Joomla//EN
CALSCALE:GREGORIAN
METHOD:PUBLISH
BEGIN:VTIMEZONE
TZID:Europe/Berlin
BEGIN:STANDARD
DTSTART:20231228T120000
RDATE:20240331T030000
TZOFFSETFROM:+0200
TZOFFSETTO:+0100
TZNAME:Europe/Berlin CET
END:STANDARD
BEGIN:STANDARD
DTSTART:20241027T020000
RDATE:20250330T030000
TZOFFSETFROM:+0200
TZOFFSETTO:+0100
TZNAME:Europe/Berlin CET
END:STANDARD
BEGIN:STANDARD
DTSTART:20251026T020000
RDATE:20260329T030000
TZOFFSETFROM:+0200
TZOFFSETTO:+0100
TZNAME:Europe/Berlin CET
END:STANDARD
BEGIN:DAYLIGHT
DTSTART:20240331T030000
RDATE:20241027T020000
TZOFFSETFROM:+0100
TZOFFSETTO:+0200
TZNAME:Europe/Berlin CEST
END:DAYLIGHT
BEGIN:DAYLIGHT
DTSTART:20250330T030000
RDATE:20251026T020000
TZOFFSETFROM:+0100
TZOFFSETTO:+0200
TZNAME:Europe/Berlin CEST
END:DAYLIGHT
END:VTIMEZONE
BEGIN:VEVENT
UID:67ce1692a01bbd32939e38fc8123fcd9
CATEGORIES:Tennisakademie regelmäßige Veranstaltung
CREATED:20250527T195514
SUMMARY:Anfänger-Training Erwachsene
DESCRIPTION:<p><strong>Unsere Gruppentrainings-Angebote für Anfänger, Wiedereinsteiger,
  Freizeit- und Hobby-Spieler</strong></p><p>Immer montags, dienstags, freit
 ags&nbsp;18:00 Uhr lädt die Tennisakademie Boewer-Kachel zum beliebten Afte
 r-Work-Training. Und samstags zum Anfänger-Training.<br /><br /><strong>Zie
 lgruppe <strong>Fortgeschrittene:&nbsp;</strong></strong>Montag und Diensta
 g<br /><strong>Zielgruppe </strong><strong>leicht Fortgeschrittene (nicht A
 nfänger):</strong> Freitag<strong><br /></strong><strong>Zielgruppe Anfänge
 r:</strong> Samstag</p><p>Es ist Gruppentraining mit max. 8 Teilnehmenden a
 uf 2 Plätzen mit einem Trainer. Kostenpunkt: 20 EUR für 2 Stunden. Weitere 
 Infos &amp; Anmeldung bitte über die Trainer der Tennisakademie über die Ko
 ntaktdaten unten, oder einfach direkt am Platz ansprechen:&nbsp;</p><p><spa
 n style="font-family: inherit; font-size: 1rem;"><strong>Montags-Termine:</
 strong> <a href="index.php?option=com_content&amp;view=article&amp;id=33:te
 nnisakademie-boewer-kachel&amp;catid=31:tennisakademie&amp;Itemid=138#rene"
 >René Kachel</a>&nbsp;0177-8714821, E-Mail&nbsp;<span id="cloakb5a37ac8c1f2
 be5c29632778d6787373">Diese E-Mail-Adresse ist vor Spambots geschützt! Zur 
 Anzeige muss JavaScript eingeschaltet sein!</span><script type='text/javasc
 ript'>
				document.getElementById('cloakb5a37ac8c1f2be5c29632778d6787373')
 .innerHTML = '';
				var prefix = '&#109;a' + 'i&#108;' + '&#116;o';
				va
 r path = 'hr' + 'ef' + '=';
				var addyb5a37ac8c1f2be5c29632778d6787373 = 
 'k&#97;ch&#101;l.r&#101;n&#101;' + '&#64;';
				addyb5a37ac8c1f2be5c2963277
 8d6787373 = addyb5a37ac8c1f2be5c29632778d6787373 + 'w&#101;b' + '&#46;' + '
 d&#101;';
				var addy_textb5a37ac8c1f2be5c29632778d6787373 = 'k&#97;ch&#10
 1;l.r&#101;n&#101;' + '&#64;' + 'w&#101;b' + '&#46;' + 'd&#101;';document.g
 etElementById('cloakb5a37ac8c1f2be5c29632778d6787373').innerHTML += '<a ' +
  path + '\'' + prefix + ':' + addyb5a37ac8c1f2be5c29632778d6787373 + '\'>'+
 addy_textb5a37ac8c1f2be5c29632778d6787373+'<\/a>';
		</script><br /><strong
 >Donnerstags-, Freitags- und Samstags-Termine:</strong> <a href="index.php?
 option=com_content&amp;view=article&amp;id=33:tennisakademie-boewer-kachel&
 amp;catid=31:tennisakademie&amp;Itemid=138#attila">Attila Boewer</a> 0176-4
 3615755 (bevorzugt per SMS/WhatsApp), E-Mail&nbsp;<span id="cloak9bda361d43
 f2c4b6156615ee2ddc64f2">Diese E-Mail-Adresse ist vor Spambots geschützt! Zu
 r Anzeige muss JavaScript eingeschaltet sein!</span><script type='text/java
 script'>
				document.getElementById('cloak9bda361d43f2c4b6156615ee2ddc64f2
 ').innerHTML = '';
				var prefix = '&#109;a' + 'i&#108;' + '&#116;o';
				
 var path = 'hr' + 'ef' + '=';
				var addy9bda361d43f2c4b6156615ee2ddc64f2 
 = 'b&#111;&#101;b&#101;k' + '&#64;';
				addy9bda361d43f2c4b6156615ee2ddc64
 f2 = addy9bda361d43f2c4b6156615ee2ddc64f2 + '&#97;&#111;l' + '&#46;' + 'c&#
 111;m';
				var addy_text9bda361d43f2c4b6156615ee2ddc64f2 = 'b&#111;&#101;b
 &#101;k' + '&#64;' + '&#97;&#111;l' + '&#46;' + 'c&#111;m';document.getElem
 entById('cloak9bda361d43f2c4b6156615ee2ddc64f2').innerHTML += '<a ' + path 
 + '\'' + prefix + ':' + addy9bda361d43f2c4b6156615ee2ddc64f2 + '\'>'+addy_t
 ext9bda361d43f2c4b6156615ee2ddc64f2+'<\/a>';
		</script> </span></p><p>&nbs
 p;</p>
X-ALT-DESC;FMTTYPE=text/html:<p><strong>Unsere Gruppentrainings-Angebote für Anfänger, Wiedereinsteiger,
  Freizeit- und Hobby-Spieler</strong></p><p>Immer montags, dienstags, freit
 ags&nbsp;18:00 Uhr lädt die Tennisakademie Boewer-Kachel zum beliebten Afte
 r-Work-Training. Und samstags zum Anfänger-Training.<br /><br /><strong>Zie
 lgruppe <strong>Fortgeschrittene:&nbsp;</strong></strong>Montag und Diensta
 g<br /><strong>Zielgruppe </strong><strong>leicht Fortgeschrittene (nicht A
 nfänger):</strong> Freitag<strong><br /></strong><strong>Zielgruppe Anfänge
 r:</strong> Samstag</p><p>Es ist Gruppentraining mit max. 8 Teilnehmenden a
 uf 2 Plätzen mit einem Trainer. Kostenpunkt: 20 EUR für 2 Stunden. Weitere 
 Infos &amp; Anmeldung bitte über die Trainer der Tennisakademie über die Ko
 ntaktdaten unten, oder einfach direkt am Platz ansprechen:&nbsp;</p><p><spa
 n style="font-family: inherit; font-size: 1rem;"><strong>Montags-Termine:</
 strong> <a href="https://www.btc-wista.de/index.php?option=com_content&amp;
 view=article&amp;id=33:tennisakademie-boewer-kachel&amp;catid=31:tennisakad
 emie&amp;Itemid=138#rene">René Kachel</a>&nbsp;0177-8714821, E-Mail&nbsp;<s
 pan id="cloakb5a37ac8c1f2be5c29632778d6787373">Diese E-Mail-Adresse ist vor
  Spambots geschützt! Zur Anzeige muss JavaScript eingeschaltet sein!</span>
 <script type='text/javascript'>
				document.getElementById('cloakb5a37ac8c
 1f2be5c29632778d6787373').innerHTML = '';
				var prefix = '&#109;a' + 'i&#
 108;' + '&#116;o';
				var path = 'hr' + 'ef' + '=';
				var addyb5a37ac8c1
 f2be5c29632778d6787373 = 'k&#97;ch&#101;l.r&#101;n&#101;' + '&#64;';
				ad
 dyb5a37ac8c1f2be5c29632778d6787373 = addyb5a37ac8c1f2be5c29632778d6787373 +
  'w&#101;b' + '&#46;' + 'd&#101;';
				var addy_textb5a37ac8c1f2be5c2963277
 8d6787373 = 'k&#97;ch&#101;l.r&#101;n&#101;' + '&#64;' + 'w&#101;b' + '&#46
 ;' + 'd&#101;';document.getElementById('cloakb5a37ac8c1f2be5c29632778d67873
 73').innerHTML += '<a ' + path + '\'' + prefix + ':' + addyb5a37ac8c1f2be5c
 29632778d6787373 + '\'>'+addy_textb5a37ac8c1f2be5c29632778d6787373+'<\/a>';
 
		</script><br /><strong>Donnerstags-, Freitags- und Samstags-Termine:</st
 rong> <a href="https://www.btc-wista.de/index.php?option=com_content&amp;vi
 ew=article&amp;id=33:tennisakademie-boewer-kachel&amp;catid=31:tennisakadem
 ie&amp;Itemid=138#attila">Attila Boewer</a> 0176-43615755 (bevorzugt per SM
 S/WhatsApp), E-Mail&nbsp;<span id="cloak9bda361d43f2c4b6156615ee2ddc64f2">D
 iese E-Mail-Adresse ist vor Spambots geschützt! Zur Anzeige muss JavaScript
  eingeschaltet sein!</span><script type='text/javascript'>
				document.get
 ElementById('cloak9bda361d43f2c4b6156615ee2ddc64f2').innerHTML = '';
				va
 r prefix = '&#109;a' + 'i&#108;' + '&#116;o';
				var path = 'hr' + 'ef' + 
 '=';
				var addy9bda361d43f2c4b6156615ee2ddc64f2 = 'b&#111;&#101;b&#101;k'
  + '&#64;';
				addy9bda361d43f2c4b6156615ee2ddc64f2 = addy9bda361d43f2c4b6
 156615ee2ddc64f2 + '&#97;&#111;l' + '&#46;' + 'c&#111;m';
				var addy_text
 9bda361d43f2c4b6156615ee2ddc64f2 = 'b&#111;&#101;b&#101;k' + '&#64;' + '&#9
 7;&#111;l' + '&#46;' + 'c&#111;m';document.getElementById('cloak9bda361d43f
 2c4b6156615ee2ddc64f2').innerHTML += '<a ' + path + '\'' + prefix + ':' + a
 ddy9bda361d43f2c4b6156615ee2ddc64f2 + '\'>'+addy_text9bda361d43f2c4b6156615
 ee2ddc64f2+'<\/a>';
		</script> </span></p><p>&nbsp;</p>
DTSTAMP:20260425T104604
DTSTART;TZID=Europe/Berlin:20241228T120000
DTEND;TZID=Europe/Berlin:20241228T140000
SEQUENCE:0
TRANSP:OPAQUE
END:VEVENT
END:VCALENDAR