BEGIN:VCALENDAR
VERSION:2.0
PRODID:-//jEvents 2.0 for Joomla//EN
CALSCALE:GREGORIAN
METHOD:PUBLISH
BEGIN:VTIMEZONE
TZID:Europe/Berlin
BEGIN:STANDARD
DTSTART:20241027T020000
RDATE:20250330T030000
TZOFFSETFROM:+0200
TZOFFSETTO:+0100
TZNAME:Europe/Berlin CET
END:STANDARD
BEGIN:STANDARD
DTSTART:20251026T020000
RDATE:20260329T030000
TZOFFSETFROM:+0200
TZOFFSETTO:+0100
TZNAME:Europe/Berlin CET
END:STANDARD
BEGIN:DAYLIGHT
DTSTART:20240815T120000
RDATE:20241027T020000
TZOFFSETFROM:+0100
TZOFFSETTO:+0200
TZNAME:Europe/Berlin CEST
END:DAYLIGHT
BEGIN:DAYLIGHT
DTSTART:20250330T030000
RDATE:20251026T020000
TZOFFSETFROM:+0100
TZOFFSETTO:+0200
TZNAME:Europe/Berlin CEST
END:DAYLIGHT
END:VTIMEZONE
BEGIN:VEVENT
UID:67ce1692a01bbd32939e38fc8123fcd9
CATEGORIES:Tennisakademie regelmäßige Veranstaltung
CREATED:20250527T195514
SUMMARY:Anfänger-Training Erwachsene
DESCRIPTION:<p><strong>Unsere Gruppentrainings-Angebote für Anfänger, Wiedereinsteiger,
  Freizeit- und Hobby-Spieler</strong></p><p>Immer montags, dienstags, freit
 ags&nbsp;18:00 Uhr lädt die Tennisakademie Boewer-Kachel zum beliebten Afte
 r-Work-Training. Und samstags zum Anfänger-Training.<br /><br /><strong>Zie
 lgruppe <strong>Fortgeschrittene:&nbsp;</strong></strong>Montag und Diensta
 g<br /><strong>Zielgruppe </strong><strong>leicht Fortgeschrittene (nicht A
 nfänger):</strong> Freitag<strong><br /></strong><strong>Zielgruppe Anfänge
 r:</strong> Samstag</p><p>Es ist Gruppentraining mit max. 8 Teilnehmenden a
 uf 2 Plätzen mit einem Trainer. Kostenpunkt: 20 EUR für 2 Stunden. Weitere 
 Infos &amp; Anmeldung bitte über die Trainer der Tennisakademie über die Ko
 ntaktdaten unten, oder einfach direkt am Platz ansprechen:&nbsp;</p><p><spa
 n style="font-family: inherit; font-size: 1rem;"><strong>Montags-Termine:</
 strong> <a href="index.php?option=com_content&amp;view=article&amp;id=33:te
 nnisakademie-boewer-kachel&amp;catid=31:tennisakademie&amp;Itemid=138#rene"
 >René Kachel</a>&nbsp;0177-8714821, E-Mail&nbsp;<span id="cloak58503b60e30c
 0f63622e46b290357db4">Diese E-Mail-Adresse ist vor Spambots geschützt! Zur 
 Anzeige muss JavaScript eingeschaltet sein!</span><script type='text/javasc
 ript'>
				document.getElementById('cloak58503b60e30c0f63622e46b290357db4')
 .innerHTML = '';
				var prefix = '&#109;a' + 'i&#108;' + '&#116;o';
				va
 r path = 'hr' + 'ef' + '=';
				var addy58503b60e30c0f63622e46b290357db4 = 
 'k&#97;ch&#101;l.r&#101;n&#101;' + '&#64;';
				addy58503b60e30c0f63622e46b
 290357db4 = addy58503b60e30c0f63622e46b290357db4 + 'w&#101;b' + '&#46;' + '
 d&#101;';
				var addy_text58503b60e30c0f63622e46b290357db4 = 'k&#97;ch&#10
 1;l.r&#101;n&#101;' + '&#64;' + 'w&#101;b' + '&#46;' + 'd&#101;';document.g
 etElementById('cloak58503b60e30c0f63622e46b290357db4').innerHTML += '<a ' +
  path + '\'' + prefix + ':' + addy58503b60e30c0f63622e46b290357db4 + '\'>'+
 addy_text58503b60e30c0f63622e46b290357db4+'<\/a>';
		</script><br /><strong
 >Donnerstags-, Freitags- und Samstags-Termine:</strong> <a href="index.php?
 option=com_content&amp;view=article&amp;id=33:tennisakademie-boewer-kachel&
 amp;catid=31:tennisakademie&amp;Itemid=138#attila">Attila Boewer</a> 0176-4
 3615755 (bevorzugt per SMS/WhatsApp), E-Mail&nbsp;<span id="cloakaabb8fc714
 86c466002e541fa6a6a535">Diese E-Mail-Adresse ist vor Spambots geschützt! Zu
 r Anzeige muss JavaScript eingeschaltet sein!</span><script type='text/java
 script'>
				document.getElementById('cloakaabb8fc71486c466002e541fa6a6a535
 ').innerHTML = '';
				var prefix = '&#109;a' + 'i&#108;' + '&#116;o';
				
 var path = 'hr' + 'ef' + '=';
				var addyaabb8fc71486c466002e541fa6a6a535 
 = 'b&#111;&#101;b&#101;k' + '&#64;';
				addyaabb8fc71486c466002e541fa6a6a5
 35 = addyaabb8fc71486c466002e541fa6a6a535 + '&#97;&#111;l' + '&#46;' + 'c&#
 111;m';
				var addy_textaabb8fc71486c466002e541fa6a6a535 = 'b&#111;&#101;b
 &#101;k' + '&#64;' + '&#97;&#111;l' + '&#46;' + 'c&#111;m';document.getElem
 entById('cloakaabb8fc71486c466002e541fa6a6a535').innerHTML += '<a ' + path 
 + '\'' + prefix + ':' + addyaabb8fc71486c466002e541fa6a6a535 + '\'>'+addy_t
 extaabb8fc71486c466002e541fa6a6a535+'<\/a>';
		</script> </span></p><p>&nbs
 p;</p>
X-ALT-DESC;FMTTYPE=text/html:<p><strong>Unsere Gruppentrainings-Angebote für Anfänger, Wiedereinsteiger,
  Freizeit- und Hobby-Spieler</strong></p><p>Immer montags, dienstags, freit
 ags&nbsp;18:00 Uhr lädt die Tennisakademie Boewer-Kachel zum beliebten Afte
 r-Work-Training. Und samstags zum Anfänger-Training.<br /><br /><strong>Zie
 lgruppe <strong>Fortgeschrittene:&nbsp;</strong></strong>Montag und Diensta
 g<br /><strong>Zielgruppe </strong><strong>leicht Fortgeschrittene (nicht A
 nfänger):</strong> Freitag<strong><br /></strong><strong>Zielgruppe Anfänge
 r:</strong> Samstag</p><p>Es ist Gruppentraining mit max. 8 Teilnehmenden a
 uf 2 Plätzen mit einem Trainer. Kostenpunkt: 20 EUR für 2 Stunden. Weitere 
 Infos &amp; Anmeldung bitte über die Trainer der Tennisakademie über die Ko
 ntaktdaten unten, oder einfach direkt am Platz ansprechen:&nbsp;</p><p><spa
 n style="font-family: inherit; font-size: 1rem;"><strong>Montags-Termine:</
 strong> <a href="https://www.btc-wista.de/index.php?option=com_content&amp;
 view=article&amp;id=33:tennisakademie-boewer-kachel&amp;catid=31:tennisakad
 emie&amp;Itemid=138#rene">René Kachel</a>&nbsp;0177-8714821, E-Mail&nbsp;<s
 pan id="cloak58503b60e30c0f63622e46b290357db4">Diese E-Mail-Adresse ist vor
  Spambots geschützt! Zur Anzeige muss JavaScript eingeschaltet sein!</span>
 <script type='text/javascript'>
				document.getElementById('cloak58503b60e
 30c0f63622e46b290357db4').innerHTML = '';
				var prefix = '&#109;a' + 'i&#
 108;' + '&#116;o';
				var path = 'hr' + 'ef' + '=';
				var addy58503b60e3
 0c0f63622e46b290357db4 = 'k&#97;ch&#101;l.r&#101;n&#101;' + '&#64;';
				ad
 dy58503b60e30c0f63622e46b290357db4 = addy58503b60e30c0f63622e46b290357db4 +
  'w&#101;b' + '&#46;' + 'd&#101;';
				var addy_text58503b60e30c0f63622e46b
 290357db4 = 'k&#97;ch&#101;l.r&#101;n&#101;' + '&#64;' + 'w&#101;b' + '&#46
 ;' + 'd&#101;';document.getElementById('cloak58503b60e30c0f63622e46b290357d
 b4').innerHTML += '<a ' + path + '\'' + prefix + ':' + addy58503b60e30c0f63
 622e46b290357db4 + '\'>'+addy_text58503b60e30c0f63622e46b290357db4+'<\/a>';
 
		</script><br /><strong>Donnerstags-, Freitags- und Samstags-Termine:</st
 rong> <a href="https://www.btc-wista.de/index.php?option=com_content&amp;vi
 ew=article&amp;id=33:tennisakademie-boewer-kachel&amp;catid=31:tennisakadem
 ie&amp;Itemid=138#attila">Attila Boewer</a> 0176-43615755 (bevorzugt per SM
 S/WhatsApp), E-Mail&nbsp;<span id="cloakaabb8fc71486c466002e541fa6a6a535">D
 iese E-Mail-Adresse ist vor Spambots geschützt! Zur Anzeige muss JavaScript
  eingeschaltet sein!</span><script type='text/javascript'>
				document.get
 ElementById('cloakaabb8fc71486c466002e541fa6a6a535').innerHTML = '';
				va
 r prefix = '&#109;a' + 'i&#108;' + '&#116;o';
				var path = 'hr' + 'ef' + 
 '=';
				var addyaabb8fc71486c466002e541fa6a6a535 = 'b&#111;&#101;b&#101;k'
  + '&#64;';
				addyaabb8fc71486c466002e541fa6a6a535 = addyaabb8fc71486c466
 002e541fa6a6a535 + '&#97;&#111;l' + '&#46;' + 'c&#111;m';
				var addy_text
 aabb8fc71486c466002e541fa6a6a535 = 'b&#111;&#101;b&#101;k' + '&#64;' + '&#9
 7;&#111;l' + '&#46;' + 'c&#111;m';document.getElementById('cloakaabb8fc7148
 6c466002e541fa6a6a535').innerHTML += '<a ' + path + '\'' + prefix + ':' + a
 ddyaabb8fc71486c466002e541fa6a6a535 + '\'>'+addy_textaabb8fc71486c466002e54
 1fa6a6a535+'<\/a>';
		</script> </span></p><p>&nbsp;</p>
DTSTAMP:20260419T211017
DTSTART;TZID=Europe/Berlin:20250816T120000
DTEND;TZID=Europe/Berlin:20250816T140000
SEQUENCE:0
TRANSP:OPAQUE
END:VEVENT
END:VCALENDAR